{"text_format":"1","workbook":"xlsx","n_sheets":64,"sheets":["MK_UAHD","MK_USDD","K_ALLD","T_ALLD","MTK2_UAH","MTK2_USD","DKT2","MKT2_UAH","MKT2_USD","MT_UAHD","MT_USDD","MT_ALL","MTM_ALL","MK_ALL","SRATED","RATED","RATEDS","SRATE_M","SRATE","RATE_M","RATE","RATE_CMP","CURD","CURDS","RATE (2)","CUR_M","CUR","CUR_CMP","CUR_M_EXT","CUR_CMP_EXT","DKT1","CUR (2)","DKRD","DKR2DSTATE","DKR2DGUAR","DKR","DKR2","YT_ALL_USD_D","YT_ALL_UAH_D","YT_ALL_PER_D","YT_ALL","YTM_ALL_UAH_D","YTM_ALL_USD_D","YTM_ALL","YKM_ALL_UAH_D","YKM_ALL_USD_D","YKM_ALL","YK_ALL","YKT2_UAH","YKT2_USD","KINDD","KIND_CMP","DTRD","DTR","DEBT_TERM1","DEBT_TERM2","DEBT_TERM","K_ALL","T_ALL","YKT2_PRC","TBL1","DTK2","DATA","AVGRATE_DETAIL"],"not_rendered":{"charts":50,"images":0,"macros":1,"external_links":1,"defined_names":101,"comments":0,"pivot_tables":0},"unopened":[{"sheet":"MK_UAHD","index":0,"reason":"not_a_worksheet"},{"sheet":"MK_USDD","index":1,"reason":"not_a_worksheet"},{"sheet":"K_ALLD","index":2,"reason":"not_a_worksheet"},{"sheet":"T_ALLD","index":3,"reason":"not_a_worksheet"},{"sheet":"MT_UAHD","index":9,"reason":"not_a_worksheet"},{"sheet":"MT_USDD","index":10,"reason":"not_a_worksheet"},{"sheet":"SRATED","index":14,"reason":"not_a_worksheet"},{"sheet":"RATED","index":15,"reason":"not_a_worksheet"},{"sheet":"RATEDS","index":16,"reason":"not_a_worksheet"},{"sheet":"CURD","index":22,"reason":"not_a_worksheet"},{"sheet":"CURDS","index":23,"reason":"not_a_worksheet"},{"sheet":"DKRD","index":32,"reason":"not_a_worksheet"},{"sheet":"DKR2DSTATE","index":33,"reason":"not_a_worksheet"},{"sheet":"DKR2DGUAR","index":34,"reason":"not_a_worksheet"},{"sheet":"YT_ALL_USD_D","index":37,"reason":"not_a_worksheet"},{"sheet":"YT_ALL_UAH_D","index":38,"reason":"not_a_worksheet"},{"sheet":"YT_ALL_PER_D","index":39,"reason":"not_a_worksheet"},{"sheet":"YTM_ALL_UAH_D","index":41,"reason":"not_a_worksheet"},{"sheet":"YTM_ALL_USD_D","index":42,"reason":"not_a_worksheet"},{"sheet":"YKM_ALL_UAH_D","index":44,"reason":"not_a_worksheet"},{"sheet":"YKM_ALL_USD_D","index":45,"reason":"not_a_worksheet"},{"sheet":"KINDD","index":50,"reason":"not_a_worksheet"},{"sheet":"DTRD","index":52,"reason":"not_a_worksheet"},{"sheet":"DEBT_TERM1","index":54,"reason":"not_a_worksheet"},{"sheet":"DEBT_TERM2","index":55,"reason":"not_a_worksheet"}],"bounds":{"document_bytes":16777216,"sheet_cells":100000,"rows_first":2000,"rows_last":500,"rows_between":2000,"halvings":0,"cell_chars":16384,"cell_head_chars":4096},"cells_cut":0,"cells_raw":0,"read":"whole","date_system":"1900"}

{"sheet":"MTK2_UAH","index":4,"n_rows":91,"n_cols":9,"rows_kept":91,"cut":false,"hidden":true,"merged":[[1,0,1,8]]}
[]
["Державний та гарантований державою борг України за поточний рік"]
[]
[null,null,null,null,null,null,null,null,{"$f":"VALUAH","v":"млн. грн"}]
[null,"2015-12-31","2016-01-31","2016-02-29","2016-03-31","2016-04-30","2016-05-31","2016-06-30","2016-07-31"]
["Загальна сума державного та гарантованого державою боргу",{"$f":"B$7+B$47","v":1572180.1589905},1645619.6626974498,1740938.6519851899,1710381.0068600301,1690002.35475703,1683546.2830250598,1668252.93831804,1661360.65933717]
["Внутрішній борг",{"$f":"B$8+B$32","v":529460.57801732991},549606.23667475989,565468.42217392987,553420.67801760999,567878.16970476997,572964.18507016008,570690.84838492004,565364.32400816004]
["Державний борг",{"$f":"B$9+B$30","v":508001.12311178993},528455.98918348993,544518.17468265991,532470.43052634003,547313.57962778001,552476.04499317007,550279.15830792999,545075.79134550004]
["1. Заборгованість за випущеними цінними паперами на внутрішньому ринку",{"$f":"SUM(B$10:B$29)","v":505356.07266168995},525810.93873338995,541873.12423255993,529858.44320685999,544701.59230829997,549864.05767369003,547700.23411907,542496.86715664004]
["Казначейські зобов'язання",98.638000000000005,99.6,99.6,99.6,99.6,0,0,-0.24798203999999999]
["ОВДП (10 - річні)",60558.463000000003,60558.463000000003,60558.463000000003,60558.463000000003,60558.463000000003,60558.463000000003,60558.463000000003,60558.463000000003]
["ОВДП (11 - річні)",38882.981,38882.981,38882.981,38882.981,38882.981,38882.981,38882.981,38882.981]
["ОВДП (12 - місячні)",8283.7102117199993,8781.0073115100004,9437.68709141,9199.0309381200004,9443.0042065599991,10135.91976029,6849.7577343100002,2704.57]
["ОВДП (12 - річні)",1500,1500,1500,1500,1500,1500,1500,1500]
["ОВДП (13 - річні)",2617.63,2617.63,2617.63,2617.63,2617.63,2617.63,2617.63,2617.63]
["ОВДП (14 - річні)",3250,3250,3250,3250,3250,3250,3250,3250]
["ОВДП (15 - річні)",15848.84,15848.84,15848.84,15848.84,15848.84,15848.84,15848.84,15848.84]
["ОВДП (18 - місячні)",1048.92516,13283.278013499999,14299.24561756,13890.56204673,12203.20024086,19013.36749904,18777.953378869999,18735.489489669999]
["ОВДП (2 - річні)",21910.342336000002,22039.551152,34281.427334860004,34176.965954940002,49158.496147329999,52111.638694449997,48930.943947439999,49252.235186359998]
["ОВДП (3 - місячні)",0,0,0,0,300,300,716,416]
["ОВДП (3 - річні)",43377.236129329998,36369.621793209997,38704.983743019999,29230.920825720001,34196.925275369998,32717.952818080001,34006.995114400001,34859.323853579997]
["ОВДП (4 - річні)",3845.1067200000002,4029.2830399999998,4333.7022399999996,4199.8889600000002,4034.8444800000002,4031.56032,3981.7054400000002,3972.7126400000002]
["ОВДП (5 - річні)",160233.81210464,160325.77542317001,159833.65620570999,158098.65248135,157487.13295818001,157475.22958183,161608.98950405,161025.66496907]
["ОВДП (6 - місячні)",0,50,50,130,830,830,883.5,1086.73]
["ОВДП (6 - річні)",27100,27100,27100,27100,27100,27100,25600,24100]
["ОВДП (7 - річні)",48624.790999999997,48624.790999999997,48624.790999999997,48624.790999999997,44739.790999999997,41039.790999999997,41039.790999999997,41039.790999999997]
["ОВДП (8 - річні)",31301.198,31301.198,31301.198,31301.198,31301.198,31301.198,31301.198,31301.198]
["ОВДП (9 - місячні)",0,0,0,0,0.56699999999999995,0.56699999999999995,196.56700000000001,196.56700000000001]
["ОВДП (9 - річні)",36874.398999999998,51148.919000000002,51148.919000000002,51148.919000000002,51148.919000000002,51148.919000000002,51148.919000000002,51148.919000000002]
["2. Заборгованість перед банківськими та іншими фінансовими установами",{"$f":"SUM(B$31:B$31)","v":2645.0504501},2645.0504501,2645.0504501,2611.9873194800002,2611.9873194800002,2611.9873194800002,2578.92418886,2578.92418886]
["Національний банк України",2645.0504501,2645.0504501,2645.0504501,2611.9873194800002,2611.9873194800002,2611.9873194800002,2578.92418886,2578.92418886]
["Гарантований державою борг",{"$f":"B$33+B$41+B$45","v":21459.454905539998},21150.247491269998,20950.247491269998,20950.247491269998,20564.59007699,20488.140076989999,20411.690076989998,20288.53266266]
["1. Заборгованість за випущеними цінними паперами на внутрішньому ринку",{"$f":"SUM(B$34:B$40)","v":16400.011599999998},16400.011599999998,16200.0116,16200.0116,16200.0116,16200.0116,16200.0116,16200.0116]
["Державні цінні папери",1.1599999999999999E-2,1.1599999999999999E-2,1.1599999999999999E-2,1.1599999999999999E-2,1.1599999999999999E-2,1.1599999999999999E-2,1.1599999999999999E-2,1.1599999999999999E-2]
["Облігації ДІУ (10 - річні)",1000,1000,1000,1000,1000,1000,1000,1000]
["Облігації ДІУ (5 - річні)",3000,3000,3000,3000,3000,3000,3000,3000]
["Облігації ДІУ (7 - річні)",3200,3200,3000,3000,3000,3000,3000,3000]
["Облігації НАК \"Нафтогаз України\" (3 - річні)",4800,4800,4800,4800,4800,4800,4800,4800]
["Облігації Укравтодору (3 - річні)",250,250,250,250,250,250,250,250]
["Облігації Укравтодору (5 - річні)",4150,4150,4150,4150,4150,4150,4150,4150]
["2. Заборгованість перед банківськими та іншими фінансовими установами",{"$f":"SUM(B$42:B$44)","v":5058.4886555400008},4749.2812412700005,4749.2812412700005,4749.2812412700005,4363.6238269899995,4287.1738269899997,4210.7238269899999,4087.56641266]
["ВАТ \"Державний експортно-імпортний банк України\"",1050,787.5,787.5,787.5,525,525,525,525]
["ВАТ \"Державний ощадний банк України\"",3859.8623181500002,3822.3623181500002,3822.3623181500002,3822.3623181500002,3708.4123181499999,3631.9623181500001,3555.5123181499998,3441.56231815]
["ПАТ АБ \"Укргазбанк\"",148.62633739,139.41892311999999,139.41892311999999,139.41892311999999,130.21150883999999,130.21150883999999,130.21150883999999,121.00409451]
["3. Заборгованість, не віднесена до інших категорій",{"$f":"SUM(B$46:B$46)","v":0.95465},0.95465,0.95465,0.95465,0.95465,0.95465,0.95465,0.95465]
["Інші кредитори",0.95465,0.95465,0.95465,0.95465,0.95465,0.95465,0.95465,0.95465]
["Зовнішній борг",{"$f":"B$48+B$70","v":1042719.58097317},1096013.42602269,1175470.22981126,1156960.3288424201,1122124.1850522601,1110582.0979548998,1097562.0899331199,1095996.3353290099]
["Державний борг",{"$f":"B$49+B$56+B$62+B$64+B$68","v":826270.47817949008},863944.35578066995,939335.33813095,925203.33795781014,901600.12765132997,896072.31850717985,886037.51073646999,882284.96938579995]
["1. Заборгованість за позиками, одержаними від міжнародних фінансових організацій",{"$f":"SUM(B$50:B$55)","v":337449.29111161997},351875.21380503004,379266.08179367002,372540.70199592004,358955.03369399993,355004.87263423996,350589.06898672006,348620.08955850999]
["Європейське Співтовариство",57953.115089999999,60604.772539999998,65805.094809999995,65613.412670000005,63221.158389999997,61951.626100000001,60915.4234,60777.669679999999]
["Європейський банк реконструкції та розвитку",13990.69907051,14720.3780374,15989.42881096,15932.55975602,15598.932524260001,14882.86828278,14856.5512227,14952.852717010001]
["Європейський Інвестиційний Банк",12530.14511808,13103.464647160001,14049.92352314,14008.997825599999,13555.44577722,13283.24139884,13061.065945689999,13306.541820889999]
["Міжнародний банк реконструкції та розвитку",124747.12580343999,129575.87763197999,139338.86772974001,134577.12192447999,129362.78663962,128769.32668262,127710.12937867,126362.52169738]
["Міжнародний Валютний Фонд",128207.69715962,133849.22844748001,144059.64860625,142386.20616323999,137195.18815989999,136096.30550672,134024.66063649001,133199.31326793]
["Фонд чистих технологій (МБРР)",20.508869969999999,21.492501010000002,23.118313579999999,22.40365658,21.522203000000001,21.504663279999999,21.238403170000002,21.190375299999999]
["2. Заборгованість за позиками, одержаними від органів управління іноземних держав",{"$f":"SUM(B$57:B$61)","v":32708.527153449999},34242.409410929999,37526.916022509999,45388.069667039999,44490.385573250001,43633.180387600005,44296.311358030005,43789.79769721]
["Канада",6914.0144,7142.7943999999998,7988.7479999999996,8048.6144000000004,8023.2388000000001,7720.3,7652.8188,7537.1588000000002]
["Німеччина",5428.1877029999996,5676.5556180000003,6163.6446269999997,6145.690689,5921.6198130000002,5802.7088700000004,5705.6527800000003,5692.7500559999999]
["Росія",14540.944745860001,15238.346638020001,16391.060114370001,15884.362865409999,15259.40558185,15246.96978447,15058.18933949,15024.137210880001]
["США",216.53395599999999,226.91919528,244.08462803,236.53923384999999,227.23279088000001,227.04760536000001,224.23641412000001,223.72933276000001]
["Японія",5608.8463485900002,5957.7935596300003,6739.3786531100004,15072.86247878,15058.888587519999,14636.15412777,15655.414024420001,15312.02229757]
["3. Заборгованість за позиками, одержаними від іноземних комерційних банків, інших іноземних фінансових установ",{"$f":"SUM(B$63:B$63)","v":1.3407676100000001},1.4021147199999999,1.5224261800000001,1.5179915399999999,1.4626458200000001,1.4332746999999999,1.40930175,1.4061147599999999]
["Chase Manhattan Bank Luxembourg S.A.",1.3407676100000001,1.4021147199999999,1.5224261800000001,1.5179915399999999,1.4626458200000001,1.4332746999999999,1.40930175,1.4061147599999999]
["4. Заборгованість за випущеними цінними паперами на зовнішньому ринку",{"$f":"SUM(B$65:B$67)","v":415269.93272281002},435186.79795399,476649.69038858998,461915.00665530999,454448.83625825995,454078.47886664001,448456.30354196997,447442.17817932001]
["ОЗДП 2013 року",72002.001000000004,75455.307000000001,81163.167000000001,78654.168000000005,75559.584000000003,75498.005999999994,74563.226999999999,74394.611999999994]
["ОЗДП 2014 року",24000.667000000001,25151.769,27054.388999999999,26218.056,25186.527999999998,25166.002,24854.409,24798.204000000002]
["ОЗДП 2015 року",319267.26472281001,334579.72195399,368432.13438859,357042.78265531,353702.72425825999,353414.47086663998,349038.66754196997,348249.36217932001]
["5. Заборгованість, не віднесена до інших категорій",{"$f":"SUM(B$69:B$69)","v":40841.386423999997},42638.532496,45891.127500000002,45358.041647999999,43704.409480000002,43354.353344000003,42694.417547999998,42431.497836000002]
["Міжнародний Валютний Фонд",40841.386423999997,42638.532496,45891.127500000002,45358.041647999999,43704.409480000002,43354.353344000003,42694.417547999998,42431.497836000002]
["Гарантований державою борг",{"$f":"B$71+B$77+B$79+B$89+B$90","v":216449.10279367998},232069.07024202004,236134.89168031001,231756.99088461002,220524.05740093,214509.77944772001,211524.57919665004,213711.36594321]
["1. Заборгованість за позиками, одержаними від міжнародних фінансових організацій",{"$f":"SUM(B$72:B$76)","v":140833.80311661999},153455.44023684002,162602.18883142,160529.42095819002,154567.99906462,148901.30396250001,146742.19082188001,150013.97229522999]
["Європейське співтоватиство з атомної енергії",456.63837268999998,477.97529172999998,516.84894581000003,451.10630146,404.86248533999998,400.23368138000001,394.32825062000001,393.43652367999999]
["Європейський банк реконструкції та розвитку",3050.1432933199999,9518.3667486300001,7412.3609181399997,7137.7718522200003,6857.9311295500002,1953.2467659500001,1789.4480529,5772.5626011599998]
["Європейський Інвестиційний Банк",0,0,148.88030499999999,148.44663499999999,143.03429499999999,140.16204999999999,137.8177,275.01208000000003]
["Міжнародний банк реконструкції та розвитку",9418.9829975699995,9922.7143563200007,10801.159387469999,10738.68801543,10287.64808393,10629.452638930001,10709.19082528,10684.97338883]
["Міжнародний Валютний Фонд",127908.03845304,133536.38384016001,143722.93927500001,142053.40815408001,136874.5230708,135778.20882624001,133711.40599308,132887.98770155999]
["2. Заборгованість за позиками, одержаними від органів управління іноземних держав",{"$f":"SUM(B$78:B$78)","v":4679.0669948200002},4290.54578606,4615.1065842899998,4472.4396796700003,4296.4751932899999,4292.9737400599997,4239.8202607499998,3625.9135376700001]
["Канада",4679.0669948200002,4290.54578606,4615.1065842899998,4472.4396796700003,4296.4751932899999,4292.9737400599997,4239.8202607499998,3625.9135376700001]
["3. Заборгованість за позиками, одержаними від іноземних комерційних банків, інших іноземних фінансових установ",{"$f":"SUM(B$80:B$88)","v":68227.550551149994},71495.211779420002,65874.005242879997,63746.894540999994,58761.019617799997,58440.154640419991,57710.989266310004,57257.338621809999]
["Citibank, N.A. London",978.60044465999999,1023.37652194,0,0,0,0,0,0]
["Credit Suisse International",2419.2672336000001,2535.2983152000002,2727.0824112,2642.7800447999998,0,0,0,0]
["Deutsche Bank AG London",0,0,0,0,220.42605838,378.79199248999998,373.17205301000001,372.32816429000002]
["UniCredit Bank Austria AG",1114.48297594,1165.4763881399999,1265.48258506,1135.61675092,1094.21235017,1072.2396760500001,1054.30539866,1051.9211996700001]
["ВАТ \"Газпромбанк\"",12000.333500000001,12575.8845,13527.1945,13109.028,12593.263999999999,12583.001,12427.2045,12399.102000000001]
["Державний банк розвитку КНР",1729.9680773600001,1812.93950952,1950.0803591199999,1889.7974764799999,1652.73996736,1651.39305124,1630.94631858,1627.2581464800001]
["Експортно-імпортний банк Китаю",37252.00874664,39038.661666419997,41991.763631529997,40693.671198049997,39092.611940889998,39060.753045819998,38577.122105000002,38166.740236110003]
["Експортно-імпортний банк Кореї",3914.35878353,4102.0963253399996,4412.4017559699996,4276.0010707499996,4107.7653010000004,3693.9758748200002,3648.2388910599998,3639.98887526]
["Сбербанк Росії",8818.5307894199996,9241.4785528600005,0,0,0,0,0,0]
["4. Заборгованість за випущеними цінними паперами на зовнішньому ринку"]
["5. Заборгованість, не віднесена до інших категорій",{"$f":"SUM(B$91:B$91)","v":2708.68213109},2827.8724397000001,3043.5910217199998,3008.2357057499999,2898.56352522,2875.3471047399998,2831.57884771,2814.1414884999999]
["Міжнародний Валютний Фонд",2708.68213109,2827.8724397000001,3043.5910217199998,3008.2357057499999,2898.56352522,2875.3471047399998,2831.57884771,2814.1414884999999]

{"sheet":"MTK2_USD","index":5,"n_rows":91,"n_cols":9,"rows_kept":91,"cut":false,"hidden":true,"merged":[[1,0,1,8]]}
[]
["Державний та гарантований державою борг України за поточний рік"]
[]
[null,null,null,null,null,null,null,null,{"$f":"VALUSD","v":"млн. дол. США"}]
[null,"2015-12-31","2016-01-31","2016-02-29","2016-03-31","2016-04-30","2016-05-31","2016-06-30","2016-07-31"]
["Загальна сума державного та гарантованого державою боргу",{"$f":"B$7+B$47","v":65505.686112320007},65427.59130349,64349.583056180003,65236.759234120007,67099.457088760013,66897.645602379998,67121.006108709989,66995.200916040005]
["Внутрішній борг",{"$f":"B$8+B$32","v":22060.244326390002},21851.593685870001,20901.171420940002,21108.379584550003,22546.901649110001,22767.39011108,22961.35258676,22798.599608599998]
["Державний борг",{"$f":"B$9+B$30","v":21166.125221090002},21010.688718429999,20126.796235790003,20309.302509890003,21730.409988300002,21953.27032851,22140.10231776,21980.454364609999]
["1. Заборгованість за випущеними цінними паперами на внутрішньому ринку",{"$f":"SUM(B$10:B$29)","v":21055.917848520003},20905.52512337,20029.028348660002,20209.676995340003,21626.704256430003,21849.480011740001,22036.341082120001,21876.457954670001]
["Казначейські зобов'язання",4.1098024500000001,3.95996003,3.6814729000000002,3.7989086599999999,3.9544950399999999,0,0,-0.01]
["ОВДП (10 - річні)",2523.1991677199999,2407.7218186499999,2238.3969935800001,2309.7998951899999,2404.3990104099998,2406.36009642,2436.5279818099998,2442.0503597500001]
["ОВДП (11 - річні)",1620.07918365,1545.9342441700001,1437.2152703199999,1483.06117737,1543.80075726,1545.05991853,1564.4299166400001,1567.9756888899999]
["ОВДП (12 - місячні)",345.14499999999998,349.12086348999998,348.84125792999998,350.86624798000003,374.92282406999999,402.76241576000001,275.59527703999998,109.06314021999999]
["ОВДП (12 - річні)",62.49826307,59.637952300000002,55.443869020000001,57.212479829999999,59.555648159999997,59.604223189999999,60.351465210000001,60.488251490000003]
["ОВДП (13 - річні)",109.06488557,104.07339539,96.754356569999999,99.840735710000004,103.92976753000001,104.01453517,105.31853725000001,105.55724116]
["ОВДП (14 - річні)",135.41290332,129.21556333000001,120.12838287,123.96037296,129.03723769000001,129.14248358,130.76150795000001,131.05787821999999]
["ОВДП (15 - річні)",660.34998111000004,630.12824267999997,585.81400600999996,604.50095918,629.25862588999996,629.77186444999995,637.66714389000003,639.11241313000005]
["ОВДП (18 - місячні)",43.704000389999997,528.12500040999998,528.53700069000001,529.80900058999998,484.51299999999998,755.51800000000003,755.51800000000003,755.51800000000003]
["ОВДП (2 - річні)",912.90555955000002,876.26246692999996,1267.1299779000001,1303.56598353,1951.7774004800001,2070.7158290699999,1968.70277412,1986.1210588900001]
["ОВДП (3 - місячні)",0,0,0,0,11.91112963,11.92084464,28.807766059999999,16.775408410000001]
["ОВДП (3 - річні)",1807.33460988,1446.0065132300001,1430.63603259,1114.91564537,1357.74669999,1300.08544138,1368.2479883000001,1405.7196986399999]
["ОВДП (4 - річні)",160.20832754,160.19879316999999,160.1848129,160.19070826999999,160.19851883000001,160.19868073999999,160.20117155,160.2016275]
["ОВДП (5 - річні)",6676.2232943400004,6374.3339652100003,5907.8641992900002,6030.1439771400001,6252.8321869600004,6257.4591539100002,6502.2262047900003,6493.4406124500001]
["ОВДП (6 - місячні)",0,1.9879317400000001,1.8481289700000001,4.9584149200000001,32.954125320000003,32.9810035,35.547013020000001,43.822931699999998]
["ОВДП (6 - річні)",1129.1352861099999,1077.45900495,1001.68590024,1033.63880219,1075.97204343,1076.8496322799999,1029.9983395100001,971.8445739]
["ОВДП (7 - річні)",2025.9766530700001,1933.2553109400001,1797.2976953800001,1854.6299161100001,1776.33816776,1630.7632416399999,1651.20767912,1654.9501327099999]
["ОВДП (8 - річні)",1304.18033797,1244.4929022599999,1156.9730146300001,1193.8794393999999,1242.7754234199999,1243.78906112,1259.382108,1262.23649099]
["ОВДП (9 - місячні)",0,0,0,0,2.2512040000000001E-2,2.2530399999999999E-2,7.90873764,7.9266627500000002]
["ОВДП (9 - річні)",1536.3905927799999,2033.6111944899999,1890.59597687,1950.9043309399999,2030.8046825199999,2032.4610559600001,2057.9414702200002,2062.6057838699999]
["2. Заборгованість перед банківськими та іншими фінансовими установами",{"$f":"SUM(B$31:B$31)","v":110.20737257},105.16359506000001,97.767887130000005,99.625514550000005,103.70573186999999,103.79031677,103.76123564,103.99640994000001]
["Національний банк України",110.20737257,105.16359506000001,97.767887130000005,99.625514550000005,103.70573186999999,103.79031677,103.76123564,103.99640994000001]
["Гарантований державою борг",{"$f":"B$33+B$41+B$45","v":894.11910529999989},840.90496744000006,774.37518514999988,799.07707465999999,816.49166080999998,814.11978256999998,821.250269,818.14524399000004]
["1. Заборгованість за випущеними цінними паперами на внутрішньому ринку",{"$f":"SUM(B$34:B$40)","v":683.31482615999994},652.04207309000003,598.79421411999999,617.89522459,643.20146070999999,643.72607137,651.79629096999997,653.27358384000001]
["Державні цінні папери",4.8331999999999997E-4,4.6119999999999999E-4,4.2876999999999998E-4,4.4244E-4,4.6055999999999999E-4,4.6094000000000002E-4,4.6672E-4,4.6778E-4]
["Облігації ДІУ (10 - річні)",41.665508709999997,39.758634870000002,36.962579339999998,38.141653220000002,39.703765439999998,39.736148790000001,40.234310139999998,40.325500990000002]
["Облігації ДІУ (5 - річні)",124.99652613000001,119.27590461,110.88773802,114.42495966,119.11129631999999,119.20844637,120.70293042,120.97650297]
["Облігації ДІУ (7 - річні)",133.32962782999999,127.22763161,110.88773802,114.42495966,119.11129631999999,119.20844637,120.70293042,120.97650297]
["Облігації НАК \"Нафтогаз України\" (3 - річні)",199.99444181999999,190.84144737,177.42038084999999,183.07993544999999,190.57807413,190.73351421000001,193.12468866,193.56240477]
["Облігації Укравтодору (3 - річні)",10.41637718,9.9396587200000006,9.2406448399999999,9.5354133000000001,9.9259413599999995,9.9340372000000006,10.058577530000001,10.081375250000001]
["Облігації Укравтодору (5 - річні)",172.91186117000001,164.99833470999999,153.39470428000001,158.28786086,164.77062658,164.90501749000001,166.97238708,167.35082911000001]
["2. Заборгованість перед банківськими та іншими фінансовими установами",{"$f":"SUM(B$42:B$44)","v":210.76450316},188.82493877000002,175.54568469999998,181.14543813999998,173.25229690000003,170.35577708999998,169.41556835,164.83316341]
["ВАТ \"Державний експортно-імпортний банк України\"",43.748784149999999,31.30992496,29.108031230000002,30.03655191,20.84447686,20.861478120000001,21.12301282,21.17088802]
["ВАТ \"Державний ощадний банк України\"",160.82312705000001,151.97190775000001,141.28437047,145.79121800999999,147.23793284000001,144.32019507999999,143.05358530000001,138.78272466999999]
["ПАТ АБ \"Укргазбанк\"",6.1925919599999997,5.5431060600000004,5.1532830000000001,5.3176682199999998,5.1698871999999998,5.1741038899999996,5.2389702299999996,4.8795507200000001]
["3. Заборгованість, не віднесена до інших категорій",{"$f":"SUM(B$46:B$46)","v":3.9775980000000002E-2},3.7955580000000003E-2,3.5286329999999998E-2,3.6411930000000002E-2,3.7903199999999998E-2,3.793411E-2,3.8409680000000002E-2,3.8496740000000002E-2]
["Інші кредитори",3.9775980000000002E-2,3.7955580000000003E-2,3.5286329999999998E-2,3.6411930000000002E-2,3.7903199999999998E-2,3.793411E-2,3.8409680000000002E-2,3.8496740000000002E-2]
["Зовнішній борг",{"$f":"B$48+B$70","v":43445.441785930001},43575.99761762,43448.411635240001,44128.379649570001,44552.555439650008,44130.255491299999,44159.653521949993,44196.601307440003]
["Державний борг",{"$f":"B$49+B$56+B$62+B$64+B$68","v":34426.979807620002},34349.248189290003,34720.256965749999,35288.784872429998,35796.919990380004,35606.462977579999,35649.108000759996,35578.583408110004]
["1. Заборгованість за позиками, одержаними від міжнародних фінансових організацій",{"$f":"SUM(B$50:B$55)","v":14059.99637889},13990.078145400001,14018.65264058,14209.318265079999,14251.86646186,14106.526441259999,14105.709332559998,14058.279767280001]
["Європейське Співтовариство",2414.6460216999999,2409.5630227900001,2432.3260381199998,2502.6040324999999,2510.1180436599998,2461.7190326800001,2450.8900372500002,2450.88997896]
["Європейський банк реконструкції та розвитку",582.92959400999996,585.26213554000003,591.01053108999997,607.69416908999995,619.33635807999997,591.38786855000001,597.74308947999998,602.98127706000002]
["Європейський Інвестиційний Банк",522.07487058000004,520.97586643,519.32141300000001,534.32633698999996,538.20223959999998,527.82485667000003,525.50297797999997,536.59296540000003]
["Міжнародний банк реконструкції та розвитку",5197.6524570499996,5151.7600067000003,5150.3239540799996,5132.9939155100001,5136.1897376099996,5116.7971250500004,5138.3289531700002,5095.6319940499998]
["Міжнародний Валютний Фонд",5341.8389230499997,5321.6626014399999,5324.8161917899997,5430.8452984899995,5447.1655704100003,5407.9430458099996,5392.3897621799997,5371.3290393099996]
["Фонд чистих технологій (МБРР)",0.85451250000000001,0.85451250000000001,0.85451250000000001,0.85451250000000001,0.85451250000000001,0.85451250000000001,0.85451250000000001,0.85451250000000001]
["2. Заборгованість за позиками, одержаними від органів управління іноземних держав",{"$f":"SUM(B$57:B$61)","v":1362.81742308},1361.4314528300001,1387.0916109900002,1731.1760134600004,1766.4358332100001,1733.8145481900001,1782.23152914,1765.84553048]
["Канада",288.07592721999998,283.98775449999999,295.28473179999997,306.98745932000003,318.55279139999999,306.77498952000002,307.90588502000003,303.93970466000002]
["Німеччина",226.16820203,225.69210212999999,227.82420357000001,234.40680304,235.11060409000001,230.57730305999999,229.56300349,229.56299802999999]
["Росія",605.85586000000001,605.85586000000001,605.85586000000001,605.85586000000001,605.85586000000001,605.85586000000001,605.85586000000001,605.85586000000001]
["США",9.0219974300000008,9.0219974300000008,9.0219974300000008,9.0219974300000008,9.0219974300000008,9.0219974300000008,9.0219974300000008,9.0219974300000008]
["Японія",233.69543640000001,236.87373876999999,249.10481819,574.90389367,597.89458029000002,581.58439817999999,629.88478320000002,617.46497036000005]
["3. Заборгованість за позиками, одержаними від іноземних комерційних банків, інших іноземних фінансових установ",{"$f":"SUM(B$63:B$63)","v":5.5863759999999998E-2},5.5746169999999998E-2,5.6272799999999998E-2,5.7898709999999999E-2,5.8072550000000001E-2,5.6952820000000001E-2,5.6702280000000001E-2,5.6702280000000001E-2]
["Chase Manhattan Bank Luxembourg S.A.",5.5863759999999998E-2,5.5746169999999998E-2,5.6272799999999998E-2,5.7898709999999999E-2,5.8072550000000001E-2,5.6952820000000001E-2,5.6702280000000001E-2,5.6702280000000001E-2]
["4. Заборгованість за випущеними цінними паперами на зовнішньому ринку",{"$f":"SUM(B$65:B$67)","v":17302.433000000001},17302.433000000001,17618.201999999997,17618.201999999997,18043.330000000002,18043.330000000002,18043.330000000002,18043.330000000002]
["ОЗДП 2013 року",3000,3000,3000,3000,3000,3000,3000,3000]
["ОЗДП 2014 року",1000,1000,1000,1000,1000,1000,1000,1000]
["ОЗДП 2015 року",13302.433000000001,13302.433000000001,13618.201999999999,13618.201999999999,14043.33,14043.33,14043.33,14043.33]
["5. Заборгованість, не віднесена до інших категорій",{"$f":"SUM(B$69:B$69)","v":1701.67714189},1695.2498448900001,1696.2544413799999,1730.0306951800001,1735.22962276,1722.7350353100001,1717.7804367799999,1711.07140807]
["Міжнародний Валютний Фонд",1701.67714189,1695.2498448900001,1696.2544413799999,1730.0306951800001,1735.22962276,1722.7350353100001,1717.7804367799999,1711.07140807]
["Гарантований державою борг",{"$f":"B$71+B$77+B$79+B$89+B$90","v":9018.4619783100006},9226.7494283300002,8728.1546694900007,8839.5947771400006,8755.6354492700011,8523.79251372,8510.5455211899989,8618.0178993299996]
["1. Заборгованість за позиками, одержаними від міжнародних фінансових організацій",{"$f":"SUM(B$72:B$76)","v":5867.9120508099995},6101.1788171600001,6010.1963061000006,6122.8575054499997,6136.9315796399997,5916.7643697399999,5904.0708158399993,6049.3885885899999]
["Європейське співтоватиство з атомної енергії",19.026070099999998,19.0036451,19.10407017,17.20594011,16.074565150000002,15.90374512,15.86552513,15.865524929999999]
["Європейський банк реконструкції та розвитку",127.08577197,378.43726812,273.97997856000001,272.24641874000002,272.28568898999998,77.614504120000007,71.997207939999996,232.7814789]
["Європейський Інвестиційний Банк",0,0,5.5030000899999996,5.6620000700000004,5.6790000999999997,5.5695000700000001,5.5450000800000003,11.0899999]
["Міжнародний банк реконструкції та розвитку",392.44671814999998,394.51357701000001,399.23871086000003,409.59131430000002,408.45836646999999,422.37351165000001,430.87690499000001,430.87690499000001]
["Міжнародний Валютний Фонд",5329.3534905899996,5309.2243269299997,5312.3705464200002,5418.1518322299999,5434.4339589299998,5395.30310878,5379.7861776999998,5358.77467987]
["2. Заборгованість за позиками, одержаними від органів управління іноземних держав",{"$f":"SUM(B$78:B$78)","v":194.95570663999999},170.58624330000001,170.58624330000001,170.58624330000001,170.58624330000001,170.58624330000001,170.58624330000001,146.21677996]
["Канада",194.95570663999999,170.58624330000001,170.58624330000001,170.58624330000001,170.58624330000001,170.58624330000001,170.58624330000001,146.21677996]
["3. Заборгованість за позиками, одержаними від іноземних комерційних банків, інших іноземних фінансових установ",{"$f":"SUM(B$80:B$88)","v":2842.73560193},2842.5520200799997,2434.8731454600002,2431.4119452999998,2333.0337400099997,2322.1866802900004,2321.96184051,2308.9308653899998]
["Citibank, N.A. London",40.77388535,40.68805347,0,0,0,0,0,0]
["Credit Suisse International",100.8,100.8,100.8,100.8,0,0,0,0]
["Deutsche Bank AG London",0,0,0,0,8.7517445200000008,15.051734980000001,15.014320120000001,15.014319759999999]
["UniCredit Bank Austria AG",46.435500140000002,46.33775017,46.775500460000003,43.314300299999999,43.444350489999998,42.60667531,42.419250390000002,42.419249379999997]
["ВАТ \"Газпромбанк\"",500,500,500,500,500,500,500,500]
["Державний банк розвитку КНР",72.08,72.08,72.08,72.08,65.62,65.62,65.62,65.62]
["Експортно-імпортний банк Китаю",1552.1238949999999,1552.1238949999999,1552.1238949999999,1552.1238949999999,1552.1238949999999,1552.1238949999999,1552.1238949999999,1539.09292125]
["Експортно-імпортний банк Кореї",163.09375,163.09375,163.09375,163.09375,163.09375,146.78437500000001,146.78437500000001,146.78437500000001]
["Сбербанк Росії",367.42857143999998,367.42857143999998,0,0,0,0,0,0]
["4. Заборгованість за випущеними цінними паперами на зовнішньому ринку"]
["5. Заборгованість, не віднесена до інших категорій",{"$f":"SUM(B$91:B$91)","v":112.85861893000001},112.43234778999999,112.49897463000001,114.73908308999999,115.08388632,114.25522039000001,113.92662154,113.48166539]
["Міжнародний Валютний Фонд",112.85861893000001,112.43234778999999,112.49897463000001,114.73908308999999,115.08388632,114.25522039000001,113.92662154,113.48166539]

{"sheet":"DKT2","index":6,"n_rows":88,"n_cols":4,"rows_kept":88,"cut":false,"hidden":false,"merged":[[1,0,1,3],[2,0,2,3]]}
[]
[{"$f":"\"Державний та гарантований державою борг України за станом на \" & TEXT(DREPORTDATE,\"dd.MM.yyyy\")","v":"Державний та гарантований державою борг України за станом на 31.07.2016"}]
["(за ознакою умовності)"]
[]
[null,null,null,{"$f":"VALVAL","v":"млн. одиниць"}]
[null,"дол.США","грн.","%"]
["Загальна сума державного та гарантованого державою боргу",{"$f":"B$8+B$54","v":66995.21091604},{"$f":"C$8+C$54","v":1661360.90731921},0.99999899999999997]
["Державний борг",{"$f":"B$9+B$32","v":57559.047772719998},{"$f":"C$9+C$32","v":1427361.0087133399},{"$f":"D$9+D$32","v":0.859151}]
["Внутрішній борг",{"$f":"B$10+B$30","v":21980.464364610001},{"$f":"C$10+C$30","v":545076.03932753997},{"$f":"D$10+D$30","v":0.32808900000000002}]
["1. Заборгованість за випущеними цінними паперами на внутрішньому ринку",{"$f":"SUM(B$11:B$29)","v":21876.467954670003},{"$f":"SUM(C$11:C$29)","v":542497.11513867998},0.32653700000000002]
["ОВДП (10 - річні)",2442.0503597500001,60558.463000000003,3.6450999999999997E-2]
["ОВДП (11 - річні)",1567.9756888899999,38882.981,2.3404000000000001E-2]
["ОВДП (12 - місячні)",109.06314021999999,2704.57,1.6280000000000001E-3]
["ОВДП (12 - річні)",60.488251490000003,1500,9.0300000000000005E-4]
["ОВДП (13 - річні)",105.55724116,2617.63,1.5759999999999999E-3]
["ОВДП (14 - річні)",131.05787821999999,3250,1.9559999999999998E-3]
["ОВДП (15 - річні)",639.11241313000005,15848.84,9.5399999999999999E-3]
["ОВДП (18 - місячні)",755.51800000000003,18735.489489669999,1.1277000000000001E-2]
["ОВДП (2 - річні)",1986.1210588900001,49252.235186359998,2.9645999999999999E-2]
["ОВДП (3 - місячні)",16.775408410000001,416,2.5000000000000001E-4]
["ОВДП (3 - річні)",1405.7196986399999,34859.323853579997,2.0982000000000001E-2]
["ОВДП (4 - річні)",160.2016275,3972.7126400000002,2.3909999999999999E-3]
["ОВДП (5 - річні)",6493.4406124500001,161025.66496907,9.6923999999999996E-2]
["ОВДП (6 - місячні)",43.822931699999998,1086.73,6.5399999999999996E-4]
["ОВДП (6 - річні)",971.8445739,24100,1.4506E-2]
["ОВДП (7 - річні)",1654.9501327099999,41039.790999999997,2.4702999999999999E-2]
["ОВДП (8 - річні)",1262.23649099,31301.198,1.8841E-2]
["ОВДП (9 - місячні)",7.9266627500000002,196.56700000000001,1.18E-4]
["ОВДП (9 - річні)",2062.6057838699999,51148.919000000002,3.0786999999999998E-2]
["2. Заборгованість перед банківськими та іншими фінансовими установами",{"$f":"SUM(B$31:B$31)","v":103.99640994000001},2578.92418886,1.552E-3]
["Національний банк України",103.99640994000001,2578.92418886,1.552E-3]
["Зовнішній борг",{"$f":"B$33+B$40+B$46+B$48+B$52","v":35578.583408109997},882284.96938579995,0.53106200000000003]
["1. Заборгованість за позиками, одержаними від міжнародних фінансових організацій",{"$f":"SUM(B$34:B$39)","v":14058.279767279999},348620.08955850999,0.20984]
["Європейське Співтовариство",2450.88997896,60777.669679999999,3.6582999999999997E-2]
["Європейський банк реконструкції та розвитку",602.98127706000002,14952.852717010001,8.9999999999999993E-3]
["Європейський Інвестиційний Банк",536.59296540000003,13306.541820889999,8.0090000000000005E-3]
["Міжнародний банк реконструкції та розвитку",5095.6319940499998,126362.52169738,7.6060000000000003E-2]
["Міжнародний Валютний Фонд",5371.3290393099996,133199.31326793,8.0174999999999996E-2]
["Фонд чистих технологій (МБРР)",0.85451250000000001,21.190375299999999,1.2999999999999999E-5]
["2. Заборгованість за позиками, одержаними від органів управління іноземних держав",{"$f":"SUM(B$41:B$45)","v":1765.84553048},43789.79769721,2.6359E-2]
["Канада",303.93970466000002,7537.1588000000002,4.5370000000000002E-3]
["Німеччина",229.56299802999999,5692.7500559999999,3.4269999999999999E-3]
["Росія",605.85586000000001,15024.137210880001,9.0430000000000007E-3]
["США",9.0219974300000008,223.72933276000001,1.35E-4]
["Японія",617.46497036000005,15312.02229757,9.2169999999999995E-3]
["3. Заборгованість за позиками, одержаними від іноземних комерційних банків, інших іноземних фінансових установ",{"$f":"SUM(B$47:B$47)","v":5.6702280000000001E-2},1.4061147599999999,9.9999999999999995E-7]
["Chase Manhattan Bank Luxembourg S.A.",5.6702280000000001E-2,1.4061147599999999,9.9999999999999995E-7]
["4. Заборгованість за випущеними цінними паперами на зовнішньому ринку",{"$f":"SUM(B$49:B$51)","v":18043.330000000002},447442.17817932001,0.26932200000000001]
["ОЗДП 2013 року",3000,74394.611999999994,4.4778999999999999E-2]
["ОЗДП 2014 року",1000,24798.204000000002,1.4926E-2]
["ОЗДП 2015 року",14043.33,348249.36217932001,0.209617]
["5. Заборгованість, не віднесена до інших категорій",{"$f":"SUM(B$53:B$53)","v":1711.07140807},42431.497836000002,2.554E-2]
["Міжнародний Валютний Фонд",1711.07140807,42431.497836000002,2.554E-2]
["Гарантований державою борг",{"$f":"B$55+B$70","v":9436.16314332},233999.89860587002,0.140848]
["Внутрішній борг",{"$f":"B$56+B$64+B$68","v":818.14524399000004},20288.53266266,1.2212999999999998E-2]
["1. Заборгованість за випущеними цінними паперами на внутрішньому ринку",{"$f":"SUM(B$57:B$63)","v":653.27358384000001},16200.0116,9.7509999999999993E-3]
["Державні цінні папери",4.6778E-4,1.1599999999999999E-2,0]
["Облігації ДІУ (10 - річні)",40.325500990000002,1000,6.02E-4]
["Облігації ДІУ (5 - річні)",120.97650297,3000,1.8060000000000001E-3]
["Облігації ДІУ (7 - річні)",120.97650297,3000,1.8060000000000001E-3]
["Облігації НАК \"Нафтогаз України\" (3 - річні)",193.56240477,4800,2.8890000000000001E-3]
["Облігації Укравтодору (3 - річні)",10.081375250000001,250,1.4999999999999999E-4]
["Облігації Укравтодору (5 - річні)",167.35082911000001,4150,2.4979999999999998E-3]
["2. Заборгованість перед банківськими та іншими фінансовими установами",{"$f":"SUM(B$65:B$67)","v":164.83316341},4087.56641266,2.4610000000000001E-3]
["ВАТ \"Державний експортно-імпортний банк України\"",21.17088802,525,3.1599999999999998E-4]
["ВАТ \"Державний ощадний банк України\"",138.78272466999999,3441.56231815,2.0720000000000001E-3]
["ПАТ АБ \"Укргазбанк\"",4.8795507200000001,121.00409451,7.2999999999999999E-5]
["3. Заборгованість, не віднесена до інших категорій",{"$f":"SUM(B$69:B$69)","v":3.8496740000000002E-2},0.95465,9.9999999999999995E-7]
["Інші кредитори",3.8496740000000002E-2,0.95465,9.9999999999999995E-7]
["Зовнішній борг",{"$f":"B$71+B$77+B$79+B$86+B$87","v":8618.0178993299996},213711.36594321002,0.128635]
["1. Заборгованість за позиками, одержаними від міжнародних фінансових організацій",{"$f":"SUM(B$72:B$76)","v":6049.3885885899999},150013.97229522999,9.0296000000000001E-2]
["Європейське співтоватиство з атомної енергії",15.865524929999999,393.43652367999999,2.3699999999999999E-4]
["Європейський банк реконструкції та розвитку",232.7814789,5772.5626011599998,3.4749999999999998E-3]
["Європейський Інвестиційний Банк",11.0899999,275.01208000000003,1.66E-4]
["Міжнародний банк реконструкції та розвитку",430.87690499000001,10684.97338883,6.4310000000000001E-3]
["Міжнародний Валютний Фонд",5358.77467987,132887.98770155999,7.9987000000000003E-2]
["2. Заборгованість за позиками, одержаними від органів управління іноземних держав",{"$f":"SUM(B$78:B$78)","v":146.21677996},3625.9135376700001,2.1819999999999999E-3]
["Канада",146.21677996,3625.9135376700001,2.1819999999999999E-3]
["3. Заборгованість за позиками, одержаними від іноземних комерційних банків, інших іноземних фінансових установ",{"$f":"SUM(B$80:B$85)","v":2308.9308653900002},57257.338621810006,3.4463000000000001E-2]
["Deutsche Bank AG London",15.014319759999999,372.32816429000002,2.24E-4]
["UniCredit Bank Austria AG",42.419249379999997,1051.9211996700001,6.3299999999999999E-4]
["ВАТ \"Газпромбанк\"",500,12399.102000000001,7.463E-3]
["Державний банк розвитку КНР",65.62,1627.2581464800001,9.7900000000000005E-4]
["Експортно-імпортний банк Китаю",1539.09292125,38166.740236110003,2.2973E-2]
["Експортно-імпортний банк Кореї",146.78437500000001,3639.98887526,2.1909999999999998E-3]
["4. Заборгованість за випущеними цінними паперами на зовнішньому ринку"]
["5. Заборгованість, не віднесена до інших категорій",{"$f":"SUM(B$88:B$88)","v":113.48166539},2814.1414884999999,1.694E-3]
["Міжнародний Валютний Фонд",113.48166539,2814.1414884999999,1.694E-3]

{"sheet":"MKT2_UAH","index":7,"n_rows":91,"n_cols":9,"rows_kept":91,"cut":false,"hidden":false,"merged":[[1,0,1,8]]}
[]
["Державний та гарантований державою борг України за поточний рік"]
[]
[null,null,null,null,null,null,null,null,{"$f":"VALUAH","v":"млн. грн"}]
[null,"2015-12-31","2016-01-31","2016-02-29","2016-03-31","2016-04-30","2016-05-31","2016-06-30","2016-07-31"]
["Загальна сума державного та гарантованого державою боргу",{"$f":"B$7+B$54","v":1572180.1589905},1645619.6626974498,1740938.6519851901,1710381.0068600301,1690002.3547570298,1683546.2830250598,1668252.9383180402,1661360.90731921]
["Державний борг",{"$f":"B$8+B$32","v":1334271.60129128},1392400.3449641599,1483853.51281361,1457673.7684841501,1448913.7072791099,1448548.3635003499,1436316.6690444001,1427361.0087133399]
["Внутрішній борг",{"$f":"B$9+B$30","v":508001.12311178993},528455.98918348993,544518.17468265991,532470.43052634003,547313.57962778001,552476.04499317007,550279.15830792999,545076.03932753997]
["1. Заборгованість за випущеними цінними паперами на внутрішньому ринку",{"$f":"SUM(B$10:B$29)","v":505356.07266168995},525810.93873338995,541873.12423255993,529858.44320685999,544701.59230829997,549864.05767369003,547700.23411907,542497.11513867998]
["Казначейські зобов'язання",98.638000000000005,99.6,99.6,99.6,99.6,0,0,0]
["ОВДП (10 - річні)",60558.463000000003,60558.463000000003,60558.463000000003,60558.463000000003,60558.463000000003,60558.463000000003,60558.463000000003,60558.463000000003]
["ОВДП (11 - річні)",38882.981,38882.981,38882.981,38882.981,38882.981,38882.981,38882.981,38882.981]
["ОВДП (12 - місячні)",8283.7102117199993,8781.0073115100004,9437.68709141,9199.0309381200004,9443.0042065599991,10135.91976029,6849.7577343100002,2704.57]
["ОВДП (12 - річні)",1500,1500,1500,1500,1500,1500,1500,1500]
["ОВДП (13 - річні)",2617.63,2617.63,2617.63,2617.63,2617.63,2617.63,2617.63,2617.63]
["ОВДП (14 - річні)",3250,3250,3250,3250,3250,3250,3250,3250]
["ОВДП (15 - річні)",15848.84,15848.84,15848.84,15848.84,15848.84,15848.84,15848.84,15848.84]
["ОВДП (18 - місячні)",1048.92516,13283.278013499999,14299.24561756,13890.56204673,12203.20024086,19013.36749904,18777.953378869999,18735.489489669999]
["ОВДП (2 - річні)",21910.342336000002,22039.551152,34281.427334860004,34176.965954940002,49158.496147329999,52111.638694449997,48930.943947439999,49252.235186359998]
["ОВДП (3 - місячні)",0,0,0,0,300,300,716,416]
["ОВДП (3 - річні)",43377.236129329998,36369.621793209997,38704.983743019999,29230.920825720001,34196.925275369998,32717.952818080001,34006.995114400001,34859.323853579997]
["ОВДП (4 - річні)",3845.1067200000002,4029.2830399999998,4333.7022399999996,4199.8889600000002,4034.8444800000002,4031.56032,3981.7054400000002,3972.7126400000002]
["ОВДП (5 - річні)",160233.81210464,160325.77542317001,159833.65620570999,158098.65248135,157487.13295818001,157475.22958183,161608.98950405,161025.66496907]
["ОВДП (6 - місячні)",0,50,50,130,830,830,883.5,1086.73]
["ОВДП (6 - річні)",27100,27100,27100,27100,27100,27100,25600,24100]
["ОВДП (7 - річні)",48624.790999999997,48624.790999999997,48624.790999999997,48624.790999999997,44739.790999999997,41039.790999999997,41039.790999999997,41039.790999999997]
["ОВДП (8 - річні)",31301.198,31301.198,31301.198,31301.198,31301.198,31301.198,31301.198,31301.198]
["ОВДП (9 - місячні)",0,0,0,0,0.56699999999999995,0.56699999999999995,196.56700000000001,196.56700000000001]
["ОВДП (9 - річні)",36874.398999999998,51148.919000000002,51148.919000000002,51148.919000000002,51148.919000000002,51148.919000000002,51148.919000000002,51148.919000000002]
["2. Заборгованість перед банківськими та іншими фінансовими установами",{"$f":"SUM(B$31:B$31)","v":2645.0504501},2645.0504501,2645.0504501,2611.9873194800002,2611.9873194800002,2611.9873194800002,2578.92418886,2578.92418886]
["Національний банк України",2645.0504501,2645.0504501,2645.0504501,2611.9873194800002,2611.9873194800002,2611.9873194800002,2578.92418886,2578.92418886]
["Зовнішній борг",{"$f":"B$33+B$40+B$46+B$48+B$52","v":826270.47817949008},863944.35578066995,939335.33813095,925203.33795781014,901600.12765132997,896072.31850717985,886037.51073646999,882284.96938579995]
["1. Заборгованість за позиками, одержаними від міжнародних фінансових організацій",{"$f":"SUM(B$34:B$39)","v":337449.29111161997},351875.21380503004,379266.08179367002,372540.70199592004,358955.03369399993,355004.87263423996,350589.06898672006,348620.08955850999]
["Європейське Співтовариство",57953.115089999999,60604.772539999998,65805.094809999995,65613.412670000005,63221.158389999997,61951.626100000001,60915.4234,60777.669679999999]
["Європейський банк реконструкції та розвитку",13990.69907051,14720.3780374,15989.42881096,15932.55975602,15598.932524260001,14882.86828278,14856.5512227,14952.852717010001]
["Європейський Інвестиційний Банк",12530.14511808,13103.464647160001,14049.92352314,14008.997825599999,13555.44577722,13283.24139884,13061.065945689999,13306.541820889999]
["Міжнародний банк реконструкції та розвитку",124747.12580343999,129575.87763197999,139338.86772974001,134577.12192447999,129362.78663962,128769.32668262,127710.12937867,126362.52169738]
["Міжнародний Валютний Фонд",128207.69715962,133849.22844748001,144059.64860625,142386.20616323999,137195.18815989999,136096.30550672,134024.66063649001,133199.31326793]
["Фонд чистих технологій (МБРР)",20.508869969999999,21.492501010000002,23.118313579999999,22.40365658,21.522203000000001,21.504663279999999,21.238403170000002,21.190375299999999]
["2. Заборгованість за позиками, одержаними від органів управління іноземних держав",{"$f":"SUM(B$41:B$45)","v":32708.527153449999},34242.409410929999,37526.916022509999,45388.069667039999,44490.385573250001,43633.180387600005,44296.311358030005,43789.79769721]
["Канада",6914.0144,7142.7943999999998,7988.7479999999996,8048.6144000000004,8023.2388000000001,7720.3,7652.8188,7537.1588000000002]
["Німеччина",5428.1877029999996,5676.5556180000003,6163.6446269999997,6145.690689,5921.6198130000002,5802.7088700000004,5705.6527800000003,5692.7500559999999]
["Росія",14540.944745860001,15238.346638020001,16391.060114370001,15884.362865409999,15259.40558185,15246.96978447,15058.18933949,15024.137210880001]
["США",216.53395599999999,226.91919528,244.08462803,236.53923384999999,227.23279088000001,227.04760536000001,224.23641412000001,223.72933276000001]
["Японія",5608.8463485900002,5957.7935596300003,6739.3786531100004,15072.86247878,15058.888587519999,14636.15412777,15655.414024420001,15312.02229757]
["3. Заборгованість за позиками, одержаними від іноземних комерційних банків, інших іноземних фінансових установ",{"$f":"SUM(B$47:B$47)","v":1.3407676100000001},1.4021147199999999,1.5224261800000001,1.5179915399999999,1.4626458200000001,1.4332746999999999,1.40930175,1.4061147599999999]
["Chase Manhattan Bank Luxembourg S.A.",1.3407676100000001,1.4021147199999999,1.5224261800000001,1.5179915399999999,1.4626458200000001,1.4332746999999999,1.40930175,1.4061147599999999]
["4. Заборгованість за випущеними цінними паперами на зовнішньому ринку",{"$f":"SUM(B$49:B$51)","v":415269.93272281002},435186.79795399,476649.69038858998,461915.00665530999,454448.83625825995,454078.47886664001,448456.30354196997,447442.17817932001]
["ОЗДП 2013 року",72002.001000000004,75455.307000000001,81163.167000000001,78654.168000000005,75559.584000000003,75498.005999999994,74563.226999999999,74394.611999999994]
["ОЗДП 2014 року",24000.667000000001,25151.769,27054.388999999999,26218.056,25186.527999999998,25166.002,24854.409,24798.204000000002]
["ОЗДП 2015 року",319267.26472281001,334579.72195399,368432.13438859,357042.78265531,353702.72425825999,353414.47086663998,349038.66754196997,348249.36217932001]
["5. Заборгованість, не віднесена до інших категорій",{"$f":"SUM(B$53:B$53)","v":40841.386423999997},42638.532496,45891.127500000002,45358.041647999999,43704.409480000002,43354.353344000003,42694.417547999998,42431.497836000002]
["Міжнародний Валютний Фонд",40841.386423999997,42638.532496,45891.127500000002,45358.041647999999,43704.409480000002,43354.353344000003,42694.417547999998,42431.497836000002]
["Гарантований державою борг",{"$f":"B$55+B$70","v":237908.55769921996},253219.31773329002,257085.13917158003,252707.23837588,241088.64747791999,234997.91952471001,231936.26927364003,233999.89860587]
["Внутрішній борг",{"$f":"B$56+B$64+B$68","v":21459.454905539998},21150.247491269998,20950.247491269998,20950.247491269998,20564.59007699,20488.140076989999,20411.690076989998,20288.53266266]
["1. Заборгованість за випущеними цінними паперами на внутрішньому ринку",{"$f":"SUM(B$57:B$63)","v":16400.011599999998},16400.011599999998,16200.0116,16200.0116,16200.0116,16200.0116,16200.0116,16200.0116]
["Державні цінні папери",1.1599999999999999E-2,1.1599999999999999E-2,1.1599999999999999E-2,1.1599999999999999E-2,1.1599999999999999E-2,1.1599999999999999E-2,1.1599999999999999E-2,1.1599999999999999E-2]
["Облігації ДІУ (10 - річні)",1000,1000,1000,1000,1000,1000,1000,1000]
["Облігації ДІУ (5 - річні)",3000,3000,3000,3000,3000,3000,3000,3000]
["Облігації ДІУ (7 - річні)",3200,3200,3000,3000,3000,3000,3000,3000]
["Облігації НАК \"Нафтогаз України\" (3 - річні)",4800,4800,4800,4800,4800,4800,4800,4800]
["Облігації Укравтодору (3 - річні)",250,250,250,250,250,250,250,250]
["Облігації Укравтодору (5 - річні)",4150,4150,4150,4150,4150,4150,4150,4150]
["2. Заборгованість перед банківськими та іншими фінансовими установами",{"$f":"SUM(B$65:B$67)","v":5058.4886555400008},4749.2812412700005,4749.2812412700005,4749.2812412700005,4363.6238269899995,4287.1738269899997,4210.7238269899999,4087.56641266]
["ВАТ \"Державний експортно-імпортний банк України\"",1050,787.5,787.5,787.5,525,525,525,525]
["ВАТ \"Державний ощадний банк України\"",3859.8623181500002,3822.3623181500002,3822.3623181500002,3822.3623181500002,3708.4123181499999,3631.9623181500001,3555.5123181499998,3441.56231815]
["ПАТ АБ \"Укргазбанк\"",148.62633739,139.41892311999999,139.41892311999999,139.41892311999999,130.21150883999999,130.21150883999999,130.21150883999999,121.00409451]
["3. Заборгованість, не віднесена до інших категорій",{"$f":"SUM(B$69:B$69)","v":0.95465},0.95465,0.95465,0.95465,0.95465,0.95465,0.95465,0.95465]
["Інші кредитори",0.95465,0.95465,0.95465,0.95465,0.95465,0.95465,0.95465,0.95465]
["Зовнішній борг",{"$f":"B$71+B$77+B$79+B$89+B$90","v":216449.10279367998},232069.07024202004,236134.89168031001,231756.99088461002,220524.05740093,214509.77944772001,211524.57919665004,213711.36594321]
["1. Заборгованість за позиками, одержаними від міжнародних фінансових організацій",{"$f":"SUM(B$72:B$76)","v":140833.80311661999},153455.44023684002,162602.18883142,160529.42095819002,154567.99906462,148901.30396250001,146742.19082188001,150013.97229522999]
["Європейське співтоватиство з атомної енергії",456.63837268999998,477.97529172999998,516.84894581000003,451.10630146,404.86248533999998,400.23368138000001,394.32825062000001,393.43652367999999]
["Європейський банк реконструкції та розвитку",3050.1432933199999,9518.3667486300001,7412.3609181399997,7137.7718522200003,6857.9311295500002,1953.2467659500001,1789.4480529,5772.5626011599998]
["Європейський Інвестиційний Банк",0,0,148.88030499999999,148.44663499999999,143.03429499999999,140.16204999999999,137.8177,275.01208000000003]
["Міжнародний банк реконструкції та розвитку",9418.9829975699995,9922.7143563200007,10801.159387469999,10738.68801543,10287.64808393,10629.452638930001,10709.19082528,10684.97338883]
["Міжнародний Валютний Фонд",127908.03845304,133536.38384016001,143722.93927500001,142053.40815408001,136874.5230708,135778.20882624001,133711.40599308,132887.98770155999]
["2. Заборгованість за позиками, одержаними від органів управління іноземних держав",{"$f":"SUM(B$78:B$78)","v":4679.0669948200002},4290.54578606,4615.1065842899998,4472.4396796700003,4296.4751932899999,4292.9737400599997,4239.8202607499998,3625.9135376700001]
["Канада",4679.0669948200002,4290.54578606,4615.1065842899998,4472.4396796700003,4296.4751932899999,4292.9737400599997,4239.8202607499998,3625.9135376700001]
["3. Заборгованість за позиками, одержаними від іноземних комерційних банків, інших іноземних фінансових установ",{"$f":"SUM(B$80:B$88)","v":68227.550551149994},71495.211779420002,65874.005242879997,63746.894540999994,58761.019617799997,58440.154640419991,57710.989266310004,57257.338621809999]
["Citibank, N.A. London",978.60044465999999,1023.37652194,0,0,0,0,0,0]
["Credit Suisse International",2419.2672336000001,2535.2983152000002,2727.0824112,2642.7800447999998,0,0,0,0]
["Deutsche Bank AG London",0,0,0,0,220.42605838,378.79199248999998,373.17205301000001,372.32816429000002]
["UniCredit Bank Austria AG",1114.48297594,1165.4763881399999,1265.48258506,1135.61675092,1094.21235017,1072.2396760500001,1054.30539866,1051.9211996700001]
["ВАТ \"Газпромбанк\"",12000.333500000001,12575.8845,13527.1945,13109.028,12593.263999999999,12583.001,12427.2045,12399.102000000001]
["Державний банк розвитку КНР",1729.9680773600001,1812.93950952,1950.0803591199999,1889.7974764799999,1652.73996736,1651.39305124,1630.94631858,1627.2581464800001]
["Експортно-імпортний банк Китаю",37252.00874664,39038.661666419997,41991.763631529997,40693.671198049997,39092.611940889998,39060.753045819998,38577.122105000002,38166.740236110003]
["Експортно-імпортний банк Кореї",3914.35878353,4102.0963253399996,4412.4017559699996,4276.0010707499996,4107.7653010000004,3693.9758748200002,3648.2388910599998,3639.98887526]
["Сбербанк Росії",8818.5307894199996,9241.4785528600005,0,0,0,0,0,0]
["4. Заборгованість за випущеними цінними паперами на зовнішньому ринку"]
["5. Заборгованість, не віднесена до інших категорій",{"$f":"SUM(B$91:B$91)","v":2708.68213109},2827.8724397000001,3043.5910217199998,3008.2357057499999,2898.56352522,2875.3471047399998,2831.57884771,2814.1414884999999]
["Міжнародний Валютний Фонд",2708.68213109,2827.8724397000001,3043.5910217199998,3008.2357057499999,2898.56352522,2875.3471047399998,2831.57884771,2814.1414884999999]

{"sheet":"MKT2_USD","index":8,"n_rows":91,"n_cols":9,"rows_kept":91,"cut":false,"hidden":false,"merged":[[1,0,1,8]]}
[]
["Державний та гарантований державою борг України за поточний рік"]
[]
[null,null,null,null,null,null,null,null,{"$f":"VALUSD","v":"млн. дол. США"}]
[null,"2015-12-31","2016-01-31","2016-02-29","2016-03-31","2016-04-30","2016-05-31","2016-06-30","2016-07-31"]
["Загальна сума державного та гарантованого державою боргу",{"$f":"B$7+B$54","v":65505.686112320007},65427.59130349,64349.583056180003,65236.75923412,67099.457088760013,66897.645602379998,67121.006108709989,66995.21091604]
["Державний борг",{"$f":"B$8+B$32","v":55593.105028710008},55359.936907720003,54847.053201540002,55598.087382320002,57527.329978680005,57559.733306089998,57789.210318519996,57559.047772720005]
["Внутрішній борг",{"$f":"B$9+B$30","v":21166.125221090002},21010.688718429999,20126.796235790003,20309.302509890003,21730.409988300002,21953.27032851,22140.10231776,21980.464364610001]
["1. Заборгованість за випущеними цінними паперами на внутрішньому ринку",{"$f":"SUM(B$10:B$29)","v":21055.917848520003},20905.52512337,20029.028348660002,20209.676995340003,21626.704256430003,21849.480011740001,22036.341082120001,21876.467954670003]
["Казначейські зобов'язання",4.1098024500000001,3.95996003,3.6814729000000002,3.7989086599999999,3.9544950399999999,0,0,0]
["ОВДП (10 - річні)",2523.1991677199999,2407.7218186499999,2238.3969935800001,2309.7998951899999,2404.3990104099998,2406.36009642,2436.5279818099998,2442.0503597500001]
["ОВДП (11 - річні)",1620.07918365,1545.9342441700001,1437.2152703199999,1483.06117737,1543.80075726,1545.05991853,1564.4299166400001,1567.9756888899999]
["ОВДП (12 - місячні)",345.14499999999998,349.12086348999998,348.84125792999998,350.86624798000003,374.92282406999999,402.76241576000001,275.59527703999998,109.06314021999999]
["ОВДП (12 - річні)",62.49826307,59.637952300000002,55.443869020000001,57.212479829999999,59.555648159999997,59.604223189999999,60.351465210000001,60.488251490000003]
["ОВДП (13 - річні)",109.06488557,104.07339539,96.754356569999999,99.840735710000004,103.92976753000001,104.01453517,105.31853725000001,105.55724116]
["ОВДП (14 - річні)",135.41290332,129.21556333000001,120.12838287,123.96037296,129.03723769000001,129.14248358,130.76150795000001,131.05787821999999]
["ОВДП (15 - річні)",660.34998111000004,630.12824267999997,585.81400600999996,604.50095918,629.25862588999996,629.77186444999995,637.66714389000003,639.11241313000005]
["ОВДП (18 - місячні)",43.704000389999997,528.12500040999998,528.53700069000001,529.80900058999998,484.51299999999998,755.51800000000003,755.51800000000003,755.51800000000003]
["ОВДП (2 - річні)",912.90555955000002,876.26246692999996,1267.1299779000001,1303.56598353,1951.7774004800001,2070.7158290699999,1968.70277412,1986.1210588900001]
["ОВДП (3 - місячні)",0,0,0,0,11.91112963,11.92084464,28.807766059999999,16.775408410000001]
["ОВДП (3 - річні)",1807.33460988,1446.0065132300001,1430.63603259,1114.91564537,1357.74669999,1300.08544138,1368.2479883000001,1405.7196986399999]
["ОВДП (4 - річні)",160.20832754,160.19879316999999,160.1848129,160.19070826999999,160.19851883000001,160.19868073999999,160.20117155,160.2016275]
["ОВДП (5 - річні)",6676.2232943400004,6374.3339652100003,5907.8641992900002,6030.1439771400001,6252.8321869600004,6257.4591539100002,6502.2262047900003,6493.4406124500001]
["ОВДП (6 - місячні)",0,1.9879317400000001,1.8481289700000001,4.9584149200000001,32.954125320000003,32.9810035,35.547013020000001,43.822931699999998]
["ОВДП (6 - річні)",1129.1352861099999,1077.45900495,1001.68590024,1033.63880219,1075.97204343,1076.8496322799999,1029.9983395100001,971.8445739]
["ОВДП (7 - річні)",2025.9766530700001,1933.2553109400001,1797.2976953800001,1854.6299161100001,1776.33816776,1630.7632416399999,1651.20767912,1654.9501327099999]
["ОВДП (8 - річні)",1304.18033797,1244.4929022599999,1156.9730146300001,1193.8794393999999,1242.7754234199999,1243.78906112,1259.382108,1262.23649099]
["ОВДП (9 - місячні)",0,0,0,0,2.2512040000000001E-2,2.2530399999999999E-2,7.90873764,7.9266627500000002]
["ОВДП (9 - річні)",1536.3905927799999,2033.6111944899999,1890.59597687,1950.9043309399999,2030.8046825199999,2032.4610559600001,2057.9414702200002,2062.6057838699999]
["2. Заборгованість перед банківськими та іншими фінансовими установами",{"$f":"SUM(B$31:B$31)","v":110.20737257},105.16359506000001,97.767887130000005,99.625514550000005,103.70573186999999,103.79031677,103.76123564,103.99640994000001]
["Національний банк України",110.20737257,105.16359506000001,97.767887130000005,99.625514550000005,103.70573186999999,103.79031677,103.76123564,103.99640994000001]
["Зовнішній борг",{"$f":"B$33+B$40+B$46+B$48+B$52","v":34426.979807620002},34349.248189290003,34720.256965749999,35288.784872429998,35796.919990380004,35606.462977579999,35649.108000759996,35578.583408110004]
["1. Заборгованість за позиками, одержаними від міжнародних фінансових організацій",{"$f":"SUM(B$34:B$39)","v":14059.99637889},13990.078145400001,14018.65264058,14209.318265079999,14251.86646186,14106.526441259999,14105.709332559998,14058.279767280001]
["Європейське Співтовариство",2414.6460216999999,2409.5630227900001,2432.3260381199998,2502.6040324999999,2510.1180436599998,2461.7190326800001,2450.8900372500002,2450.88997896]
["Європейський банк реконструкції та розвитку",582.92959400999996,585.26213554000003,591.01053108999997,607.69416908999995,619.33635807999997,591.38786855000001,597.74308947999998,602.98127706000002]
["Європейський Інвестиційний Банк",522.07487058000004,520.97586643,519.32141300000001,534.32633698999996,538.20223959999998,527.82485667000003,525.50297797999997,536.59296540000003]
["Міжнародний банк реконструкції та розвитку",5197.6524570499996,5151.7600067000003,5150.3239540799996,5132.9939155100001,5136.1897376099996,5116.7971250500004,5138.3289531700002,5095.6319940499998]
["Міжнародний Валютний Фонд",5341.8389230499997,5321.6626014399999,5324.8161917899997,5430.8452984899995,5447.1655704100003,5407.9430458099996,5392.3897621799997,5371.3290393099996]
["Фонд чистих технологій (МБРР)",0.85451250000000001,0.85451250000000001,0.85451250000000001,0.85451250000000001,0.85451250000000001,0.85451250000000001,0.85451250000000001,0.85451250000000001]
["2. Заборгованість за позиками, одержаними від органів управління іноземних держав",{"$f":"SUM(B$41:B$45)","v":1362.81742308},1361.4314528300001,1387.0916109900002,1731.1760134600004,1766.4358332100001,1733.8145481900001,1782.23152914,1765.84553048]
["Канада",288.07592721999998,283.98775449999999,295.28473179999997,306.98745932000003,318.55279139999999,306.77498952000002,307.90588502000003,303.93970466000002]
["Німеччина",226.16820203,225.69210212999999,227.82420357000001,234.40680304,235.11060409000001,230.57730305999999,229.56300349,229.56299802999999]
["Росія",605.85586000000001,605.85586000000001,605.85586000000001,605.85586000000001,605.85586000000001,605.85586000000001,605.85586000000001,605.85586000000001]
["США",9.0219974300000008,9.0219974300000008,9.0219974300000008,9.0219974300000008,9.0219974300000008,9.0219974300000008,9.0219974300000008,9.0219974300000008]
["Японія",233.69543640000001,236.87373876999999,249.10481819,574.90389367,597.89458029000002,581.58439817999999,629.88478320000002,617.46497036000005]
["3. Заборгованість за позиками, одержаними від іноземних комерційних банків, інших іноземних фінансових установ",{"$f":"SUM(B$47:B$47)","v":5.5863759999999998E-2},5.5746169999999998E-2,5.6272799999999998E-2,5.7898709999999999E-2,5.8072550000000001E-2,5.6952820000000001E-2,5.6702280000000001E-2,5.6702280000000001E-2]
["Chase Manhattan Bank Luxembourg S.A.",5.5863759999999998E-2,5.5746169999999998E-2,5.6272799999999998E-2,5.7898709999999999E-2,5.8072550000000001E-2,5.6952820000000001E-2,5.6702280000000001E-2,5.6702280000000001E-2]
["4. Заборгованість за випущеними цінними паперами на зовнішньому ринку",{"$f":"SUM(B$49:B$51)","v":17302.433000000001},17302.433000000001,17618.201999999997,17618.201999999997,18043.330000000002,18043.330000000002,18043.330000000002,18043.330000000002]
["ОЗДП 2013 року",3000,3000,3000,3000,3000,3000,3000,3000]
["ОЗДП 2014 року",1000,1000,1000,1000,1000,1000,1000,1000]
["ОЗДП 2015 року",13302.433000000001,13302.433000000001,13618.201999999999,13618.201999999999,14043.33,14043.33,14043.33,14043.33]
["5. Заборгованість, не віднесена до інших категорій",{"$f":"SUM(B$53:B$53)","v":1701.67714189},1695.2498448900001,1696.2544413799999,1730.0306951800001,1735.22962276,1722.7350353100001,1717.7804367799999,1711.07140807]
["Міжнародний Валютний Фонд",1701.67714189,1695.2498448900001,1696.2544413799999,1730.0306951800001,1735.22962276,1722.7350353100001,1717.7804367799999,1711.07140807]
["Гарантований державою борг",{"$f":"B$55+B$70","v":9912.5810836100009},10067.65439577,9502.5298546400008,9638.6718517999998,9572.1271100800004,9337.9122962900001,9331.795790189999,9436.16314332]
["Внутрішній борг",{"$f":"B$56+B$64+B$68","v":894.11910529999989},840.90496744000006,774.37518514999988,799.07707465999999,816.49166080999998,814.11978256999998,821.250269,818.14524399000004]
["1. Заборгованість за випущеними цінними паперами на внутрішньому ринку",{"$f":"SUM(B$57:B$63)","v":683.31482615999994},652.04207309000003,598.79421411999999,617.89522459,643.20146070999999,643.72607137,651.79629096999997,653.27358384000001]
["Державні цінні папери",4.8331999999999997E-4,4.6119999999999999E-4,4.2876999999999998E-4,4.4244E-4,4.6055999999999999E-4,4.6094000000000002E-4,4.6672E-4,4.6778E-4]
["Облігації ДІУ (10 - річні)",41.665508709999997,39.758634870000002,36.962579339999998,38.141653220000002,39.703765439999998,39.736148790000001,40.234310139999998,40.325500990000002]
["Облігації ДІУ (5 - річні)",124.99652613000001,119.27590461,110.88773802,114.42495966,119.11129631999999,119.20844637,120.70293042,120.97650297]
["Облігації ДІУ (7 - річні)",133.32962782999999,127.22763161,110.88773802,114.42495966,119.11129631999999,119.20844637,120.70293042,120.97650297]
["Облігації НАК \"Нафтогаз України\" (3 - річні)",199.99444181999999,190.84144737,177.42038084999999,183.07993544999999,190.57807413,190.73351421000001,193.12468866,193.56240477]
["Облігації Укравтодору (3 - річні)",10.41637718,9.9396587200000006,9.2406448399999999,9.5354133000000001,9.9259413599999995,9.9340372000000006,10.058577530000001,10.081375250000001]
["Облігації Укравтодору (5 - річні)",172.91186117000001,164.99833470999999,153.39470428000001,158.28786086,164.77062658,164.90501749000001,166.97238708,167.35082911000001]
["2. Заборгованість перед банківськими та іншими фінансовими установами",{"$f":"SUM(B$65:B$67)","v":210.76450316},188.82493877000002,175.54568469999998,181.14543813999998,173.25229690000003,170.35577708999998,169.41556835,164.83316341]
["ВАТ \"Державний експортно-імпортний банк України\"",43.748784149999999,31.30992496,29.108031230000002,30.03655191,20.84447686,20.861478120000001,21.12301282,21.17088802]
["ВАТ \"Державний ощадний банк України\"",160.82312705000001,151.97190775000001,141.28437047,145.79121800999999,147.23793284000001,144.32019507999999,143.05358530000001,138.78272466999999]
["ПАТ АБ \"Укргазбанк\"",6.1925919599999997,5.5431060600000004,5.1532830000000001,5.3176682199999998,5.1698871999999998,5.1741038899999996,5.2389702299999996,4.8795507200000001]
["3. Заборгованість, не віднесена до інших категорій",{"$f":"SUM(B$69:B$69)","v":3.9775980000000002E-2},3.7955580000000003E-2,3.5286329999999998E-2,3.6411930000000002E-2,3.7903199999999998E-2,3.793411E-2,3.8409680000000002E-2,3.8496740000000002E-2]
["Інші кредитори",3.9775980000000002E-2,3.7955580000000003E-2,3.5286329999999998E-2,3.6411930000000002E-2,3.7903199999999998E-2,3.793411E-2,3.8409680000000002E-2,3.8496740000000002E-2]
["Зовнішній борг",{"$f":"B$71+B$77+B$79+B$89+B$90","v":9018.4619783100006},9226.7494283300002,8728.1546694900007,8839.5947771400006,8755.6354492700011,8523.79251372,8510.5455211899989,8618.0178993299996]
["1. Заборгованість за позиками, одержаними від міжнародних фінансових організацій",{"$f":"SUM(B$72:B$76)","v":5867.9120508099995},6101.1788171600001,6010.1963061000006,6122.8575054499997,6136.9315796399997,5916.7643697399999,5904.0708158399993,6049.3885885899999]
["Європейське співтоватиство з атомної енергії",19.026070099999998,19.0036451,19.10407017,17.20594011,16.074565150000002,15.90374512,15.86552513,15.865524929999999]
["Європейський банк реконструкції та розвитку",127.08577197,378.43726812,273.97997856000001,272.24641874000002,272.28568898999998,77.614504120000007,71.997207939999996,232.7814789]
["Європейський Інвестиційний Банк",0,0,5.5030000899999996,5.6620000700000004,5.6790000999999997,5.5695000700000001,5.5450000800000003,11.0899999]
["Міжнародний банк реконструкції та розвитку",392.44671814999998,394.51357701000001,399.23871086000003,409.59131430000002,408.45836646999999,422.37351165000001,430.87690499000001,430.87690499000001]
["Міжнародний Валютний Фонд",5329.3534905899996,5309.2243269299997,5312.3705464200002,5418.1518322299999,5434.4339589299998,5395.30310878,5379.7861776999998,5358.77467987]
["2. Заборгованість за позиками, одержаними від органів управління іноземних держав",{"$f":"SUM(B$78:B$78)","v":194.95570663999999},170.58624330000001,170.58624330000001,170.58624330000001,170.58624330000001,170.58624330000001,170.58624330000001,146.21677996]
["Канада",194.95570663999999,170.58624330000001,170.58624330000001,170.58624330000001,170.58624330000001,170.58624330000001,170.58624330000001,146.21677996]
["3. Заборгованість за позиками, одержаними від іноземних комерційних банків, інших іноземних фінансових установ",{"$f":"SUM(B$80:B$88)","v":2842.73560193},2842.5520200799997,2434.8731454600002,2431.4119452999998,2333.0337400099997,2322.1866802900004,2321.96184051,2308.9308653899998]
["Citibank, N.A. London",40.77388535,40.68805347,0,0,0,0,0,0]
["Credit Suisse International",100.8,100.8,100.8,100.8,0,0,0,0]
["Deutsche Bank AG London",0,0,0,0,8.7517445200000008,15.051734980000001,15.014320120000001,15.014319759999999]
["UniCredit Bank Austria AG",46.435500140000002,46.33775017,46.775500460000003,43.314300299999999,43.444350489999998,42.60667531,42.419250390000002,42.419249379999997]
["ВАТ \"Газпромбанк\"",500,500,500,500,500,500,500,500]
["Державний банк розвитку КНР",72.08,72.08,72.08,72.08,65.62,65.62,65.62,65.62]
["Експортно-імпортний банк Китаю",1552.1238949999999,1552.1238949999999,1552.1238949999999,1552.1238949999999,1552.1238949999999,1552.1238949999999,1552.1238949999999,1539.09292125]
["Експортно-імпортний банк Кореї",163.09375,163.09375,163.09375,163.09375,163.09375,146.78437500000001,146.78437500000001,146.78437500000001]
["Сбербанк Росії",367.42857143999998,367.42857143999998,0,0,0,0,0,0]
["4. Заборгованість за випущеними цінними паперами на зовнішньому ринку"]
["5. Заборгованість, не віднесена до інших категорій",{"$f":"SUM(B$91:B$91)","v":112.85861893000001},112.43234778999999,112.49897463000001,114.73908308999999,115.08388632,114.25522039000001,113.92662154,113.48166539]
["Міжнародний Валютний Фонд",112.85861893000001,112.43234778999999,112.49897463000001,114.73908308999999,115.08388632,114.25522039000001,113.92662154,113.48166539]

{"sheet":"MT_ALL","index":11,"n_rows":20,"n_cols":9,"rows_kept":20,"cut":false,"hidden":true,"merged":[[1,0,1,8]]}
[]
["Державний та гарантований державою борг України за поточний рік"]
[]
[{"$f":"$A$2 & \" (\" &I4 & \")\"","v":"Державний та гарантований державою борг України за поточний рік (млн. грн)"},null,null,null,null,null,null,null,{"$f":"VALUAH","v":"млн. грн"}]
[null,"2015-12-31","2016-01-31","2016-02-29","2016-03-31","2016-04-30","2016-05-31","2016-06-30","2016-07-31"]
["Загальна сума державного та гарантованого державою боргу",{"$f":"SUM(B7:B8)","v":1572180.1589905},1645619.66269745,1740938.6519851899,1710381.0068600299,1690002.35475703,1683546.2830250598,1668252.93831804,1661360.65933717]
["Внутрішній борг",529460.57801733003,549606.23667476,565468.42217392998,553420.67801760999,567878.16970476997,572964.18507015996,570690.84838492004,565364.32400816004]
["Зовнішній борг",1042719.58097317,1096013.42602269,1175470.22981126,1156960.3288424199,1122124.1850522601,1110582.0979549,1097562.0899331199,1095996.3353290099]
[]
[{"$f":"$A$2 & \" (\" &I10 & \")\"","v":"Державний та гарантований державою борг України за поточний рік (млн. дол. США)"},null,null,null,null,null,null,null,{"$f":"VALUSD","v":"млн. дол. США"}]
[null,"2015-12-31","2016-01-31","2016-02-29","2016-03-31","2016-04-30","2016-05-31","2016-06-30","2016-07-31"]
["Загальна сума державного та гарантованого державою боргу",{"$f":"SUM(B13:B14)","v":65505.68611232},65427.59130349,64349.583056180003,65236.75923412,67099.457088759998,66897.645602379998,67121.006108710004,66995.200916040005]
["Внутрішній борг",22060.244326389999,21851.593685870001,20901.171420940002,21108.379584549999,22546.901649110001,22767.39011108,22961.35258676,22798.599608600001]
["Зовнішній борг",43445.441785930001,43575.99761762,43448.411635240001,44128.379649570001,44552.555439650001,44130.255491299999,44159.65352195,44196.601307440003]
[]
[null,null,null,null,null,null,null,null,"%%"]
[null,"2015-12-31","2016-01-31","2016-02-29","2016-03-31","2016-04-30","2016-05-31","2016-06-30","2016-07-31"]
["Загальна сума державного та гарантованого державою боргу",{"$f":"SUM(B19:B20)","v":1},1,1,1,1,1,1,1]
["Внутрішній борг",0.33676800000000001,0.33398099999999997,0.32480700000000001,0.32356600000000002,0.33602199999999999,0.34033200000000002,0.34208899999999998,0.34030199999999999]
["Зовнішній борг",0.66323200000000004,0.66601900000000003,0.67519300000000004,0.67643399999999998,0.66397799999999996,0.65966800000000003,0.65791100000000002,0.65969800000000001]

{"sheet":"MTM_ALL","index":12,"n_rows":20,"n_cols":9,"rows_kept":20,"cut":false,"hidden":true,"merged":[[1,0,1,8]]}
[]
["Державний та гарантований державою борг України за поточний рік"]
[]
[null,null,null,null,null,null,null,null,"млрд. грн."]
[null,{"$f":"MT_ALL!B5","v":"2015-12-31"},{"$f":"MT_ALL!C5","v":"2016-01-31"},{"$f":"MT_ALL!D5","v":"2016-02-29"},{"$f":"MT_ALL!E5","v":"2016-03-31"},{"$f":"MT_ALL!F5","v":"2016-04-30"},{"$f":"MT_ALL!G5","v":"2016-05-31"},{"$f":"MT_ALL!H5","v":"2016-06-30"},{"$f":"MT_ALL!I5","v":"2016-07-31"}]
[{"$f":"MT_ALL!A6","v":"Загальна сума державного та гарантованого державою боргу"},{"$f":"SUM(B7:B8)","v":1572.1801589904999},1645.6196626974502,1740.9386519851901,1710.3810068600296,1690.0023547570302,1683.5462830250599,1668.2529383180399,1661.3606593371701]
[{"$f":"MT_ALL!A7","v":"Внутрішній борг"},{"$f":"MT_ALL!B7/DMLMLR","v":529.46057801733002},{"$f":"MT_ALL!C7/DMLMLR","v":549.60623667476},{"$f":"MT_ALL!D7/DMLMLR","v":565.46842217392998},{"$f":"MT_ALL!E7/DMLMLR","v":553.42067801760993},{"$f":"MT_ALL!F7/DMLMLR","v":567.87816970477002},{"$f":"MT_ALL!G7/DMLMLR","v":572.96418507015994},{"$f":"MT_ALL!H7/DMLMLR","v":570.69084838492006},{"$f":"MT_ALL!I7/DMLMLR","v":565.36432400816}]
[{"$f":"MT_ALL!A8","v":"Зовнішній борг"},{"$f":"MT_ALL!B8/DMLMLR","v":1042.71958097317},{"$f":"MT_ALL!C8/DMLMLR","v":1096.0134260226901},{"$f":"MT_ALL!D8/DMLMLR","v":1175.47022981126},{"$f":"MT_ALL!E8/DMLMLR","v":1156.9603288424198},{"$f":"MT_ALL!F8/DMLMLR","v":1122.1241850522601},{"$f":"MT_ALL!G8/DMLMLR","v":1110.5820979549001},{"$f":"MT_ALL!H8/DMLMLR","v":1097.56208993312},{"$f":"MT_ALL!I8/DMLMLR","v":1095.99633532901}]
[]
[null,null,null,null,null,null,null,null,"млрд. дол.США"]
[null,{"$f":"MT_ALL!B11","v":"2015-12-31"},{"$f":"MT_ALL!C11","v":"2016-01-31"},{"$f":"MT_ALL!D11","v":"2016-02-29"},{"$f":"MT_ALL!E11","v":"2016-03-31"},{"$f":"MT_ALL!F11","v":"2016-04-30"},{"$f":"MT_ALL!G11","v":"2016-05-31"},{"$f":"MT_ALL!H11","v":"2016-06-30"},{"$f":"MT_ALL!I11","v":"2016-07-31"}]
[{"$f":"MT_ALL!A12","v":"Загальна сума державного та гарантованого державою боргу"},{"$f":"SUM(B13:B14)","v":65.505686112320006},65.427591303490004,64.349583056179995,65.236759234120001,67.099457088760005,66.897645602379995,67.121006108709992,66.995200916040005]
[{"$f":"MT_ALL!A13","v":"Внутрішній борг"},{"$f":"MT_ALL!B13/DMLMLR","v":22.060244326389999},{"$f":"MT_ALL!C13/DMLMLR","v":21.85159368587},{"$f":"MT_ALL!D13/DMLMLR","v":20.901171420940003},{"$f":"MT_ALL!E13/DMLMLR","v":21.108379584550001},{"$f":"MT_ALL!F13/DMLMLR","v":22.546901649110001},{"$f":"MT_ALL!G13/DMLMLR","v":22.767390111080001},{"$f":"MT_ALL!H13/DMLMLR","v":22.96135258676},{"$f":"MT_ALL!I13/DMLMLR","v":22.7985996086}]
[{"$f":"MT_ALL!A14","v":"Зовнішній борг"},{"$f":"MT_ALL!B14/DMLMLR","v":43.445441785930001},{"$f":"MT_ALL!C14/DMLMLR","v":43.575997617619997},{"$f":"MT_ALL!D14/DMLMLR","v":43.448411635239999},{"$f":"MT_ALL!E14/DMLMLR","v":44.12837964957},{"$f":"MT_ALL!F14/DMLMLR","v":44.55255543965},{"$f":"MT_ALL!G14/DMLMLR","v":44.130255491299998},{"$f":"MT_ALL!H14/DMLMLR","v":44.159653521949998},{"$f":"MT_ALL!I14/DMLMLR","v":44.196601307440005}]
[]
[null,null,null,null,null,null,null,null,"%%"]
[null,{"$f":"MT_ALL!B17","v":"2015-12-31"},{"$f":"MT_ALL!C17","v":"2016-01-31"},{"$f":"MT_ALL!D17","v":"2016-02-29"},{"$f":"MT_ALL!E17","v":"2016-03-31"},{"$f":"MT_ALL!F17","v":"2016-04-30"},{"$f":"MT_ALL!G17","v":"2016-05-31"},{"$f":"MT_ALL!H17","v":"2016-06-30"},{"$f":"MT_ALL!I17","v":"2016-07-31"}]
[{"$f":"MT_ALL!A18","v":"Загальна сума державного та гарантованого державою боргу"},{"$f":"SUM(B19:B20)","v":1},1,1,1,1,1,1,1]
[{"$f":"MT_ALL!A19","v":"Внутрішній борг"},{"$f":"MT_ALL!B19","v":0.33676800000000001},{"$f":"MT_ALL!C19","v":0.33398099999999997},{"$f":"MT_ALL!D19","v":0.32480700000000001},{"$f":"MT_ALL!E19","v":0.32356600000000002},{"$f":"MT_ALL!F19","v":0.33602199999999999},{"$f":"MT_ALL!G19","v":0.34033200000000002},{"$f":"MT_ALL!H19","v":0.34208899999999998},{"$f":"MT_ALL!I19","v":0.34030199999999999}]
[{"$f":"MT_ALL!A20","v":"Зовнішній борг"},{"$f":"MT_ALL!B20","v":0.66323200000000004},{"$f":"MT_ALL!C20","v":0.66601900000000003},{"$f":"MT_ALL!D20","v":0.67519300000000004},{"$f":"MT_ALL!E20","v":0.67643399999999998},{"$f":"MT_ALL!F20","v":0.66397799999999996},{"$f":"MT_ALL!G20","v":0.65966800000000003},{"$f":"MT_ALL!H20","v":0.65791100000000002},{"$f":"MT_ALL!I20","v":0.65969800000000001}]

{"sheet":"MK_ALL","index":13,"n_rows":20,"n_cols":9,"rows_kept":20,"cut":false,"hidden":true,"merged":[[1,0,1,8]]}
[]
["Державний та гарантований державою борг України за поточний рік"]
[]
[{"$f":"$A$2 & \" (\" &I4 & \")\"","v":"Державний та гарантований державою борг України за поточний рік (млн. грн)"},null,null,null,null,null,null,null,{"$f":"VALUAH","v":"млн. грн"}]
[null,"2015-12-31","2016-01-31","2016-02-29","2016-03-31","2016-04-30","2016-05-31","2016-06-30","2016-07-31"]
["Загальна сума державного та гарантованого державою боргу",{"$f":"SUM(B7:B8)","v":1572180.1589905},1645619.6626974498,1740938.6519851901,1710381.0068600301,1690002.35475703,1683546.2830250598,1668252.9383180402,1661360.6593371702]
["Державний борг",1334271.60129128,1392400.3449641599,1483853.51281361,1457673.7684841501,1448913.7072791101,1448548.3635003499,1436316.6690444001,1427360.7607313001]
["Гарантований державою борг",237908.55769921999,253219.31773328999,257085.13917158,252707.23837588,241088.64747791999,234997.91952471001,231936.26927364001,233999.89860587]
[]
[{"$f":"$A$2 & \" (\" &I10 & \")\"","v":"Державний та гарантований державою борг України за поточний рік (млн. дол. США)"},null,null,null,null,null,null,null,{"$f":"VALUSD","v":"млн. дол. США"}]
[null,"2015-12-31","2016-01-31","2016-02-29","2016-03-31","2016-04-30","2016-05-31","2016-06-30","2016-07-31"]
["Загальна сума державного та гарантованого державою боргу",{"$f":"SUM(B13:B14)","v":65505.68611232},65427.59130349,64349.583056180003,65236.75923412,67099.457088759998,66897.645602379998,67121.006108710004,66995.200916040005]
["Державний борг",55593.105028710001,55359.936907720003,54847.053201540002,55598.087382320002,57527.329978679998,57559.733306089998,57789.210318520003,57559.037772720003]
["Гарантований державою борг",9912.5810836100009,10067.65439577,9502.5298546400008,9638.6718517999998,9572.1271100800004,9337.9122962900001,9331.7957901900008,9436.16314332]
[]
[null,null,null,null,null,null,null,null,"%%"]
[null,"2015-12-31","2016-01-31","2016-02-29","2016-03-31","2016-04-30","2016-05-31","2016-06-30","2016-07-31"]
["Загальна сума державного та гарантованого державою боргу",{"$f":"SUM(B19:B20)","v":1},1,1,1,1,1,1,1]
["Державний борг",0.84867599999999999,0.84612500000000002,0.85233000000000003,0.85225099999999998,0.85734399999999999,0.86041500000000004,0.86097100000000004,0.85915200000000003]
["Гарантований державою борг",0.15132399999999999,0.15387500000000001,0.14767,0.14774899999999999,0.14265600000000001,0.13958499999999999,0.13902900000000001,0.140848]

{"sheet":"SRATE_M","index":17,"n_rows":8,"n_cols":4,"rows_kept":8,"cut":false,"hidden":true,"merged":[[1,0,1,3],[2,0,2,3]]}
[]
[{"$f":"\"Державний та гарантований державою борг України\nза станом на \" & TEXT(DREPORTDATE,\"dd.MM.yyyy\")&\" \n(за видами відсоткових ставок)\"","v":"Державний та гарантований державою борг України\nза станом на 31.07.2016 \n(за видами відсоткових ставок)"}]
[]
[null,null,null,{"$f":"VALVAL","v":"млн. одиниць"}]
[null,"дол.США","грн.","%"]
["Загальна сума державного та гарантованого державою боргу",{"$f":"SUM(B$7+ B$8)","v":66995.200916040005},1661360.65933717,1]
["Борг, по якому сплата відсотків здійснюється за плаваючими процентними ставками",21495.285979609998,533044.48676088999,0.32084800000000002]
["Борг, по якому сплата відсотків здійснюється за фіксованими процентними ставками",45499.914936430003,1128316.1725762801,0.67915199999999998]

{"sheet":"SRATE","index":18,"n_rows":20,"n_cols":4,"rows_kept":20,"cut":false,"hidden":true,"merged":[[1,0,1,3],[2,0,2,3]]}
[]
[{"$f":"\"Державний та гарантований державою борг України за станом на \" & TEXT(DREPORTDATE,\"dd.MM.yyyy\")","v":"Державний та гарантований державою борг України за станом на 31.07.2016"}]
["(за видами відсоткових ставок)"]
[]
[null,null,null,{"$f":"VALVAL","v":"млн. одиниць"}]
[null,"дол.США","грн.","%"]
["Загальна сума державного та гарантованого державою боргу",{"$f":"SUM(B$8+ B$9)","v":66995.200916040005},1661360.65933717,1]
[{"$f":"SRATE_M!A7","v":"Борг, по якому сплата відсотків здійснюється за плаваючими процентними ставками"},{"$f":"SRATE_M!B7","v":21495.285979609998},{"$f":"SRATE_M!C7","v":533044.48676088999},{"$f":"SRATE_M!D7","v":0.32084800000000002}]
[{"$f":"SRATE_M!A8","v":"Борг, по якому сплата відсотків здійснюється за фіксованими процентними ставками"},{"$f":"SRATE_M!B8","v":45499.914936430003},{"$f":"SRATE_M!C8","v":1128316.1725762801},{"$f":"SRATE_M!D8","v":0.67915199999999998}]
[]
["В тому числі:"]
[null,null,null,{"$f":"VALVAL","v":"млн. одиниць"}]
[null,"дол.США","грн.","%"]
["Загальна сума державного та гарантованого державою боргу",{"$f":"B$18+B$15","v":66995.200916040005},1661360.6593371702,1]
["Державний борг",{"$f":"SUM(B$16:B$17)","v":57559.037772720003},1427360.7607313001,1.0632060000000001]
["Борг, по якому сплата відсотків здійснюється за плаваючими процентними ставками",13670.61703087,339006.74993761,0.20405400000000001]
["Борг, по якому сплата відсотків здійснюється за фіксованими процентними ставками",43888.420741850001,1088354.0107936901,0.65509799999999996]
["Гарантований державою борг",{"$f":"SUM(B$19:B$20)","v":9436.16314332},233999.89860587,0.25764199999999998]
["Борг, по якому сплата відсотків здійснюється за плаваючими процентними ставками",7824.6689487399999,194037.73682327999,0.116794]
["Борг, по якому сплата відсотків здійснюється за фіксованими процентними ставками",1611.4941945800001,39962.161782590003,2.4053999999999999E-2]

{"sheet":"RATE_M","index":19,"n_rows":10,"n_cols":4,"rows_kept":10,"cut":false,"hidden":false,"merged":[[1,0,1,3],[2,0,2,3]]}
[]
[{"$f":"\"Державний та гарантований державою борг України за станом на \" & TEXT(DREPORTDATE,\"dd.MM.yyyy\")","v":"Державний та гарантований державою борг України за станом на 31.07.2016"}]
["(за видами відсоткових ставок)"]
[]
[null,null,null,{"$f":"VALVAL","v":"млн. одиниць"}]
[null,"дол.США","грн.","%"]
["Загальна сума державного та гарантованого державою боргу",{"$f":"SUM(B8:B19)","v":66995.21091604},1661360.90731921,1]
["LIBOR",8940.6291869699999,221711.54646690001,0.13345199999999999]
["Ставка МВФ",12554.65679264,311332.94029399002,0.18739600000000001]
["Фіксована",45499.924936429998,1128316.4205583199,0.67915199999999998]

{"sheet":"RATE","index":20,"n_rows":30,"n_cols":4,"rows_kept":30,"cut":false,"hidden":true,"merged":[[1,0,1,3],[2,0,2,3]]}
[]
[{"$f":"\"Державний та гарантований державою борг України за станом на \" & TEXT(DREPORTDATE,\"dd.MM.yyyy\")","v":"Державний та гарантований державою борг України за станом на 31.07.2016"}]
["(за видами відсоткових ставок)"]
[]
[null,null,null,{"$f":"VALVAL","v":"млн. одиниць"}]
[null,"дол.США","грн.","%"]
["Загальна сума державного та гарантованого державою боргу",{"$f":"SUM(B8:B18)","v":66995.200916040005},1661360.65933717,1]
["LIBOR",8940.6291869699999,221711.54646690001,0.13345199999999999]
["Ставка МВФ",12554.65679264,311332.94029399002,0.18739600000000001]
["Фіксована",45499.914936430003,1128316.1725762801,0.67915199999999998]
[]
[]
[]
[]
[]
[]
[]
[]
["В тому числі:"]
[null,{"$f":"\"Державний борг України за станом на \" & TEXT(DREPORTDATE,\"dd.MM.yyyy\")","v":"Державний борг України за станом на 31.07.2016"},null,{"$f":"VALVAL","v":"млн. одиниць"}]
[null,"дол.США","грн.","%"]
["Загальна сума державного та гарантованого державою боргу",{"$f":"B$27+B$23","v":66995.20091603999},1661360.6593371702,1]
["Державний борг",{"$f":"SUM(B$24:B$26)","v":57559.037772719996},1427360.7607313001,0.85915200000000003]
["LIBOR",6588.2165834899997,163375.93883368,9.8338999999999996E-2]
["Ставка МВФ",7082.4004473799996,175630.81110393,0.105715]
["Фіксована",43888.420741850001,1088354.0107936901,0.65509799999999996]
["Гарантований державою борг",{"$f":"SUM(B$28:B$30)","v":9436.16314332},233999.89860587,0.140848]
["LIBOR",2352.4126034800001,58335.607633220003,3.5112999999999998E-2]
["Ставка МВФ",5472.2563452599998,135702.12919005999,8.1681000000000004E-2]
["Фіксована",1611.4941945800001,39962.161782590003,2.4053999999999999E-2]

{"sheet":"RATE_CMP","index":21,"n_rows":28,"n_cols":8,"rows_kept":28,"cut":false,"hidden":true,"merged":[[1,0,1,7],[4,1,4,3],[4,4,4,6],[17,1,17,3],[17,4,17,6]]}
[]
["Структура боргу за типом ставки на кінець попереднього року та звітну дату"]
[]
[null,null,null,null,null,null,null,{"$f":"VALVAL","v":"млн. одиниць"}]
[null,"2015-12-31",null,null,"2016-07-31"]
[null,"дол.США","грн.","%","дол.США","грн.","%","Зміна структури"]
["Загальна сума державного та гарантованого державою боргу",{"$f":"SUM(B8:B15)","v":65505.68611232},1572180.1589905,1,66995.200916040005,1661360.65933717,1,0]
["LIBOR",8905.8831172099999,213747.1350374,0.13595599999999999,8940.6291869699999,221711.54646690001,0.13345199999999999,-2.5040000000000001E-3]
["Ставка МВФ",12485.72817446,299665.80416775,0.190605,12554.65679264,311332.94029399002,0.18739600000000001,-3.209E-3]
["Фіксована",44114.074820649999,1058767.2197853499,0.67343900000000001,45499.914936430003,1128316.1725762801,0.67915199999999998,5.7130000000000002E-3]
[null,null,null,null,null,null,null,{"$f":"G11-D11","v":0}]
[null,null,null,null,null,null,null,0]
[null,null,null,null,null,null,null,0]
[]
[]
[]
[null,null,null,null,null,null,null,{"$f":"VALVAL","v":"млн. одиниць"}]
[null,"2015-12-31",null,null,"2016-07-31"]
[null,"дол.США","грн.","%","дол.США","грн.","%","Зміна структури"]
["Загальна сума державного та гарантованого державою боргу",{"$f":"B$25+B$21","v":65505.68611232},1572180.1589905,0.99999900000000008,66995.20091603999,1661360.6593371702,0.99999999999999989,0]
["Державний борг",{"$f":"SUM(B$22:B$24)","v":55593.105028710001},1334271.60129128,0.84867500000000007,57559.037772719996,1427360.7607313001,0.85915199999999992,1.0475999999999999E-2]
["LIBOR",6302.6569216400003,151267.96999203,9.6214999999999995E-2,6588.2165834899997,163375.93883368,9.8338999999999996E-2,2.1229999999999999E-3]
["Ставка МВФ",7043.5160649400004,169049.08358362,0.107525,7082.4004473799996,175630.81110393,0.105715,-1.81E-3]
["Фіксована",42246.93204213,1013954.54771563,0.64493500000000004,43888.420741850001,1088354.0107936901,0.65509799999999996,1.0163E-2]
["Гарантований державою борг",{"$f":"SUM(B$26:B$28)","v":9912.581083609999},237908.55769921999,0.15132400000000001,9436.16314332,233999.89860587,0.140848,-1.0475999999999999E-2]
["LIBOR",2603.2261955700001,62479.165045369999,3.9739999999999998E-2,2352.4126034800001,58335.607633220003,3.5112999999999998E-2,-4.627E-3]
["Ставка МВФ",5442.21210952,130616.72058413,8.3080000000000001E-2,5472.2563452599998,135702.12919005999,8.1681000000000004E-2,-1.3990000000000001E-3]
["Фіксована",1867.1427785200001,44812.67206972,2.8504000000000002E-2,1611.4941945800001,39962.161782590003,2.4053999999999999E-2,-4.45E-3]

{"sheet":"RATE (2)","index":24,"n_rows":30,"n_cols":4,"rows_kept":30,"cut":false,"hidden":false,"merged":[[1,0,1,3],[2,0,2,3]]}
[]
[{"$f":"\"Державний та гарантований державою борг України за станом на \" & TEXT(DREPORTDATE,\"dd.MM.yyyy\")","v":"Державний та гарантований державою борг України за станом на 31.07.2016"}]
["(за видами відсоткових ставок)"]
[]
[null,null,null,{"$f":"VALVAL","v":"млн. одиниць"}]
[null,"дол.США","грн.","%"]
["Загальна сума державного та гарантованого державою боргу",{"$f":"SUM(B8:B18)","v":66995.21091604},1661360.90731921,1]
["LIBOR",8940.6291869699999,221711.54646690001,0.13345199999999999]
["Ставка МВФ",12554.65679264,311332.94029399002,0.18739600000000001]
["Фіксована",45499.924936429998,1128316.4205583199,0.67915199999999998]
[]
[]
[]
[]
[]
[]
[]
[]
["В тому числі:"]
[null,{"$f":"\"Державний борг України за станом на \" & TEXT(DREPORTDATE,\"dd.MM.yyyy\")","v":"Державний борг України за станом на 31.07.2016"},null,{"$f":"VALVAL","v":"млн. одиниць"}]
[null,"дол.США","грн.","%"]
["Загальна сума державного та гарантованого державою боргу",{"$f":"B$27+B$23","v":66995.21091604},1661360.90731921,1]
["Державний борг",{"$f":"SUM(B$24:B$26)","v":57559.047772720005},1427361.0087133399,0.85915200000000003]
["LIBOR",6588.2165834899997,163375.93883368,9.8338999999999996E-2]
["Ставка МВФ",7082.4004473799996,175630.81110393,0.105715]
["Фіксована",43888.430741850003,1088354.2587757299,0.65509799999999996]
["Гарантований державою борг",{"$f":"SUM(B$28:B$30)","v":9436.16314332},233999.89860587,0.140848]
["LIBOR",2352.4126034800001,58335.607633220003,3.5112999999999998E-2]
["Ставка МВФ",5472.2563452599998,135702.12919005999,8.1681000000000004E-2]
["Фіксована",1611.4941945800001,39962.161782590003,2.4053999999999999E-2]

{"sheet":"CUR_M","index":25,"n_rows":13,"n_cols":4,"rows_kept":13,"cut":false,"hidden":false,"merged":[[1,0,1,3],[2,0,2,3]]}
[]
[{"$f":"\"Державний та гарантований державою борг України за станом на \" & TEXT(DREPORTDATE,\"dd.MM.yyyy\")","v":"Державний та гарантований державою борг України за станом на 31.07.2016"}]
["(в розрізі валют погашеня)"]
[]
[null,null,null,{"$f":"VALVAL","v":"млн. одиниць"}]
[null,"дол.США","грн.","%"]
["Загальна сума державного та гарантованого державою боргу",{"$f":"SUM(B8:B26)","v":66995.21091604},1661360.90731921,1]
["Долар США",30213.29235172,749235.38724960003,0.45097700000000002]
["ЄВРО",3913.81748806,97055.644488129998,5.8418999999999999E-2]
["Канадський долар",303.93970466000002,7537.1588000000002,4.5370000000000002E-3]
["СПЗ",12554.65679264,311332.94029399002,0.18739600000000001]
["Українська гривня",19392.0396086,480887.75418991997,0.28945399999999999]
["Японська єна",617.46497036000005,15312.02229757,9.2169999999999995E-3]

{"sheet":"CUR","index":26,"n_rows":35,"n_cols":4,"rows_kept":35,"cut":false,"hidden":true,"merged":[[1,0,1,3],[2,0,2,3]]}
[]
[{"$f":"\"Державний та гарантований державою борг України за станом на \" & TEXT(DREPORTDATE,\"dd.MM.yyyy\")","v":"Державний та гарантований державою борг України за станом на 31.07.2016"}]
["(в розрізі валют погашеня)"]
[]
[null,null,null,{"$f":"VALVAL","v":"млн. одиниць"}]
[null,"дол.США","грн.","%"]
["Загальна сума державного та гарантованого державою боргу",{"$f":"SUM(B8:B18)","v":66995.200916040005},1661360.65933717,1]
["Долар США",30213.282351720001,749235.13926755998,0.45097700000000002]
["ЄВРО",3913.81748806,97055.644488129998,5.8418999999999999E-2]
["Канадський долар",303.93970466000002,7537.1588000000002,4.5370000000000002E-3]
["СПЗ",12554.65679264,311332.94029399002,0.18739600000000001]
["Українська гривня",19392.0396086,480887.75418991997,0.28945399999999999]
["Японська єна",617.46497036000005,15312.02229757,9.2169999999999995E-3]
[]
[]
[]
[]
[]
[]
["В тому числі:"]
[null,{"$f":"\"Державний борг України за станом на \" & TEXT(DREPORTDATE,\"dd.MM.yyyy\")","v":"Державний борг України за станом на 31.07.2016"},null,{"$f":"VALVAL","v":"млн. одиниць"}]
[null,"дол.США","грн.","%"]
["Загальна сума державного та гарантованого державою боргу",{"$f":"B$31+B$24","v":66995.200916040005},1661360.65933717,1]
["Державний борг",{"$f":"SUM(B$25:B$30)","v":57559.037772720003},1427360.7607312999,0.85915200000000003]
["Долар США",27161.254363979999,673550.32661388,0.40542099999999998]
["ЄВРО",3820.0839217299999,94731.220388660004,5.7020000000000001E-2]
["Канадський долар",303.93970466000002,7537.1588000000002,4.5370000000000002E-3]
["СПЗ",7082.4004473799996,175630.81110393,0.105715]
["Українська гривня",18573.894364610002,460599.22152725997,0.27724199999999999]
["Японська єна",617.46497036000005,15312.02229757,9.2169999999999995E-3]
["Гарантований державою борг",{"$f":"SUM(B$32:B$35)","v":9436.16314332},233999.89860586997,0.140848]
["Долар США",3052.0279877399998,75684.812653679997,4.5555999999999999E-2]
["ЄВРО",93.733566330000002,2324.4240994699999,1.3990000000000001E-3]
["СПЗ",5472.2563452599998,135702.12919005999,8.1681000000000004E-2]
["Українська гривня",818.14524399000004,20288.53266266,1.2212000000000001E-2]

{"sheet":"CUR_CMP","index":27,"n_rows":36,"n_cols":8,"rows_kept":36,"cut":false,"hidden":true,"merged":[[1,0,1,7],[5,1,5,3],[5,4,5,6],[21,1,21,3],[21,4,21,6]]}
[]
["Валютна структура державного боргу на кінець попереднього року та звітну дату"]
[]
[]
[null,null,null,null,null,null,null,{"$f":"VALVAL","v":"млн. одиниць"}]
[null,"2015-12-31",null,null,"2016-07-31"]
[null,"дол.США","грн.","%","дол.США","грн.","%","Зміна структури"]
["Загальна сума державного та гарантованого державою боргу",{"$f":"SUM(B9:B18)","v":65505.68611232},1572180.1589904998,1.0000009999999999,66995.200916040005,1661360.65933717,1,0]
["Долар США",29083.06250837,698012.89860366995,0.44397799999999998,30213.282351720001,749235.13926755998,0.45097700000000002,6.999E-3]
["ЄВРО",3899.6357398700002,93593.858814849998,5.9531000000000001E-2,3913.81748806,97055.644488129998,5.8418999999999999E-2,-1.1119999999999999E-3]
["Канадський долар",288.07592721999998,6914.0144,4.398E-3,303.93970466000002,7537.1588000000002,4.5370000000000002E-3,1.3899999999999999E-4]
["СПЗ",12485.72817446,299665.80416775,0.190605,12554.65679264,311332.94029399002,0.18739600000000001,-3.209E-3]
["Українська гривня",19515.488325999999,468384.73665564001,0.29792099999999999,19392.0396086,480887.75418991997,0.28945399999999999,-8.4659999999999996E-3]
["Японська єна",233.69543640000001,5608.8463485900002,3.568E-3,617.46497036000005,15312.02229757,9.2169999999999995E-3,5.6490000000000004E-3]
[]
[]
[]
[]
[]
[]
[null,null,null,null,null,null,null,{"$f":"VALVAL","v":"млн. одиниць"}]
[null,"2015-12-31",null,null,"2016-07-31"]
[null,"дол.США","грн.","%","дол.США","грн.","%","Зміна структури"]
["Загальна сума державного та гарантованого державою боргу",{"$f":"B$32+B$25","v":65505.68611232},1572180.1589905,0.99999899999999997,66995.200916040005,1661360.65933717,1,9.9999999999999995E-7]
["Державний борг",{"$f":"SUM(B$26:B$31)","v":55593.105028710001},1334271.60129128,0.84867599999999999,57559.037772720003,1427360.7607312999,0.85915200000000003,1.0475999999999999E-2]
["Долар США",25616.869826980001,614821.96229976998,0.39106299999999999,27161.254363979999,673550.32661388,0.40542099999999998,1.4357999999999999E-2]
["ЄВРО",3789.57855247,90952.412909199993,5.7851E-2,3820.0839217299999,94731.220388660004,5.7020000000000001E-2,-8.3100000000000003E-4]
["Канадський долар",288.07592721999998,6914.0144,4.398E-3,303.93970466000002,7537.1588000000002,4.5370000000000002E-3,1.3899999999999999E-4]
["СПЗ",7043.5160649400004,169049.08358362,0.107525,7082.4004473799996,175630.81110393,0.105715,-1.81E-3]
["Українська гривня",18621.369220699999,446925.28175010002,0.284271,18573.894364610002,460599.22152725997,0.27724199999999999,-7.0289999999999997E-3]
["Японська єна",233.69543640000001,5608.8463485900002,3.568E-3,617.46497036000005,15312.02229757,9.2169999999999995E-3,5.6490000000000004E-3]
["Гарантований державою борг",{"$f":"SUM(B$33:B$36)","v":9912.5810836100009},237908.55769922002,0.15132300000000001,9436.16314332,233999.89860586997,0.140848,-1.0475E-2]
["Долар США",3466.19268139,83190.936303900002,5.2914000000000003E-2,3052.0279877399998,75684.812653679997,4.5555999999999999E-2,-7.358E-3]
["ЄВРО",110.0571874,2641.44590565,1.6800000000000001E-3,93.733566330000002,2324.4240994699999,1.3990000000000001E-3,-2.81E-4]
["СПЗ",5442.21210952,130616.72058413,8.3080000000000001E-2,5472.2563452599998,135702.12919005999,8.1681000000000004E-2,-1.3990000000000001E-3]
["Українська гривня",894.1191053,21459.454905539998,1.3649E-2,818.14524399000004,20288.53266266,1.2212000000000001E-2,-1.4369999999999999E-3]

{"sheet":"CUR_M_EXT","index":28,"n_rows":13,"n_cols":14,"rows_kept":13,"cut":false,"hidden":true,"merged":[[4,1,4,6],[4,7,4,12],[1,0,1,13]]}
[]
["Валютна структура боргу на кінець попереднього року та на звітну дату"]
[]
[null,null,null,null,null,null,null,null,null,null,null,null,null,{"$f":"VALVAL","v":"млн. одиниць"}]
[null,"2015-12-31",null,null,null,null,null,"2016-07-31"]
[null,"оріг.","курс до USD","курс до UAH","дол.США","грн.","%","оріг.","курс до USD","курс до UAH","дол.США","грн.","%","Зміна структури"]
["Загальна сума державного та гарантованого державою боргу",null,null,null,{"$f":"SUM(E8:E23)","v":65505.68611232},1572180.1589904998,1.0000009999999999,null,null,null,{"$f":"SUM(K8:K23)","v":66995.200916040005},1661360.65933717,1,0]
["Долар США",29083.06250837,1,24.000667,29083.06250837,698012.89860366995,0.44397799999999998,30213.282351720001,1,24.798203999999998,30213.282351720001,749235.13926755998,0.45097700000000002,6.999E-3]
["ЄВРО",3569.1339052200001,1.0926,26.223129,3899.6357398700002,93593.858814849998,5.9531000000000001E-2,3529.1411376599999,1.109,27.501207999999998,3913.81748806,97055.644488129998,5.8418999999999999E-2,-1.1119999999999999E-3]
["Канадський долар",400,0.72019,17.285036000000002,288.07592721999998,6914.0144,4.398E-3,400,0.759849,18.842897000000001,303.93970466000002,7537.1588000000002,4.5370000000000002E-3,1.3899999999999999E-4]
["СПЗ",9010.2134069999993,1.385731,33.258457999999997,12485.72817446,299665.80416775,0.190605,9010.2134069999993,1.393381,34.553336999999999,12554.65679264,311332.94029399002,0.18739600000000001,-3.209E-3]
["Українська гривня",468384.73665564001,4.1666000000000002E-2,1,19515.488325999999,468384.73665564001,0.29792099999999999,480887.75418991997,4.0326000000000001E-2,1,19392.0396086,480887.75418991997,0.28945399999999999,-8.4659999999999996E-3]
["Японська єна",28160.662,8.2990000000000008E-3,0.19917299999999999,233.69543640000001,5608.8463485900002,3.568E-3,64664.004000000001,9.5490000000000002E-3,0.236794,617.46497036000005,15312.02229757,9.2169999999999995E-3,5.6490000000000004E-3]

{"sheet":"CUR_CMP_EXT","index":29,"n_rows":38,"n_cols":14,"rows_kept":38,"cut":false,"hidden":true,"merged":[[1,0,1,13],[4,1,4,6],[4,7,4,12],[23,1,23,6],[23,7,23,12]]}
[]
["Валютна структура боргу на кінець попереднього року та на звітну дату (розширений)"]
[]
[null,null,null,null,null,null,null,null,null,null,null,null,null,{"$f":"VALVAL","v":"млн. одиниць"}]
[null,"2015-12-31",null,null,null,null,null,"2016-07-31"]
[null,"оріг.","курс до USD","курс до UAH","дол.США","грн.","%","оріг.","курс до USD","курс до UAH","дол.США","грн.","%","Зміна структури"]
["Загальна сума державного та гарантованого державою боргу",null,null,null,{"$f":"SUM(E8:E24)","v":65505.68611232},1572180.1589904998,1.0000009999999999,null,null,null,{"$f":"SUM(K8:K24)","v":66995.200916040005},1661360.65933717,1,0]
["Долар США",29083.06250837,1,24.000667,29083.06250837,698012.89860366995,0.44397799999999998,30213.282351720001,1,24.798203999999998,30213.282351720001,749235.13926755998,0.45097700000000002,6.999E-3]
["ЄВРО",3569.1339052200001,1.0926,26.223129,3899.6357398700002,93593.858814849998,5.9531000000000001E-2,3529.1411376599999,1.109,27.501207999999998,3913.81748806,97055.644488129998,5.8418999999999999E-2,-1.1119999999999999E-3]
["Канадський долар",400,0.72019,17.285036000000002,288.07592721999998,6914.0144,4.398E-3,400,0.759849,18.842897000000001,303.93970466000002,7537.1588000000002,4.5370000000000002E-3,1.3899999999999999E-4]
["СПЗ",9010.2134069999993,1.385731,33.258457999999997,12485.72817446,299665.80416775,0.190605,9010.2134069999993,1.393381,34.553336999999999,12554.65679264,311332.94029399002,0.18739600000000001,-3.209E-3]
["Українська гривня",468384.73665564001,4.1666000000000002E-2,1,19515.488325999999,468384.73665564001,0.29792099999999999,480887.75418991997,4.0326000000000001E-2,1,19392.0396086,480887.75418991997,0.28945399999999999,-8.4659999999999996E-3]
["Японська єна",28160.662,8.2990000000000008E-3,0.19917299999999999,233.69543640000001,5608.8463485900002,3.568E-3,64664.004000000001,9.5490000000000002E-3,0.236794,617.46497036000005,15312.02229757,9.2169999999999995E-3,5.6490000000000004E-3]
[]
[]
[]
[]
[]
[]
[]
[]
[]
[null,null,null,null,null,null,null,null,null,null,null,null,null,{"$f":"VALVAL","v":"млн. одиниць"}]
[null,"2015-12-31",null,null,null,null,null,"2016-07-31"]
[null,"оріг.","курс до USD","курс до UAH","дол.США","грн.","%","оріг.","курс до USD","курс до UAH","дол.США","грн.","%","Зміна структури"]
["Загальна сума державного та гарантованого державою боргу",{"$f":"B$34+B$27","v":538607.80847623001},7.7684830000000007,186.44871699999999,65505.68611232,1572180.1589905,0.99999899999999997,588704.39508629998,7.854811999999999,194.785189,66995.200916040005,1661360.65933717,1,9.9999999999999995E-7]
["Державний борг",{"$f":"SUM(B$28:B$33)","v":509654.10785901005},4.2484860000000007,101.966463,55593.105028710001,1334271.60129128,0.84867599999999999,561351.99022895994,4.3121049999999999,106.93244,57559.037772720003,1427360.7607312999,0.85915200000000003,1.0475999999999999E-2]
["Долар США",25616.869826980001,1,24.000667,25616.869826980001,614821.96229976998,0.39106299999999999,27161.254363979999,1,24.798203999999998,27161.254363979999,673550.32661388,0.40542099999999998,1.4357999999999999E-2]
["ЄВРО",3468.4042819299998,1.0926,26.223129,3789.57855247,90952.412909199993,5.7851E-2,3444.62033772,1.109,27.501207999999998,3820.0839217299999,94731.220388660004,5.7020000000000001E-2,-8.3100000000000003E-4]
["Канадський долар",400,0.72019,17.285036000000002,288.07592721999998,6914.0144,4.398E-3,400,0.759849,18.842897000000001,303.93970466000002,7537.1588000000002,4.5370000000000002E-3,1.3899999999999999E-4]
["СПЗ",5082.8900000000003,1.385731,33.258457999999997,7043.5160649400004,169049.08358362,0.107525,5082.8900000000003,1.393381,34.553336999999999,7082.4004473799996,175630.81110393,0.105715,-1.81E-3]
["Українська гривня",446925.28175010002,4.1666000000000002E-2,1,18621.369220699999,446925.28175010002,0.284271,460599.22152725997,4.0326000000000001E-2,1,18573.894364610002,460599.22152725997,0.27724199999999999,-7.0289999999999997E-3]
["Японська єна",28160.662,8.2990000000000008E-3,0.19917299999999999,233.69543640000001,5608.8463485900002,3.568E-3,64664.004000000001,9.5490000000000002E-3,0.236794,617.46497036000005,15312.02229757,9.2169999999999995E-3,5.6490000000000004E-3]
["Гарантований державою борг",{"$f":"SUM(B$35:B$38)","v":28953.700617219998},3.519997,84.482253999999998,9912.5810836100009,237908.55769922002,0.15132300000000001,27352.40485734,3.5427069999999996,87.852748999999989,9436.16314332,233999.89860586997,0.140848,-1.0475E-2]
["Долар США",3466.19268139,1,24.000667,3466.19268139,83190.936303900002,5.2914000000000003E-2,3052.0279877399998,1,24.798203999999998,3052.0279877399998,75684.812653679997,4.5555999999999999E-2,-7.358E-3]
["ЄВРО",100.72962329000001,1.0926,26.223129,110.0571874,2641.44590565,1.6800000000000001E-3,84.520799940000003,1.109,27.501207999999998,93.733566330000002,2324.4240994699999,1.3990000000000001E-3,-2.81E-4]
["СПЗ",3927.3234069999999,1.385731,33.258457999999997,5442.21210952,130616.72058413,8.3080000000000001E-2,3927.3234069999999,1.393381,34.553336999999999,5472.2563452599998,135702.12919005999,8.1681000000000004E-2,-1.3990000000000001E-3]
["Українська гривня",21459.454905539998,4.1666000000000002E-2,1,894.1191053,21459.454905539998,1.3649E-2,20288.53266266,4.0326000000000001E-2,1,818.14524399000004,20288.53266266,1.2212000000000001E-2,-1.4369999999999999E-3]

{"sheet":"DKT1","index":30,"n_rows":27,"n_cols":5,"rows_kept":27,"cut":false,"hidden":true,"merged":[[1,0,1,3],[2,0,2,3]]}
[]
[{"$f":"\"Державний та гарантований державою борг України за станом на \" & TEXT(DREPORTDATE,\"dd.MM.yyyy\")","v":"Державний та гарантований державою борг України за станом на 31.07.2016"}]
["(за типом кредитора)"]
[]
[null,null,null,{"$f":"VALVAL","v":"млн. одиниць"}]
[null,"дол.США","грн.","%","FORMAT"]
["Загальна сума державного та гарантованого державою боргу",{"$f":"B$18+B$8","v":66995.200916040005},1661360.65933717,1,"3"]
["Державний борг",{"$f":"B$9+B$12","v":57559.037772720003},1427360.7607312999,0.85915200000000003,"3"]
["Внутрішній борг",{"$f":"SUM(B$10:B$11)","v":21980.454364609999},545075.79134550004,0.32808999999999999,"2"]
["1. Заборгованість за випущеними цінними паперами на внутрішньому ринку",21876.457954670001,542496.86715664004,0.32653799999999999,"1"]
["2. Заборгованість перед банківськими та іншими фінансовими установами",103.99640994000001,2578.92418886,1.552E-3]
["Зовнішній борг",{"$f":"SUM(B$13:B$17)","v":35578.583408110004},882284.96938579995,0.53106200000000003]
["1. Заборгованість за позиками, одержаними від міжнародних фінансових організацій",14058.279767280001,348620.08955850999,0.20984]
["2. Заборгованість за позиками, одержаними від органів управління іноземних держав",1765.84553048,43789.79769721,2.6357999999999999E-2]
["3. Заборгованість за позиками, одержаними від іноземних комерційних банків, інших іноземних фінансових установ",5.6702280000000001E-2,1.4061147599999999,9.9999999999999995E-7]
["4. Заборгованість за випущеними цінними паперами на зовнішньому ринку",18043.330000000002,447442.17817932001,0.26932299999999998]
["5. Заборгованість, не віднесена до інших категорій",1711.07140807,42431.497836000002,2.554E-2]
["Гарантований державою борг",{"$f":"B$19+B$23","v":9436.16314332},233999.89860587,0.140848]
["Внутрішній борг",{"$f":"SUM(B$20:B$22)","v":818.14524399000004},20288.53266266,1.2212000000000001E-2]
["1. Заборгованість за випущеними цінними паперами на внутрішньому ринку",653.27358384000001,16200.0116,9.7509999999999993E-3]
["2. Заборгованість перед банківськими та іншими фінансовими установами",164.83316341,4087.56641266,2.4599999999999999E-3]
["3. Заборгованість, не віднесена до інших категорій",3.8496740000000002E-2,0.95465,9.9999999999999995E-7]
["Зовнішній борг",{"$f":"SUM(B$24:B$27)","v":8618.0178993299996},213711.36594321,0.128636]
["1. Заборгованість за позиками, одержаними від міжнародних фінансових організацій",6049.3885885899999,150013.97229522999,9.0296000000000001E-2]
["2. Заборгованість за позиками, одержаними від органів управління іноземних держав",146.21677996,3625.9135376700001,2.1819999999999999E-3]
["3. Заборгованість за позиками, одержаними від іноземних комерційних банків, інших іноземних фінансових установ",2308.9308653899998,57257.338621809999,3.4464000000000002E-2]
["5. Заборгованість, не віднесена до інших категорій",113.48166539,2814.1414884999999,1.694E-3]

{"sheet":"CUR (2)","index":31,"n_rows":35,"n_cols":4,"rows_kept":35,"cut":false,"hidden":false,"merged":[[1,0,1,3],[2,0,2,3]]}
[]
[{"$f":"\"Державний та гарантований державою борг України за станом на \" & TEXT(DREPORTDATE,\"dd.MM.yyyy\")","v":"Державний та гарантований державою борг України за станом на 31.07.2016"}]
["(в розрізі валют погашеня)"]
[]
[null,null,null,{"$f":"VALVAL","v":"млн. одиниць"}]
[null,"дол.США","грн.","%"]
["Загальна сума державного та гарантованого державою боргу",{"$f":"SUM(B8:B18)","v":66995.21091604},1661360.90731921,1]
["Долар США",30213.29235172,749235.38724960003,0.45097700000000002]
["ЄВРО",3913.81748806,97055.644488129998,5.8418999999999999E-2]
["Канадський долар",303.93970466000002,7537.1588000000002,4.5370000000000002E-3]
["СПЗ",12554.65679264,311332.94029399002,0.18739600000000001]
["Українська гривня",19392.0396086,480887.75418991997,0.28945399999999999]
["Японська єна",617.46497036000005,15312.02229757,9.2169999999999995E-3]
[]
[]
[]
[]
[]
[]
["В тому числі:"]
[null,{"$f":"\"Державний борг України за станом на \" & TEXT(DREPORTDATE,\"dd.MM.yyyy\")","v":"Державний борг України за станом на 31.07.2016"},null,{"$f":"VALVAL","v":"млн. одиниць"}]
[null,"дол.США","грн.","%"]
["Загальна сума державного та гарантованого державою боргу",{"$f":"B$31+B$24","v":66995.21091604},1661360.90731921,1]
["Державний борг",{"$f":"SUM(B$25:B$30)","v":57559.047772720005},1427361.0087133399,0.85915200000000003]
["Долар США",27161.264363980001,673550.57459592004,0.40542099999999998]
["ЄВРО",3820.0839217299999,94731.220388660004,5.7020000000000001E-2]
["Канадський долар",303.93970466000002,7537.1588000000002,4.5370000000000002E-3]
["СПЗ",7082.4004473799996,175630.81110393,0.105715]
["Українська гривня",18573.894364610002,460599.22152725997,0.27724199999999999]
["Японська єна",617.46497036000005,15312.02229757,9.2169999999999995E-3]
["Гарантований державою борг",{"$f":"SUM(B$32:B$35)","v":9436.16314332},233999.89860586997,0.140848]
["Долар США",3052.0279877399998,75684.812653679997,4.5555999999999999E-2]
["ЄВРО",93.733566330000002,2324.4240994699999,1.3990000000000001E-3]
["СПЗ",5472.2563452599998,135702.12919005999,8.1681000000000004E-2]
["Українська гривня",818.14524399000004,20288.53266266,1.2212000000000001E-2]

{"sheet":"DKR","index":35,"n_rows":15,"n_cols":4,"rows_kept":15,"cut":false,"hidden":true,"merged":[[1,0,1,3],[2,0,2,3]]}
[]
[{"$f":"\"Державний та гарантований державою борг України за станом на \" & TEXT(DREPORTDATE,\"dd.MM.yyyy\")","v":"Державний та гарантований державою борг України за станом на 31.07.2016"}]
["(за типом кредитора)"]
[]
[null,null,null,{"$f":"VALVAL","v":"млн. одиниць"}]
[null,"дол.США","грн.","%"]
["Загальна сума державного та гарантованого державою боргу",{"$f":"SUM(B8:B46)","v":66995.200916040005},1661360.65933717,1.0000009999999999]
["Внутрішній борг за випущеними цінними паперами",22529.731538510001,558696.87875664001,0.336289]
["Внутрішній борг перед банківськими та іншими фінансовими установами",268.82957334999998,6666.4906015200004,4.0130000000000001E-3]
["Внутрішня заборгованість, не віднесена до інших категорій",3.8496740000000002E-2,0.95465,9.9999999999999995E-7]
["Зовнішній борг за випущеними цінними паперами",18043.330000000002,447442.17817932001,0.26932299999999998]
["Зовнішній борг за позиками, одержаними від іноземних комерційних банків, інших іноземних фінансових установ",2308.9875676699999,57258.744736569999,3.4465000000000003E-2]
["Зовнішній борг за позиками, одержаними від міжнародних фінансових організацій",20107.668355869999,498634.06185374002,0.30013600000000001]
["Зовнішній борг за позиками, одержаними від органів управління іноземних держав",1912.0623104399999,47415.71123488,2.8539999999999999E-2]
["Зовнішній борг, не віднесений до інших категорій",1824.55307346,45245.6393245,2.7234000000000001E-2]

{"sheet":"DKR2","index":36,"n_rows":24,"n_cols":4,"rows_kept":24,"cut":false,"hidden":true,"merged":[[2,0,2,3],[3,0,3,3],[0,0,0,3],[1,0,1,3]]}
[{"$f":"\"Державний борг України за станом на \" & TEXT(DREPORTDATE,\"dd.MM.yyyy\")","v":"Державний борг України за станом на 31.07.2016"}]
[{"$f":"\"Гарантований державою борг України за станом на \" & TEXT(DREPORTDATE,\"dd.MM.yyyy\")","v":"Гарантований державою борг України за станом на 31.07.2016"}]
[{"$f":"\"Державний та гарантований державою борг України за станом на \" & TEXT(DREPORTDATE,\"dd.MM.yyyy\")","v":"Державний та гарантований державою борг України за станом на 31.07.2016"}]
["(за типом кредитора)"]
[]
[null,null,null,{"$f":"VALVAL","v":"млн. одиниць"}]
[null,"дол.США","грн.","%"]
["Загальна сума державного та гарантованого державою боргу",{"$f":"B$17+B$9","v":66995.200916040005},1661360.6593371702,2.0530759999999999]
["Державний борг",{"$f":"SUM(B$10:B$16)","v":57559.037772720003},1427360.7607313001,1.259152]
["Внутрішній борг за випущеними цінними паперами",21876.457954670001,542496.86715664004,0.32653799999999999]
["Внутрішній борг перед банківськими та іншими фінансовими установами",103.99640994000001,2578.92418886,1.552E-3]
["Зовнішній борг за випущеними цінними паперами",18043.330000000002,447442.17817932001,0.26932299999999998]
["Зовнішній борг за позиками, одержаними від іноземних комерційних банків, інших іноземних фінансових установ",5.6702280000000001E-2,1.4061147599999999,9.9999999999999995E-7]
["Зовнішній борг за позиками, одержаними від міжнародних фінансових організацій",14058.279767280001,348620.08955850999,0.20984]
["Зовнішній борг за позиками, одержаними від органів управління іноземних держав",1765.84553048,43789.79769721,2.6357999999999999E-2]
["Зовнішній борг, не віднесений до інших категорій",1711.07140807,42431.497836000002,2.554E-2]
["Гарантований державою борг",{"$f":"SUM(B$18:B$24)","v":9436.1631433199982},233999.89860587,0.140848]
["Внутрішній борг за випущеними цінними паперами",653.27358384000001,16200.0116,9.7509999999999993E-3]
["Внутрішній борг перед банківськими та іншими фінансовими установами",164.83316341,4087.56641266,2.4599999999999999E-3]
["Внутрішня заборгованість, не віднесена до інших категорій",3.8496740000000002E-2,0.95465,9.9999999999999995E-7]
["Зовнішній борг за позиками, одержаними від іноземних комерційних банків, інших іноземних фінансових установ",2308.9308653899998,57257.338621809999,3.4464000000000002E-2]
["Зовнішній борг за позиками, одержаними від міжнародних фінансових організацій",6049.3885885899999,150013.97229522999,9.0296000000000001E-2]
["Зовнішній борг за позиками, одержаними від органів управління іноземних держав",146.21677996,3625.9135376700001,2.1819999999999999E-3]
["Зовнішній борг, не віднесений до інших категорій",113.48166539,2814.1414884999999,1.694E-3]

{"sheet":"YT_ALL","index":40,"n_rows":20,"n_cols":7,"rows_kept":20,"cut":false,"hidden":true,"merged":[[1,0,1,6]]}
[]
["Державний та гарантований державою борг України за останні 5 років"]
[]
[{"$f":"$A$2 & \" (\" &G4 & \")\"","v":"Державний та гарантований державою борг України за останні 5 років (млн. грн)"},null,null,null,null,null,{"$f":"VALUAH","v":"млн. грн"}]
[null,"2011-12-31","2012-12-31","2013-12-31","2014-12-31","2015-12-31","2016-07-31"]
["Загальна сума державного та гарантованого державою боргу",{"$f":"SUM(B$7+ B$8)","v":473185.18455821002},515510.83307649998,584786.57094877004,1100833.2167026401,1572180.1589905,1661360.65933717]
["Внутрішній борг",173770.19949564,206510.71361042999,284088.72546875,488866.90736498003,529460.57801733003,565364.32400816004]
["Зовнішній борг",299414.98506257002,309000.11946607003,300697.84548001998,611966.30933765997,1042719.58097317,1095996.3353290099]
[]
[{"$f":"$A$2 & \" (\" &G10 & \")\"","v":"Державний та гарантований державою борг України за останні 5 років (млн. дол. США)"},null,null,null,null,null,{"$f":"VALUSD","v":"млн. дол. США"}]
[null,"2011-12-31","2012-12-31","2013-12-31","2014-12-31","2015-12-31","2016-07-31"]
["Загальна сума державного та гарантованого державою боргу",{"$f":"SUM(B$13+ B$14)","v":59223.658234120005},64495.287511390008,73162.338414950005,69811.922962929995,65505.68611232,66995.200916040005]
["Внутрішній борг",21749.004918350001,25836.446091900001,35542.190100170003,31002.642687809999,22060.244326389999,22798.599608600001]
["Зовнішній борг",37474.653315770003,38658.841419490003,37620.148314780003,38809.28027512,43445.441785930001,44196.601307440003]
[]
[null,null,null,null,null,null,"%"]
[null,"2011-12-31","2012-12-31","2013-12-31","2014-12-31","2015-12-31","2016-07-31"]
["Загальна сума державного та гарантованого державою боргу",{"$f":"SUM(B$19+ B$20)","v":1},1,1,1,1,1]
["Внутрішній борг",0.36723499999999998,0.40059400000000001,0.48579899999999998,0.44408799999999998,0.33676800000000001,0.34030199999999999]
["Зовнішній борг",0.63276500000000002,0.59940599999999999,0.51420100000000002,0.55591199999999996,0.66323200000000004,0.65969800000000001]

{"sheet":"YTM_ALL","index":43,"n_rows":20,"n_cols":7,"rows_kept":20,"cut":false,"hidden":true,"merged":[[1,0,1,6]]}
[]
["Державний та гарантований державою борг України за останні 5 років"]
[]
[null,null,null,null,null,null,"млрд. грн."]
[null,{"$f":"YT_ALL!B5","v":"2011-12-31"},{"$f":"YT_ALL!C5","v":"2012-12-31"},{"$f":"YT_ALL!D5","v":"2013-12-31"},{"$f":"YT_ALL!E5","v":"2014-12-31"},{"$f":"YT_ALL!F5","v":"2015-12-31"},{"$f":"YT_ALL!G5","v":"2016-07-31"}]
["Загальна сума державного та гарантованого державою боргу",{"$f":"SUM(B$7+ B$8)","v":473.18518455821004},515.51083307650003,584.78657094876996,1100.8332167026399,1572.1801589904999,1661.3606593371701]
[{"$f":"YT_ALL!A7","v":"Внутрішній борг"},{"$f":"YT_ALL!B7/DMLMLR","v":173.77019949564001},{"$f":"YT_ALL!C7/DMLMLR","v":206.51071361042997},{"$f":"YT_ALL!D7/DMLMLR","v":284.08872546875},{"$f":"YT_ALL!E7/DMLMLR","v":488.86690736498002},{"$f":"YT_ALL!F7/DMLMLR","v":529.46057801733002},{"$f":"YT_ALL!G7/DMLMLR","v":565.36432400816}]
[{"$f":"YT_ALL!A8","v":"Зовнішній борг"},{"$f":"YT_ALL!B8/DMLMLR","v":299.41498506257},{"$f":"YT_ALL!C8/DMLMLR","v":309.00011946607003},{"$f":"YT_ALL!D8/DMLMLR","v":300.69784548001996},{"$f":"YT_ALL!E8/DMLMLR","v":611.96630933765994},{"$f":"YT_ALL!F8/DMLMLR","v":1042.71958097317},{"$f":"YT_ALL!G8/DMLMLR","v":1095.99633532901}]
[]
[null,null,null,null,null,null,"млрд. дол.США"]
[null,{"$f":"YT_ALL!B11","v":"2011-12-31"},{"$f":"YT_ALL!C11","v":"2012-12-31"},{"$f":"YT_ALL!D11","v":"2013-12-31"},{"$f":"YT_ALL!E11","v":"2014-12-31"},{"$f":"YT_ALL!F11","v":"2015-12-31"},{"$f":"YT_ALL!G11","v":"2016-07-31"}]
["Загальна сума державного та гарантованого державою боргу",{"$f":"SUM(B$13+ B$14)","v":59.223658234120009},64.495287511390003,73.16233841495,69.811922962929998,65.505686112320006,66.995200916040005]
[{"$f":"YT_ALL!A13","v":"Внутрішній борг"},{"$f":"YT_ALL!B13/DMLMLR","v":21.74900491835},{"$f":"YT_ALL!C13/DMLMLR","v":25.836446091900001},{"$f":"YT_ALL!D13/DMLMLR","v":35.542190100170004},{"$f":"YT_ALL!E13/DMLMLR","v":31.002642687809999},{"$f":"YT_ALL!F13/DMLMLR","v":22.060244326389999},{"$f":"YT_ALL!G13/DMLMLR","v":22.7985996086}]
[{"$f":"YT_ALL!A14","v":"Зовнішній борг"},{"$f":"YT_ALL!B14/DMLMLR","v":37.474653315770006},{"$f":"YT_ALL!C14/DMLMLR","v":38.658841419490003},{"$f":"YT_ALL!D14/DMLMLR","v":37.620148314780003},{"$f":"YT_ALL!E14/DMLMLR","v":38.809280275120003},{"$f":"YT_ALL!F14/DMLMLR","v":43.445441785930001},{"$f":"YT_ALL!G14/DMLMLR","v":44.196601307440005}]
[]
[null,null,null,null,null,null,"%"]
[null,{"$f":"YT_ALL!B17","v":"2011-12-31"},{"$f":"YT_ALL!C17","v":"2012-12-31"},{"$f":"YT_ALL!D17","v":"2013-12-31"},{"$f":"YT_ALL!E17","v":"2014-12-31"},{"$f":"YT_ALL!F17","v":"2015-12-31"},{"$f":"YT_ALL!G17","v":"2016-07-31"}]
["Загальна сума державного та гарантованого державою боргу",{"$f":"SUM(B$19+ B$20)","v":1},1,1,1,1,1]
[{"$f":"YT_ALL!A19","v":"Внутрішній борг"},{"$f":"YT_ALL!B19","v":0.36723499999999998},{"$f":"YT_ALL!C19","v":0.40059400000000001},{"$f":"YT_ALL!D19","v":0.48579899999999998},{"$f":"YT_ALL!E19","v":0.44408799999999998},{"$f":"YT_ALL!F19","v":0.33676800000000001},{"$f":"YT_ALL!G19","v":0.34030199999999999}]
[{"$f":"YT_ALL!A20","v":"Зовнішній борг"},{"$f":"YT_ALL!B20","v":0.63276500000000002},{"$f":"YT_ALL!C20","v":0.59940599999999999},{"$f":"YT_ALL!D20","v":0.51420100000000002},{"$f":"YT_ALL!E20","v":0.55591199999999996},{"$f":"YT_ALL!F20","v":0.66323200000000004},{"$f":"YT_ALL!G20","v":0.65969800000000001}]

{"sheet":"YKM_ALL","index":46,"n_rows":20,"n_cols":7,"rows_kept":20,"cut":false,"hidden":true,"merged":[[1,0,1,6]]}
[]
["Державний та гарантований державою борг України за останні 5 років"]
[]
[null,null,null,null,null,null,"млрд. грн."]
[null,{"$f":"YT_ALL!B5","v":"2011-12-31"},{"$f":"YT_ALL!C5","v":"2012-12-31"},{"$f":"YT_ALL!D5","v":"2013-12-31"},{"$f":"YT_ALL!E5","v":"2014-12-31"},{"$f":"YT_ALL!F5","v":"2015-12-31"},{"$f":"YT_ALL!G5","v":"2016-07-31"}]
["Загальна сума державного та гарантованого державою боргу",{"$f":"SUM(B$7+ B$8)","v":473.18518455821004},515.51083307650003,584.78657094876996,1100.8332167026401,1572.1801589904999,1661.3606593371701]
[{"$f":"YK_ALL!A7","v":"Державний борг"},{"$f":"YK_ALL!B7/DMLMLR","v":357.27386718598001},{"$f":"YK_ALL!C7/DMLMLR","v":399.21823411787},{"$f":"YK_ALL!D7/DMLMLR","v":480.21862943662001},{"$f":"YK_ALL!E7/DMLMLR","v":947.03046914465006},{"$f":"YK_ALL!F7/DMLMLR","v":1334.2716012912799},{"$f":"YK_ALL!G7/DMLMLR","v":1427.3607607313002}]
[{"$f":"YK_ALL!A8","v":"Гарантований державою борг"},{"$f":"YK_ALL!B8/DMLMLR","v":115.91131737223},{"$f":"YK_ALL!C8/DMLMLR","v":116.29259895862999},{"$f":"YK_ALL!D8/DMLMLR","v":104.56794151215},{"$f":"YK_ALL!E8/DMLMLR","v":153.80274755798999},{"$f":"YK_ALL!F8/DMLMLR","v":237.90855769921998},{"$f":"YK_ALL!G8/DMLMLR","v":233.99989860586999}]
[]
[null,null,null,null,null,null,"млрд. дол.США"]
[null,{"$f":"YT_ALL!B11","v":"2011-12-31"},{"$f":"YT_ALL!C11","v":"2012-12-31"},{"$f":"YT_ALL!D11","v":"2013-12-31"},{"$f":"YT_ALL!E11","v":"2014-12-31"},{"$f":"YT_ALL!F11","v":"2015-12-31"},{"$f":"YT_ALL!G11","v":"2016-07-31"}]
["Загальна сума державного та гарантованого державою боргу",{"$f":"SUM(B$13+ B$14)","v":59.223658234119995},64.495287511390003,73.16233841495,69.811922962929998,65.505686112320006,66.995200916040005]
[{"$f":"YK_ALL!A13","v":"Державний борг"},{"$f":"YK_ALL!B13/DMLMLR","v":44.716246612729996},{"$f":"YK_ALL!C13/DMLMLR","v":49.945981999040001},{"$f":"YK_ALL!D13/DMLMLR","v":60.079898590879999},{"$f":"YK_ALL!E13/DMLMLR","v":60.058160629949995},{"$f":"YK_ALL!F13/DMLMLR","v":55.593105028709999},{"$f":"YK_ALL!G13/DMLMLR","v":57.559037772720004}]
[{"$f":"YK_ALL!A14","v":"Гарантований державою борг"},{"$f":"YK_ALL!B14/DMLMLR","v":14.50741162139},{"$f":"YK_ALL!C14/DMLMLR","v":14.549305512349999},{"$f":"YK_ALL!D14/DMLMLR","v":13.082439824069999},{"$f":"YK_ALL!E14/DMLMLR","v":9.7537623329800009},{"$f":"YK_ALL!F14/DMLMLR","v":9.9125810836100001},{"$f":"YK_ALL!G14/DMLMLR","v":9.4361631433199999}]
[]
[null,null,null,null,null,null,"%"]
[null,{"$f":"YT_ALL!B17","v":"2011-12-31"},{"$f":"YT_ALL!C17","v":"2012-12-31"},{"$f":"YT_ALL!D17","v":"2013-12-31"},{"$f":"YT_ALL!E17","v":"2014-12-31"},{"$f":"YT_ALL!F17","v":"2015-12-31"},{"$f":"YT_ALL!G17","v":"2016-07-31"}]
["Загальна сума державного та гарантованого державою боргу",{"$f":"SUM(B$19+ B$20)","v":1},1,1,1,1,1]
[{"$f":"YK_ALL!A19","v":"Державний борг"},{"$f":"YK_ALL!B19","v":0.75504000000000004},{"$f":"YK_ALL!C19","v":0.77441300000000002},{"$f":"YK_ALL!D19","v":0.82118599999999997},{"$f":"YK_ALL!E19","v":0.86028499999999997},{"$f":"YK_ALL!F19","v":0.84867599999999999},{"$f":"YK_ALL!G19","v":0.85915200000000003}]
[{"$f":"YK_ALL!A20","v":"Гарантований державою борг"},{"$f":"YK_ALL!B20","v":0.24496000000000001},{"$f":"YK_ALL!C20","v":0.22558700000000001},{"$f":"YK_ALL!D20","v":0.178814},{"$f":"YK_ALL!E20","v":0.13971500000000001},{"$f":"YK_ALL!F20","v":0.15132399999999999},{"$f":"YK_ALL!G20","v":0.140848}]

{"sheet":"YK_ALL","index":47,"n_rows":20,"n_cols":7,"rows_kept":20,"cut":false,"hidden":true,"merged":[[1,0,1,6]]}
[]
["Державний та гарантований державою борг України за останні 5 років"]
[]
[null,null,null,null,null,null,{"$f":"VALUAH","v":"млн. грн"}]
[null,"2011-12-31","2012-12-31","2013-12-31","2014-12-31","2015-12-31","2016-07-31"]
["Загальна сума державного та гарантованого державою боргу",{"$f":"SUM(B$7+ B$8)","v":473185.18455821002},515510.83307649998,584786.57094877004,1100833.2167026401,1572180.1589905,1661360.6593371702]
["Державний борг",357273.86718598002,399218.23411786999,480218.62943661999,947030.46914465004,1334271.60129128,1427360.7607313001]
["Гарантований державою борг",115911.31737223,116292.59895863,104567.94151215001,153802.74755798999,237908.55769921999,233999.89860587]
[]
[null,null,null,null,null,null,{"$f":"VALUSD","v":"млн. дол. США"}]
[null,"2011-12-31","2012-12-31","2013-12-31","2014-12-31","2015-12-31","2016-07-31"]
["Загальна сума державного та гарантованого державою боргу",{"$f":"SUM(B$13+ B$14)","v":59223.658234119997},64495.287511390001,73162.338414950005,69811.922962929995,65505.68611232,66995.200916040005]
["Державний борг",44716.246612729999,49945.981999039999,60079.898590880002,60058.160629949998,55593.105028710001,57559.037772720003]
["Гарантований державою борг",14507.41162139,14549.30551235,13082.439824069999,9753.7623329800008,9912.5810836100009,9436.16314332]
[]
[null,null,null,null,null,null,"%"]
[null,"2011-12-31","2012-12-31","2013-12-31","2014-12-31","2015-12-31","2016-07-31"]
["Загальна сума державного та гарантованого державою боргу",{"$f":"SUM(B$19+ B$20)","v":1},1,1,1,1,1]
["Державний борг",0.75504000000000004,0.77441300000000002,0.82118599999999997,0.86028499999999997,0.84867599999999999,0.85915200000000003]
["Гарантований державою борг",0.24496000000000001,0.22558700000000001,0.178814,0.13971500000000001,0.15132399999999999,0.140848]

{"sheet":"YKT2_UAH","index":48,"n_rows":113,"n_cols":7,"rows_kept":113,"cut":false,"hidden":false,"merged":[[1,0,1,6]]}
[]
["Державний та гарантований державою борг України за останні 5 років"]
[]
[null,null,null,null,null,null,{"$f":"VALUAH","v":"млн. грн"}]
[null,"2011-12-31","2012-12-31","2013-12-31","2014-12-31","2015-12-31","2016-07-31"]
["Загальна сума державного та гарантованого державою боргу",{"$f":"B$7+B$65","v":473185.18455820996},515510.83307649998,584786.57094877004,1100833.2167026401,1572180.1589905,1661360.90731921]
["Державний борг",{"$f":"B$8+B$33","v":357273.86718597997},399218.23411786999,480218.62943661999,947030.46914465004,1334271.60129128,1427361.0087133399]
["Внутрішній борг",{"$f":"B$9+B$31","v":161467.00626482},190299.29770604,256959.57565806,461003.62280238996,508001.12311178993,545076.03932753997]
["1. Заборгованість за випущеними цінними паперами на внутрішньому ринку",{"$f":"SUM(B$10:B$30)","v":158292.9457248},187257.48968850001,254050.02016300001,458226.31982980995,505356.07266168995,542497.11513867998]
["Казначейські зобов'язання",0,826.23241350000001,1598.6,88.426000000000002,98.638000000000005,0]
["ОВДП (1 - місячні)",0,0,2360.9777949999998,0,0,0]
["ОВДП (10 - річні)",15412.189,15412.189,15742.189,50254.464999999997,60558.463000000003,60558.463000000003]
["ОВДП (11 - річні)",3849.9810000000002,3849.9810000000002,3849.9810000000002,3849.9810000000002,38882.981,38882.981]
["ОВДП (12 - місячні)",4628.7530951999997,14392.811129,2958.7168000000001,7337.8894799999998,8283.7102117199993,2704.57]
["ОВДП (12 - річні)",1500,1500,1500,1500,1500,1500]
["ОВДП (13 - річні)",0,0,0,2617.63,2617.63,2617.63]
["ОВДП (14 - річні)",0,0,0,3250,3250,3250]
["ОВДП (15 - річні)",0,0,0,15848.84,15848.84,15848.84]
["ОВДП (18 - місячні)",2100,5709.0358230000002,2803.4248550000002,769.31632000000002,1048.92516,18735.489489669999]
["ОВДП (2 - річні)",6544.268,11078.361602000001,20370.806240999998,40907.373574390003,21910.342336000002,49252.235186359998]
["ОВДП (3 - місячні)",650,0,0,0,0,416]
["ОВДП (3 - річні)",28905.563999999998,28454.277420999999,34656.496490999998,46585.054805569998,43377.236129329998,34859.323853579997]
["ОВДП (4 - річні)",1598.269,1598.269,6518.1647000000003,2922.1828599999999,3845.1067200000002,3972.7126400000002]
["ОВДП (5 - річні)",27440.7484,32665.693299999999,75317.385280999995,131379.77278984999,160233.81210464,161025.66496907]
["ОВДП (6 - місячні)",2065.2246255999999,0,553.79,170,0,1086.73]
["ОВДП (6 - річні)",9500,9500,9500,27100,27100,24100]
["ОВДП (7 - річні)",24539.001,33095.042000000001,47143.891000000003,54624.790999999997,48624.790999999997,41039.790999999997]
["ОВДП (8 - річні)",14301.198,14301.198,14301.198,31301.198,31301.198,31301.198]
["ОВДП (9 - місячні)",383.35060399999998,0,0,845,0,196.56700000000001]
["ОВДП (9 - річні)",14874.398999999999,14874.398999999999,14874.398999999999,36874.398999999998,36874.398999999998,51148.919000000002]
["2. Заборгованість перед банківськими та іншими фінансовими установами",{"$f":"SUM(B$32:B$32)","v":3174.0605400200002},3041.80801754,2909.5554950599999,2777.3029725800002,2645.0504501,2578.92418886]
["Національний банк України",3174.0605400200002,3041.80801754,2909.5554950599999,2777.3029725800002,2645.0504501,2578.92418886]
["Зовнішній борг",{"$f":"B$34+B$41+B$49+B$52+B$63","v":195806.86092116},208918.93641182999,223259.05377855999,486026.84634226002,826270.47817949008,882284.96938579995]
["1. Заборгованість за позиками, одержаними від міжнародних фінансових організацій",{"$f":"SUM(B$35:B$40)","v":84344.831914139999},80097.203051980003,61903.650087089998,169089.90330626004,337449.29111161997,348620.08955850999]
["Європейське Співтовариство",0,0,0,26156.75488,57953.115089999999,60777.669679999999]
["Європейський банк реконструкції та розвитку",3553.4168591900002,4266.7356564000002,4766.6457536099997,9368.9811106899997,13990.69907051,14952.852717010001]
["Європейський Інвестиційний Банк",2059.6106,3203.3002879999999,4283.1345544100004,7652.9919443500003,12530.14511808,13306.541820889999]
["Міжнародний банк реконструкції та розвитку",24084.69396995,24233.517043200001,24539.548446559998,68318.982284140002,124747.12580343999,126362.52169738]
["Міжнародний Валютний Фонд",54647.110484999997,48393.650064380003,28314.321332510001,57585.097236879999,128207.69715962,133199.31326793]
["Фонд чистих технологій (МБРР)",0,0,0,7.0958502000000001,20.508869969999999,21.190375299999999]
["2. Заборгованість за позиками, одержаними від органів управління іноземних держав",{"$f":"SUM(B$42:B$48)","v":10720.93919981},9099.5013746799996,7278.9285748700013,16372.261708800001,32708.527153449999,43789.79769721]
["Італія",166.89049965999999,84.649745980000006,0,0,0,0]
["Канада",0,0,0,2712.1071999999999,6914.0144,7537.1588000000002]
["Німеччина",822.06375946000003,481.92545175999999,106.48884857,134.63035600000001,5428.1877029999996,5692.7500559999999]
["Росія",7183.6760002299998,6405.2373889800001,5623.9216389800004,9553.4720563400006,14540.944745860001,15024.137210880001]
["США",434.65931986999999,264.86239852,94.891391319999997,164.73260006000001,216.53395599999999,223.72933276000001]
["Франція",43.393483029999999,22.20053566,0,0,0,0]
["Японія",2070.2561375599998,1840.6258537799999,1453.626696,3807.3194963999999,5608.8463485900002,15312.02229757]
["3. Заборгованість за позиками, одержаними від іноземних комерційних банків, інших іноземних фінансових установ",{"$f":"SUM(B$50:B$51)","v":15980.12653121},0.53875717000000001,0.56454459999999995,0.98336319999999999,1.3407676100000001,1.4061147599999999]
["Chase Manhattan Bank Luxembourg S.A.",0.52653121000000003,0.53875717000000001,0.56454459999999995,0.98336319999999999,1.3407676100000001,1.4061147599999999]
["JSC VTB Bank",15979.6,0,0,0,0,0]
["4. Заборгованість за випущеними цінними паперами на зовнішньому ринку",{"$f":"SUM(B$53:B$62)","v":69697.741800000003},104636.2032,138909.068,272509.34659999999,415269.93272281002,447442.17817932001]
["ОЗДП 2003 року",7989.8,7993,0,0,0,0]
["ОЗДП 2005 року",6178.8317999999999,6322.3032000000003,6624.9179999999997,11539.7448,0,0]
["ОЗДП 2006 року",7989.8,7993,7993,15768.556,0,0]
["ОЗДП 2007 року",9587.76,5595.1,5595.1,11037.9892,0,0]
["ОЗДП 2010 року",15979.6,15986,15986,31537.112000000001,0,0]
["ОЗДП 2011 року",21971.95,21980.75,21980.75,43363.529000000002,0,0]
["ОЗДП 2012 року",0,38766.050000000003,46759.05,76477.496599999999,0,0]
["ОЗДП 2013 року",0,0,33970.25,67016.362999999998,72002.001000000004,74394.611999999994]
["ОЗДП 2014 року",0,0,0,15768.556,24000.667000000001,24798.204000000002]
["ОЗДП 2015 року",0,0,0,0,319267.26472281001,348249.36217932001]
["5. Заборгованість, не віднесена до інших категорій",{"$f":"SUM(B$64:B$64)","v":15063.221476000001},15085.490028,15166.842572,28054.351363999998,40841.386423999997,42431.497836000002]
["Міжнародний Валютний Фонд",15063.221476000001,15085.490028,15166.842572,28054.351363999998,40841.386423999997,42431.497836000002]
["Гарантований державою борг",{"$f":"B$66+B$86","v":115911.31737223001},116292.59895863,104567.94151215001,153802.74755798999,237908.55769921996,233999.89860587]
["Внутрішній борг",{"$f":"B$67+B$80+B$84","v":12303.193230819999},16211.41590439,27129.14981069,27863.284562589997,21459.454905539998,20288.53266266]
["1. Заборгованість за випущеними цінними паперами на внутрішньому ринку",{"$f":"SUM(B$68:B$79)","v":5812.98205082},9971.2047243899997,21135.767983260001,21567.011599999998,16400.011599999998,16200.0116]
["Векселі Укравтодору",1619.56445082,1567.7871243899999,999.85038325999994,0,0,0]
["Державні цінні папери",1.1599999999999999E-2,1.1599999999999999E-2,1.1599999999999999E-2,1.1599999999999999E-2,1.1599999999999999E-2,1.1599999999999999E-2]
["Облігації ДІУ (10 - річні)",0,0,0,1000,1000,1000]
["Облігації ДІУ (5 - річні)",1607.5,1817.5,1800,3000,3000,3000]
["Облігації ДІУ (7 - річні)",400,400,1400,3200,3200,3000]
["Облігації ДП КАЗ \"Авіант\" (5 - річні)",578.90599999999995,578.90599999999995,578.90599999999995,0,0,0]
["Облігації НАК \"Нафтогаз України\" (3 - річні)",0,0,4800,4800,4800,4800]
["Облігації Укравтодору (12 - місячні)",0,0,1550,0,0,0]
["Облігації Укравтодору (3 - річні)",0,4000,4250,4250,250,250]
["Облігації Укравтодору (5 - річні)",0,0,4150,4150,4150,4150]
["Облігації ХДАВП (5 - річні)",880,880,880,440,0,0]
["Облігації ХДАВП (6 - річні)",727,727,727,727,0,0]
["2. Заборгованість перед банківськими та іншими фінансовими установами",{"$f":"SUM(B$81:B$83)","v":6489.2565299999997},6239.2565299999997,5992.4271774299996,6295.3183125900005,5058.4886555400008,4087.56641266]
["ВАТ \"Державний експортно-імпортний банк України\"",2100,2100,2100,2100,1050,525]
["ВАТ \"Державний ощадний банк України\"",4389.2565299999997,4139.2565299999997,3892.42717743,4009.8623181500002,3859.8623181500002,3441.56231815]
["ПАТ АБ \"Укргазбанк\"",0,0,0,185.45599444000001,148.62633739,121.00409451]
["3. Заборгованість, не віднесена до інших категорій",{"$f":"SUM(B$85:B$85)","v":0.95465},0.95465,0.95465,0.95465,0.95465,0.95465]
["Інші кредитори",0.95465,0.95465,0.95465,0.95465,0.95465,0.95465]
["Зовнішній борг",{"$f":"B$87+B$93+B$95+B$108+B$112","v":103608.12414141001},100081.18305424,77438.79170146001,125939.46299539998,216449.10279367998,213711.36594321]
["1. Заборгованість за позиками, одержаними від міжнародних фінансових організацій",{"$f":"SUM(B$88:B$92)","v":61533.96681351},40557.833932560003,16225.621553159999,40110.556680459995,140833.80311661999,150013.97229522999]
["Європейське співтоватиство з атомної енергії",443.25408397000001,379.4576859,318.37813165,451.45045025000002,456.63837268999998,393.43652367999999]
["Європейський банк реконструкції та розвитку",1010.01266708,904.24261813999999,782.19066155999997,1392.50725657,3050.1432933199999,5772.5626011599998]
["Європейський Інвестиційний Банк",0,0,0,0,0,275.01208000000003]
["Міжнародний банк реконструкції та розвитку",1262.9907974600001,1483.62980227,1948.24073307,5807.7372910499998,9418.9829975699995,10684.97338883]
["Міжнародний Валютний Фонд",58817.709264999998,37790.503826250002,13176.812026879999,32458.861682589999,127908.03845304,132887.98770155999]
["2. Заборгованість за позиками, одержаними від органів управління іноземних держав",{"$f":"SUM(B$94:B$94)","v":1522.80442569},1980.9336450799999,1980.9336450799999,3842.7124724099999,4679.0669948200002,3625.9135376700001]
["Канада",1522.80442569,1980.9336450799999,1980.9336450799999,3842.7124724099999,4679.0669948200002,3625.9135376700001]
["3. Заборгованість за позиками, одержаними від іноземних комерційних банків, інших іноземних фінансових установ",{"$f":"SUM(B$96:B$107)","v":16757.29481128},29341.600836519996,31026.026400319999,51616.024108979997,68227.550551149994,57257.338621809999]
["Aquasafety Invest plc",514.90264999999999,351.23906314999999,184.02549264000001,0,0,0]
["Citibank, N.A. London",1921.52493415,1572.9139272,1236.1506707799999,1435.4757070400001,978.60044465999999,0]
["Credit Suisse First Boston International",1198.47,1198.95,1198.95,0,0,0]
["Credit Suisse International",2416.1155199999998,2014.2360000000001,1611.3887999999999,2384.2056671999999,2419.2672336000001,0]
["Deutsche Bank AG London",456.56000684999998,342.55715199000002,228.37143999,225.26511274999999,0,372.32816429000002]
["UniCredit Bank Austria AG",787.80105028000003,716.52769209999997,656.97103135999998,980.87830241999995,1114.48297594,1051.9211996700001]
["VTB Capital PLC",3521.9038399999999,3523.3144000000002,2348.8762773200001,2316.92653698,0,0]
["ВАТ \"Газпромбанк\"",0,0,3996.5,7884.2780000000002,12000.333500000001,12399.102000000001]
["Державний банк розвитку КНР",0,463.04125207999999,679.40499999999997,1340.32726,1729.9680773600001,1627.2581464800001]
["Експортно-імпортний банк Китаю",0,11989.5,12406.12629274,24474.752557250002,37252.00874664,38166.740236110003]
["Експортно-імпортний банк Кореї",858.50400999999999,2085.7733499999999,1825.05168125,3086.1035161499999,3914.35878353,3639.98887526]
["Сбербанк Росії",5081.5128000000004,5083.5479999999998,4654.2097142399998,7487.8114491899996,8818.5307894199996,0]
["4. Заборгованість за випущеними цінними паперами на зовнішньому ринку",{"$f":"SUM(B$109:B$111)","v":22795.035226600001},27200.314880999998,27200.314880999998,28509.549247999999,0,0]
["Облігації ДП \"ФІНІНПРО\" (5 - річні)",0,4396.1499999999996,4396.1499999999996,8672.7057999999997,0,0]
["Облігації ДП \"ФІНІНПРО\" (7 - річні)",10051.1684,10055.194,10055.194,19836.843448,0,0]
["Облігації НАК \"Нафтогаз\" (5 - річні)",12743.8668266,12748.970880999999,12748.970880999999,0,0,0]
["5. Заборгованість, не віднесена до інших категорій",{"$f":"SUM(B$113:B$113)","v":999.02286432999995},1000.49975908,1005.8952219,1860.62048555,2708.68213109,2814.1414884999999]
["Міжнародний Валютний Фонд",999.02286432999995,1000.49975908,1005.8952219,1860.62048555,2708.68213109,2814.1414884999999]

{"sheet":"YKT2_USD","index":49,"n_rows":113,"n_cols":7,"rows_kept":113,"cut":false,"hidden":false,"merged":[[1,0,1,6]]}
[]
["Державний та гарантований державою борг України за останні 5 років"]
[]
[null,null,null,null,null,null,{"$f":"VALUSD","v":"млн. дол. США"}]
[null,"2011-12-31","2012-12-31","2013-12-31","2014-12-31","2015-12-31","2016-07-31"]
["Загальна сума державного та гарантованого державою боргу",{"$f":"B$7+B$65","v":59223.658234119997},64495.287511390001,73162.338414950005,69811.92296293001,65505.686112320007,66995.21091604]
["Державний борг",{"$f":"B$8+B$33","v":44716.246612729999},49945.981999039999,60079.89859088001,60058.160629950005,55593.105028710008,57559.047772720005]
["Внутрішній борг",{"$f":"B$9+B$31","v":20209.142439779996},23808.244427200003,32148.076524250002,29235.627080110004,21166.125221090002,21980.464364610001]
["1. Заборгованість за випущеними цінними паперами на внутрішньому ринку",{"$f":"SUM(B$10:B$30)","v":19811.878360579998},23427.685435890002,31784.063576040004,29059.497891580002,21055.917848520003,21876.467954670003]
["Казначейські зобов'язання",0,103.3695,200,5.6077424000000002,4.1098024500000001,0]
["ОВДП (1 - місячні)",0,0,295.38068247000001,0,0,0]
["ОВДП (10 - річні)",1928.98307843,1928.2108094800001,1969.49693484,3187.0048849599998,2523.1991677199999,2442.0503597500001]
["ОВДП (11 - річні)",481.86199905000001,481.66908545000001,481.66908545000001,244.15558407,1620.07918365,1567.9756888899999]
["ОВДП (12 - місячні)",579.33278619999999,1800.6769834900001,370.16349306000001,465.34948921,345.14499999999998,109.06314021999999]
["ОВДП (12 - річні)",187.73936768999999,187.66420618000001,187.66420618000001,95.126021690000002,62.49826307,60.488251490000003]
["ОВДП (13 - річні)",0,0,0,166.00315209999999,109.06488557,105.55724116]
["ОВДП (14 - річні)",0,0,0,206.10638032,135.41290332,131.05787821999999]
["ОВДП (15 - річні)",0,0,0,1005.09139835,660.34998111000004,639.11241313000005]
["ОВДП (18 - місячні)",262.83511478999998,714.25445051999998,350.73500000000001,48.788000629999999,43.704000389999997,755.51800000000003]
["ОВДП (2 - річні)",819.07782425000005,1386.0079572100001,2548.58078832,2594.2371371499999,912.90555955000002,1986.1210588900001]
["ОВДП (3 - місячні)",81.353725999999995,0,0,0,0,16.775408410000001]
["ОВДП (3 - річні)",3617.8082054699998,3559.8995897999998,4335.8559353399996,2954.3006224400001,1807.33460988,1405.7196986399999]
["ОВДП (4 - річні)",200.03867431,199.95858877000001,815.48413612000002,185.31708674000001,160.20832754,160.2016275]
["ОВДП (5 - річні)",3434.4725024600002,4086.78760164,9422.9182135400006,8331.75674368,6676.2232943400004,6493.4406124500001]
["ОВДП (6 - місячні)",258.48264356999999,0,69.284373830000007,10.780949120000001,0,43.822931699999998]
["ОВДП (6 - річні)",1189.0159954000001,1188.5399724599999,1188.5399724599999,1718.6101251499999,1129.1352861099999,971.8445739]
["ОВДП (7 - річні)",3071.2910210599998,4140.50319029,5898.1472538300004,3464.15936887,2025.9766530700001,1654.9501327099999]
["ОВДП (8 - річні)",1789.9319131899999,1789.21531342,1789.21531342,1985.03895984,1304.18033797,1262.23649099]
["ОВДП (9 - місячні)",47.98,0,0,53.58765889,0,7.9266627500000002]
["ОВДП (9 - річні)",1861.6735087100001,1860.9281871799999,1860.9281871799999,2338.4765859700001,1536.3905927799999,2062.6057838699999]
["2. Заборгованість перед банківськими та іншими фінансовими установами",{"$f":"SUM(B$32:B$32)","v":397.26407920000003},380.55899131000001,364.01294820999999,176.12918852999999,110.20737257,103.99640994000001]
["Національний банк України",397.26407920000003,380.55899131000001,364.01294820999999,176.12918852999999,110.20737257,103.99640994000001]
["Зовнішній борг",{"$f":"B$34+B$41+B$49+B$52+B$63","v":24507.104172949999},26137.737571839996,27931.822066630004,30822.533549840002,34426.979807620002,35578.583408110004]
["1. Заборгованість за позиками, одержаними від міжнародних фінансових організацій",{"$f":"SUM(B$35:B$40)","v":10556.563607870001},10020.918685339999,7744.7329021799997,10723.233205780001,14059.99637889,14058.279767280001]
["Європейське Співтовариство",0,0,0,1658.79202128,2414.6460216999999,2450.88997896]
["Європейський банк реконструкції та розвитку",444.74415620000002,533.80903995999995,596.35252766999997,594.15593354999999,582.92959400999996,602.98127706000002]
["Європейський Інвестиційний Банк",257.77999448999998,400.76320379999999,535.86069740999994,485.33245176999998,522.07487058000004,536.59296540000003]
["Міжнародний банк реконструкції та розвитку",3014.43014468,3031.84249258,3070.1299195000001,4332.6086601799998,5197.6524570499996,5095.6319940499998]
["Міжнародний Валютний Фонд",6839.6093124999998,6054.5039489999999,3542.3897575999999,3651.894139,5341.8389230499997,5371.3290393099996]
["Фонд чистих технологій (МБРР)",0,0,0,0.45,0.85451250000000001,0.85451250000000001]
["2. Заборгованість за позиками, одержаними від органів управління іноземних держав",{"$f":"SUM(B$42:B$48)","v":1341.8282309599999},1138.4338014099999,910.66290189000006,1038.2854149,1362.81742308,1765.84553048]
["Італія",20.88794459,10.59048492,0,0,0,0]
["Канада",0,0,0,171.99464555,288.07592721999998,303.93970466000002]
["Німеччина",102.8891536,60.29343823,13.322763480000001,8.5379001100000007,226.16820203,229.56299802999999]
["Росія",899.10586000000001,801.35586000000001,703.60586000000001,605.85586000000001,605.85586000000001,605.85586000000001]
["США",54.401777250000002,33.136794510000001,11.871811750000001,10.446904590000001,9.0219974300000008,9.0219974300000008]
["Франція",5.4311100400000001,2.77749727,0,0,0,0]
["Японія",259.11238548,230.27972647999999,181.86246666,241.45010464999999,233.69543640000001,617.46497036000005]
["3. Заборгованість за позиками, одержаними від іноземних комерційних банків, інших іноземних фінансових установ",{"$f":"SUM(B$50:B$51)","v":2000.0659004199999},6.7403619999999997E-2,7.0629880000000006E-2,6.2362290000000001E-2,5.5863759999999998E-2,5.6702280000000001E-2]
["Chase Manhattan Bank Luxembourg S.A.",6.5900420000000001E-2,6.7403619999999997E-2,7.0629880000000006E-2,6.2362290000000001E-2,5.5863759999999998E-2,5.6702280000000001E-2]
["JSC VTB Bank",2000,0,0,0,0,0]
["4. Заборгованість за випущеними цінними паперами на зовнішньому ринку",{"$f":"SUM(B$53:B$62)","v":8723.3399834800002},13090.980007509999,17378.839984990002,17281.820009390001,17302.433000000001,18043.330000000002]
["ОЗДП 2003 року",1000,1000,0,0,0,0]
["ОЗДП 2005 року",773.33998348,790.98000750999995,828.83998498999995,731.82000939,0,0]
["ОЗДП 2006 року",1000,1000,1000,1000,0,0]
["ОЗДП 2007 року",1200,700,700,700,0,0]
["ОЗДП 2010 року",2000,2000,2000,2000,0,0]
["ОЗДП 2011 року",2750,2750,2750,2750,0,0]
["ОЗДП 2012 року",0,4850,5850,4850,0,0]
["ОЗДП 2013 року",0,0,4250,4250,3000,3000]
["ОЗДП 2014 року",0,0,0,1000,1000,1000]
["ОЗДП 2015 року",0,0,0,0,13302.433000000001,14043.33]
["5. Заборгованість, не віднесена до інших категорій",{"$f":"SUM(B$64:B$64)","v":1885.30645022},1887.3376739600001,1897.5156476899999,1779.1325574800001,1701.67714189,1711.07140807]
["Міжнародний Валютний Фонд",1885.30645022,1887.3376739600001,1897.5156476899999,1779.1325574800001,1701.67714189,1711.07140807]
["Гарантований державою борг",{"$f":"B$66+B$86","v":14507.411621390002},14549.30551235,13082.439824070001,9753.762332979999,9912.5810836100009,9436.16314332]
["Внутрішній борг",{"$f":"B$67+B$80+B$84","v":1539.8624785700001},2028.2016647,3394.1135759200001,1767.0156076999997,894.11910529999989,818.14524399000004]
["1. Заборгованість за випущеними цінними паперами на внутрішньому ринку",{"$f":"SUM(B$68:B$79)","v":727.55038316000002},1247.49214637,2644.2847472599997,1367.7226754499998,683.31482615999994,653.27358384000001]
["Векселі Укравтодору",202.70400402999999,196.14501741000001,125.09075229,0,0,0]
["Державні цінні папери",1.45185E-3,1.4512699999999999E-3,1.4512699999999999E-3,7.3563999999999997E-4,4.8331999999999997E-4,4.6778E-4]
["Облігації ДІУ (10 - річні)",0,0,0,63.417347790000001,41.665508709999997,40.325500990000002]
["Облігації ДІУ (5 - річні)",201.19402238999999,227.38646333,225.19704759000001,190.25204337,124.99652613000001,120.97650297]
["Облігації ДІУ (7 - річні)",50.063831380000003,50.043788360000001,175.15325915,202.93551296999999,133.32962782999999,120.97650297]
["Облігації ДП КАЗ \"Авіант\" (5 - річні)",72.455630929999998,72.426623300000003,72.426623300000003,0,0,0]
["Облігації НАК \"Нафтогаз України\" (3 - річні)",0,0,600.52545978000001,304.40326937999998,199.99444181999999,193.56240477]
["Облігації Укравтодору (12 - місячні)",0,0,193.91967972,0,0,0]
["Облігації Укравтодору (3 - річні)",0,500.43788314,531.71525083999995,269.52372810999998,10.41637718,10.081375250000001]
["Облігації Укравтодору (5 - річні)",0,0,519.20430376000002,263.18199333000001,172.91186117000001,167.35082911000001]
["Облігації ХДАВП (5 - річні)",110.14042904,110.0963343,110.0963343,27.903633020000001,0,0]
["Облігації ХДАВП (6 - річні)",90.991013539999997,90.954585260000002,90.954585260000002,46.104411839999997,0,0]
["2. Заборгованість перед банківськими та іншими фінансовими установами",{"$f":"SUM(B$81:B$83)","v":812.19261182000002},780.59008257000005,749.70939290000001,399.23239088000003,210.76450316,164.83316341]
["ВАТ \"Державний експортно-імпортний банк України\"",262.83511477000002,262.72988865000002,262.72988865000002,133.17643036000001,43.748784149999999,21.17088802]
["ВАТ \"Державний ощадний банк України\"",549.35749705000001,517.86019392000003,486.97950424999999,254.29483321999999,160.82312705000001,138.78272466999999]
["ПАТ АБ \"Укргазбанк\"",0,0,0,11.7611273,6.1925919599999997,4.8795507200000001]
["3. Заборгованість, не віднесена до інших категорій",{"$f":"SUM(B$85:B$85)","v":0.11948359},0.11943576,0.11943576,6.0541369999999997E-2,3.9775980000000002E-2,3.8496740000000002E-2]
["Інші кредитори",0.11948359,0.11943576,0.11943576,6.0541369999999997E-2,3.9775980000000002E-2,3.8496740000000002E-2]
["Зовнішній борг",{"$f":"B$87+B$93+B$95+B$108+B$112","v":12967.549142820002},12521.10384765,9688.3262481500005,7986.7467252799997,9018.4619783100006,8618.0178993299996]
["1. Заборгованість за позиками, одержаними від міжнародних фінансових організацій",{"$f":"SUM(B$88:B$92)","v":7701.5653474999999},5074.16913957,2029.9789257000002,2543.70512306,5867.9120508099995,6049.3885885899999]
["Європейське співтоватиство з атомної енергії",55.477494299999996,47.473750269999996,39.832119560000002,28.629790209999999,19.026070099999998,15.865524929999999]
["Європейський банк реконструкції та розвитку",126.41275965,113.12931542,97.859459720000004,88.309116990000007,127.08577197,232.7814789]
["Європейський Інвестиційний Банк",0,0,0,0,0,11.0899999]
["Міжнародний банк реконструкції та розвитку",158.07539581,185.61613940999999,243.74336708000001,368.31129565999998,392.44671814999998,430.87690499000001]
["Міжнародний Валютний Фонд",7361.59969774,4727.9499344699998,1648.5439793400001,2058.4549201999998,5329.3534905899996,5358.77467987]
["2. Заборгованість за позиками, одержаними від органів управління іноземних держав",{"$f":"SUM(B$94:B$94)","v":190.59356},247.83356000000001,247.83356000000001,243.69463332000001,194.95570663999999,146.21677996]
["Канада",190.59356,247.83356000000001,247.83356000000001,243.69463332000001,194.95570663999999,146.21677996]
["3. Заборгованість за позиками, одержаними від іноземних комерційних банків, інших іноземних фінансових установ",{"$f":"SUM(B$96:B$107)","v":2097.3359547500004},3670.9121526999998,3881.6497435699998,3273.3513524599998,2842.73560193,2308.9308653899998]
["Aquasafety Invest plc",64.444998620000007,43.94333331,23.023332,0,0,0]
["Citibank, N.A. London",240.49725075999999,196.78642902999999,154.65415623000001,91.034062160000005,40.77388535,0]
["Credit Suisse First Boston International",150,150,150,0,0,0]
["Credit Suisse International",302.39999999999998,252,201.6,151.19999999999999,100.8,0]
["Deutsche Bank AG London",57.142857999999997,42.857143999999998,28.571429999999999,14.285716000000001,0,15.014319759999999]
["UniCredit Bank Austria AG",98.600847369999997,89.644400360000006,82.193298060000004,62.204700440000003,46.435500140000002,42.419249379999997]
["VTB Capital PLC",440.8,440.8,293.866668,146.933336,0,0]
["ВАТ \"Газпромбанк\"",0,0,500,500,500,500]
["Державний банк розвитку КНР",0,57.930846000000003,85,85,72.08,65.62]
["Експортно-імпортний банк Китаю",0,1500,1552.1238949999999,1552.1238949999999,1552.1238949999999,1539.09292125]
["Експортно-імпортний банк Кореї",107.45,260.95,228.33125000000001,195.71250000000001,163.09375,146.78437500000001]
["Сбербанк Росії",636,636,582.28571427999998,474.85714286000001,367.42857143999998,0]
["4. Заборгованість за випущеними цінними паперами на зовнішньому ринку",{"$f":"SUM(B$109:B$111)","v":2853.0169999999998},3403.0169999999998,3403.0169999999998,1808,0,0]
["Облігації ДП \"ФІНІНПРО\" (5 - річні)",0,550,550,550,0,0]
["Облігації ДП \"ФІНІНПРО\" (7 - річні)",1258,1258,1258,1258,0,0]
["Облігації НАК \"Нафтогаз\" (5 - річні)",1595.0170000000001,1595.0170000000001,1595.0170000000001,0,0,0]
["5. Заборгованість, не віднесена до інших категорій",{"$f":"SUM(B$113:B$113)","v":125.03728056999999},125.17199538,125.84701887999999,117.99561644000001,112.85861893000001,113.48166539]
["Міжнародний Валютний Фонд",125.03728056999999,125.17199538,125.84701887999999,117.99561644000001,112.85861893000001,113.48166539]

{"sheet":"KIND_CMP","index":51,"n_rows":9,"n_cols":9,"rows_kept":9,"cut":false,"hidden":true,"merged":[[4,1,4,3],[4,4,4,6],[1,0,1,8],[0,1,0,4]]}
[null,{"$f":"\"Державний та гарантований державою борг України за станом на \" & TEXT(DREPORTDATE,\"dd.MM.yyyy\")","v":"Державний та гарантований державою борг України за станом на 31.07.2016"}]
["Структура боргу за ознакою умовності\nна кінець попереднього року та на звітну дату"]
[]
[null,null,null,null,null,null,null,"тис.одиниць",{"$f":"VALVAL","v":"млн. одиниць"}]
[null,"2015-12-31",null,null,"2016-07-31"]
[null,"дол.США","грн.","%","дол.США","грн.","%","%","Зміна структури"]
["Загальна сума державного та гарантованого державою боргу",{"$f":"SUM(B$8+ B$9)","v":65505.68611232},1572180.1589905,1,66995.200916040005,1661360.6593371702,1,null,{"$f":"SUM(I$8+ I$9)","v":0}]
["Державний борг",55593.105028710001,1334271.60129128,0.84867599999999999,57559.037772720003,1427360.7607313001,0.85915200000000003,1.0475999999999999E-2,-21.4]
["Гарантований державою борг",9912.5810836100009,237908.55769921999,0.15132399999999999,9436.16314332,233999.89860587,0.140848,-1.0475999999999999E-2,21.4]

{"sheet":"DTR","index":53,"n_rows":9,"n_cols":5,"rows_kept":9,"cut":false,"hidden":true,"merged":[[1,0,1,4]]}
[]
["Структура державного та гарантованого державою боргу\nв розрізі термінів погашення"]
[]
[null,null,null,{"$f":"VALVAL","v":"млн. одиниць"}]
[null,"дол.США","грн.","%","FORMAT"]
["Загальна сума державного та гарантованого державою боргу",{"$f":"SUM(B$7+ B$8+ B$9)","v":66995.20091603999},1661360.65933717,1,"3"]
["2016.07.31-2016.12.31",1814.8295409100001,45004.513179900001,2.7088999999999998E-2,"1"]
["2017-2021",31605.774703530002,783766.44867616997,0.47176200000000001,"1"]
["2021-31.12.2060",33574.596671599997,832589.69748109998,0.50114899999999996,"1"]

{"sheet":"DEBT_TERM","index":56,"n_rows":61,"n_cols":10,"rows_kept":61,"cut":false,"hidden":true,"merged":[[2,0,2,4],[4,0,4,4],[3,0,3,7]]}
[]
[]
["Державний та гарантований державою борг України"]
[{"$f":"\" за станом на \" & TEXT(DREPORTDATE,\"dd.MM.yyyy\")","v":" за станом на 31.07.2016"}]
["(в розрізі середнього терміну обігу та середньої ставки)"]
[]
[]
[" ","Середня ставка,\n %","Середній термін обігу, років","Середній термін до погашення, років",{"$f":" \"Сума боргу \" & VALVAL","v":"Сума боргу млн. одиниць"},"IS_CHART_DATA","IS_OVDP","FORMAT"]
["Державний та гарантований державою борг України",34.575000000000003,10.79,8.1300000000000008,1661360659.3399999,0,0,3,{"$f":"IF(A9=\"\",\"\",A9 & \"; \" &B9 & \"%; \"&C9 &\"р.\")","v":"Державний та гарантований державою борг України; 34,575%; 10,79р."},{"$f":"E9","v":1661360659.3399999}]
["    Державний борг",35.814999999999998,10.56,7.89,1427360760.73,0,0,2,"    Державний борг; 35,815%; 10,56р.",1427360760.73]
["      Державний внутрішній борг",83.893000000000001,6.65,4.21,545075791.35000002,1,0,0,"      Державний внутрішній борг; 83,893%; 6,65р.",545075791.35000002]
["         в т.ч. ОВДП",84.268000000000001,6.51,4.13,542496867.15999997,0,0,0,"         в т.ч. ОВДП; 84,268%; 6,51р.",542496867.15999997]
["            ОВДП (1 - місячні)",0,0,0,0,0,1,0,"            ОВДП (1 - місячні); 0%; 0р.",0]
["            ОВДП (10 - річні)",20.100999999999999,9.94,7.07,58128463,0,1,0,"            ОВДП (10 - річні); 20,101%; 9,94р.",58128463]
["            ОВДП (11 - річні)",11.147,11.89,10.47,38882981,0,1,0,"            ОВДП (11 - річні); 11,147%; 11,89р.",38882981]
["            ОВДП (12 - місячні)",0,0.91,0.77,2704570,0,1,0,"            ОВДП (12 - місячні); 0%; 0,91р.",2704570]
["            ОВДП (12 - річні)",9.5,12.43,5.84,1500000,0,1,0,"            ОВДП (12 - річні); 9,5%; 12,43р.",1500000]
["            ОВДП (13 - річні)",12.5,13.46,11.81,2617630,0,1,0,"            ОВДП (13 - річні); 12,5%; 13,46р.",2617630]
["            ОВДП (14 - річні)",12.5,13.96,12.25,3250000,0,1,0,"            ОВДП (14 - річні); 12,5%; 13,96р.",3250000]
["            ОВДП (15 - річні)",7.7430000000000003,11.15,9.48,15848840,0,1,0,"            ОВДП (15 - річні); 7,743%; 11,15р.",15848840]
["            ОВДП (18 - місячні)",7.6159999999999997,1.47,1.07,18735489.489999998,0,1,0,"            ОВДП (18 - місячні); 7,616%; 1,47р.",18735489.489999998]
["            ОВДП (2 - річні)",169.78800000000001,1.98,1.32,49252235.189999998,0,1,0,"            ОВДП (2 - річні); 169,788%; 1,98р.",49252235.189999998]
["            ОВДП (3 - місячні)",0,0.25,0.14000000000000001,416000,0,1,0,"            ОВДП (3 - місячні); 0%; 0,25р.",416000]
["            ОВДП (3 - річні)",385.17200000000003,2.89,1.73,17667218.440000001,0,1,0,"            ОВДП (3 - річні); 385,172%; 2,89р.",17667218.440000001]
["            ОВДП (4 - річні)",0,0,0,0,0,1,0,"            ОВДП (4 - річні); 0%; 0р.",0]
["            ОВДП (5 - річні)",24.452999999999999,4.8,3.09,91724048.900000006,0,1,0,"            ОВДП (5 - річні); 24,453%; 4,8р.",91724048.900000006]
["            ОВДП (6 - місячні)",13.789,0.49,0.23,1086730,0,1,0,"            ОВДП (6 - місячні); 13,789%; 0,49р.",1086730]
["            ОВДП (6 - річні)",14.3,6.42,4.32,17600000,0,1,0,"            ОВДП (6 - річні); 14,3%; 6,42р.",17600000]
["            ОВДП (7 - річні)",13.25,7,4.1399999999999997,9880900,0,1,0,"            ОВДП (7 - річні); 13,25%; 7р.",9880900]
["            ОВДП (7-річні)",0,0,0,0,0,1,0,"            ОВДП (7-річні); 0%; 0р.",0]
["            ОВДП (8 - річні)",11.891,8.08,3.86,30201198,0,1,0,"            ОВДП (8 - річні); 11,891%; 8,08р.",30201198]
["            ОВДП (9 - місячні)",5.1999999999999998E-2,0.75,0.57999999999999996,196567,0,1,0,"            ОВДП (9 - місячні); 0,052%; 0,75р.",196567]
["            ОВДП (9 - річні)",10.052,9.2899999999999991,6.42,50048919,0,1,0,"            ОВДП (9 - річні); 10,052%; 9,29р.",50048919]
["            Казначейські зобов'язання",8,4,0.33,-247.98,0,1,0,"            Казначейські зобов'язання; 8%; 4р.",-247.98]
["            ОВДП (1 - місячні)",0,0,0,0,0,1,0,"            ОВДП (1 - місячні); 0%; 0р.",0]
["            ОВДП (10 - річні)",9.4649999999999999,10.029999999999999,5.35,2430000,0,1,0,"            ОВДП (10 - річні); 9,465%; 10,03р.",2430000]
["            ОВДП (12 - місячні)",0,0,0,0,0,1,0,"            ОВДП (12 - місячні); 0%; 0р.",0]
["            ОВДП (18 - місячні)",0,0,0,0,0,1,0,"            ОВДП (18 - місячні); 0%; 0р.",0]
["            ОВДП (2 - річні)",0,0,0,0,0,1,0,"            ОВДП (2 - річні); 0%; 0р.",0]
["            ОВДП (3 - місячні)",0,0,0,0,0,1,0,"            ОВДП (3 - місячні); 0%; 0р.",0]
["            ОВДП (3 - річні)",788.70100000000002,2.88,0.19,17192105.420000002,0,1,0,"            ОВДП (3 - річні); 788,701%; 2,88р.",17192105.420000002]
["            ОВДП (4 - річні)",744.21500000000003,3.97,0.8,3972712.64,0,1,0,"            ОВДП (4 - річні); 744,215%; 3,97р.",3972712.64]
["            ОВДП (5 - річні)",69.262,4.91,1.52,69301616.069999993,0,1,0,"            ОВДП (5 - річні); 69,262%; 4,91р.",69301616.069999993]
["            ОВДП (6 - місячні)",0,0,0,0,0,1,0,"            ОВДП (6 - місячні); 0%; 0р.",0]
["            ОВДП (6 - річні)",9.5,6.18,1.2,6500000,0,1,0,"            ОВДП (6 - річні); 9,5%; 6,18р.",6500000]
["            ОВДП (7 - річні)",117.744,6.98,3.14,31158891,0,1,0,"            ОВДП (7 - річні); 117,744%; 6,98р.",31158891]
["            ОВДП (8 - річні)",9.5,7.92,2.79,1100000,0,1,0,"            ОВДП (8 - річні); 9,5%; 7,92р.",1100000]
["            ОВДП (9 - місячні)",0,0,0,0,0,1,0,"            ОВДП (9 - місячні); 0%; 0р.",0]
["            ОВДП (9 - річні)",9.5,8.93,3.81,1100000,0,1,0,"            ОВДП (9 - річні); 9,5%; 8,93р.",1100000]
["      Державний зовнішній борг",6.1120000000000001,12.97,10.17,882284969.38999999,1,0,0,"      Державний зовнішній борг; 6,112%; 12,97р.",882284969.38999999]
["         в т.ч. ОЗДП",6.6379999999999999,7.33,6.19,447442178.18000001,0,0,0,"         в т.ч. ОЗДП; 6,638%; 7,33р.",447442178.18000001]
["   Гарантований борг",27.012,12.25,9.5399999999999991,233999898.61000001,0,0,2,"   Гарантований борг; 27,012%; 12,25р.",233999898.61000001]
["      Гарантований внутрішній борг",138.12,6.03,2.48,20288532.66,1,0,0,"      Гарантований внутрішній борг; 138,12%; 6,03р.",20288532.66]
["      Гарантований зовнішній борг",16.463000000000001,12.84,10.210000000000001,213711365.94,1,0,0,null,213711365.94]
["         в т.ч. ОЗДП",null,null,null,null,null,null,null,null,0]
[null,null,null,null,null,null,null,null,null,0]
[null,null,null,null,null,null,null,null,null,0]
[null,null,null,null,null,null,null,null,null,0]
[null,null,null,null,null,null,null,null,null,0]
[null,null,null,null,null,null,null,null,null,0]
[null,null,null,null,null,null,null,null,null,0]

{"sheet":"K_ALL","index":57,"n_rows":2,"n_cols":1,"rows_kept":2,"cut":false,"hidden":true,"merged":[[1,0,1,3]]}
[]
["Державний та гарантований державою борг України за станом на ReportDate \n(за ознакою умовності)"]

{"sheet":"T_ALL","index":58,"n_rows":2,"n_cols":1,"rows_kept":2,"cut":false,"hidden":true,"merged":[[1,0,1,3]]}
[]
["Державний та гарантований державою борг України за станом на ReportDate \n(за типом боргу)"]

{"sheet":"YKT2_PRC","index":59,"n_rows":4,"n_cols":7,"rows_kept":4,"cut":false,"hidden":true,"merged":[[1,0,1,6]]}
[]
["Державний та гарантований державою борг України за останні 5 років"]
[]
[null,null,null,null,null,null,"%"]

{"sheet":"TBL1","index":60,"n_rows":0,"n_cols":0,"rows_kept":0,"cut":false,"hidden":true,"merged":[]}

{"sheet":"DTK2","index":61,"n_rows":88,"n_cols":4,"rows_kept":88,"cut":false,"hidden":false,"merged":[[1,0,1,3],[2,0,2,3]]}
[]
[{"$f":"\"Державний та гарантований державою борг України за станом на \" & TEXT(DREPORTDATE,\"dd.MM.yyyy\")","v":"Державний та гарантований державою борг України за станом на 31.07.2016"}]
["(за типом кредитора)"]
[]
[null,null,null,{"$f":"VALVAL","v":"млн. одиниць"}]
[null,"дол.США","грн.","%"]
["Загальна сума державного та гарантованого державою боргу",{"$f":"B$8+B$47","v":66995.21091604},{"$f":"C$8+C$47","v":1661360.90731921},0.99999899999999997]
["Внутрішній борг",{"$f":"B$9+B$32","v":22798.6096086},{"$f":"C$9+C$32","v":565364.57199019997},{"$f":"D$9+D$32","v":0.34030199999999999}]
["Державний борг",{"$f":"B$10+B$30","v":21980.464364610001},{"$f":"C$10+C$30","v":545076.03932753997},{"$f":"D$10+D$30","v":0.32808900000000002}]
["1. Заборгованість за випущеними цінними паперами на внутрішньому ринку",{"$f":"SUM(B$11:B$29)","v":21876.467954670003},{"$f":"SUM(C$11:C$29)","v":542497.11513867998},0.32653700000000002]
["ОВДП (10 - річні)",2442.0503597500001,60558.463000000003,3.6450999999999997E-2]
["ОВДП (11 - річні)",1567.9756888899999,38882.981,2.3404000000000001E-2]
["ОВДП (12 - місячні)",109.06314021999999,2704.57,1.6280000000000001E-3]
["ОВДП (12 - річні)",60.488251490000003,1500,9.0300000000000005E-4]
["ОВДП (13 - річні)",105.55724116,2617.63,1.5759999999999999E-3]
["ОВДП (14 - річні)",131.05787821999999,3250,1.9559999999999998E-3]
["ОВДП (15 - річні)",639.11241313000005,15848.84,9.5399999999999999E-3]
["ОВДП (18 - місячні)",755.51800000000003,18735.489489669999,1.1277000000000001E-2]
["ОВДП (2 - річні)",1986.1210588900001,49252.235186359998,2.9645999999999999E-2]
["ОВДП (3 - місячні)",16.775408410000001,416,2.5000000000000001E-4]
["ОВДП (3 - річні)",1405.7196986399999,34859.323853579997,2.0982000000000001E-2]
["ОВДП (4 - річні)",160.2016275,3972.7126400000002,2.3909999999999999E-3]
["ОВДП (5 - річні)",6493.4406124500001,161025.66496907,9.6923999999999996E-2]
["ОВДП (6 - місячні)",43.822931699999998,1086.73,6.5399999999999996E-4]
["ОВДП (6 - річні)",971.8445739,24100,1.4506E-2]
["ОВДП (7 - річні)",1654.9501327099999,41039.790999999997,2.4702999999999999E-2]
["ОВДП (8 - річні)",1262.23649099,31301.198,1.8841E-2]
["ОВДП (9 - місячні)",7.9266627500000002,196.56700000000001,1.18E-4]
["ОВДП (9 - річні)",2062.6057838699999,51148.919000000002,3.0786999999999998E-2]
["2. Заборгованість перед банківськими та іншими фінансовими установами",{"$f":"SUM(B$31:B$31)","v":103.99640994000001},2578.92418886,1.552E-3]
["Національний банк України",103.99640994000001,2578.92418886,1.552E-3]
["Гарантований державою борг",{"$f":"B$33+B$41+B$45","v":818.14524399000004},20288.53266266,1.2212999999999998E-2]
["1. Заборгованість за випущеними цінними паперами на внутрішньому ринку",{"$f":"SUM(B$34:B$40)","v":653.27358384000001},16200.0116,9.7509999999999993E-3]
["Державні цінні папери",4.6778E-4,1.1599999999999999E-2,0]
["Облігації ДІУ (10 - річні)",40.325500990000002,1000,6.02E-4]
["Облігації ДІУ (5 - річні)",120.97650297,3000,1.8060000000000001E-3]
["Облігації ДІУ (7 - річні)",120.97650297,3000,1.8060000000000001E-3]
["Облігації НАК \"Нафтогаз України\" (3 - річні)",193.56240477,4800,2.8890000000000001E-3]
["Облігації Укравтодору (3 - річні)",10.081375250000001,250,1.4999999999999999E-4]
["Облігації Укравтодору (5 - річні)",167.35082911000001,4150,2.4979999999999998E-3]
["2. Заборгованість перед банківськими та іншими фінансовими установами",{"$f":"SUM(B$42:B$44)","v":164.83316341},4087.56641266,2.4610000000000001E-3]
["ВАТ \"Державний експортно-імпортний банк України\"",21.17088802,525,3.1599999999999998E-4]
["ВАТ \"Державний ощадний банк України\"",138.78272466999999,3441.56231815,2.0720000000000001E-3]
["ПАТ АБ \"Укргазбанк\"",4.8795507200000001,121.00409451,7.2999999999999999E-5]
["3. Заборгованість, не віднесена до інших категорій",{"$f":"SUM(B$46:B$46)","v":3.8496740000000002E-2},0.95465,9.9999999999999995E-7]
["Інші кредитори",3.8496740000000002E-2,0.95465,9.9999999999999995E-7]
["Зовнішній борг",{"$f":"B$48+B$70","v":44196.601307439996},1095996.3353290099,0.65969699999999998]
["Державний борг",{"$f":"B$49+B$56+B$62+B$64+B$68","v":35578.583408109997},882284.96938579995,0.53106200000000003]
["1. Заборгованість за позиками, одержаними від міжнародних фінансових організацій",{"$f":"SUM(B$50:B$55)","v":14058.279767279999},348620.08955850999,0.20984]
["Європейське Співтовариство",2450.88997896,60777.669679999999,3.6582999999999997E-2]
["Європейський банк реконструкції та розвитку",602.98127706000002,14952.852717010001,8.9999999999999993E-3]
["Європейський Інвестиційний Банк",536.59296540000003,13306.541820889999,8.0090000000000005E-3]
["Міжнародний банк реконструкції та розвитку",5095.6319940499998,126362.52169738,7.6060000000000003E-2]
["Міжнародний Валютний Фонд",5371.3290393099996,133199.31326793,8.0174999999999996E-2]
["Фонд чистих технологій (МБРР)",0.85451250000000001,21.190375299999999,1.2999999999999999E-5]
["2. Заборгованість за позиками, одержаними від органів управління іноземних держав",{"$f":"SUM(B$57:B$61)","v":1765.84553048},43789.79769721,2.6359E-2]
["Канада",303.93970466000002,7537.1588000000002,4.5370000000000002E-3]
["Німеччина",229.56299802999999,5692.7500559999999,3.4269999999999999E-3]
["Росія",605.85586000000001,15024.137210880001,9.0430000000000007E-3]
["США",9.0219974300000008,223.72933276000001,1.35E-4]
["Японія",617.46497036000005,15312.02229757,9.2169999999999995E-3]
["3. Заборгованість за позиками, одержаними від іноземних комерційних банків, інших іноземних фінансових установ",{"$f":"SUM(B$63:B$63)","v":5.6702280000000001E-2},1.4061147599999999,9.9999999999999995E-7]
["Chase Manhattan Bank Luxembourg S.A.",5.6702280000000001E-2,1.4061147599999999,9.9999999999999995E-7]
["4. Заборгованість за випущеними цінними паперами на зовнішньому ринку",{"$f":"SUM(B$65:B$67)","v":18043.330000000002},447442.17817932001,0.26932200000000001]
["ОЗДП 2013 року",3000,74394.611999999994,4.4778999999999999E-2]
["ОЗДП 2014 року",1000,24798.204000000002,1.4926E-2]
["ОЗДП 2015 року",14043.33,348249.36217932001,0.209617]
["5. Заборгованість, не віднесена до інших категорій",{"$f":"SUM(B$69:B$69)","v":1711.07140807},42431.497836000002,2.554E-2]
["Міжнародний Валютний Фонд",1711.07140807,42431.497836000002,2.554E-2]
["Гарантований державою борг",{"$f":"B$71+B$77+B$79+B$86+B$87","v":8618.0178993299996},213711.36594321002,0.128635]
["1. Заборгованість за позиками, одержаними від міжнародних фінансових організацій",{"$f":"SUM(B$72:B$76)","v":6049.3885885899999},150013.97229522999,9.0296000000000001E-2]
["Європейське співтоватиство з атомної енергії",15.865524929999999,393.43652367999999,2.3699999999999999E-4]
["Європейський банк реконструкції та розвитку",232.7814789,5772.5626011599998,3.4749999999999998E-3]
["Європейський Інвестиційний Банк",11.0899999,275.01208000000003,1.66E-4]
["Міжнародний банк реконструкції та розвитку",430.87690499000001,10684.97338883,6.4310000000000001E-3]
["Міжнародний Валютний Фонд",5358.77467987,132887.98770155999,7.9987000000000003E-2]
["2. Заборгованість за позиками, одержаними від органів управління іноземних держав",{"$f":"SUM(B$78:B$78)","v":146.21677996},3625.9135376700001,2.1819999999999999E-3]
["Канада",146.21677996,3625.9135376700001,2.1819999999999999E-3]
["3. Заборгованість за позиками, одержаними від іноземних комерційних банків, інших іноземних фінансових установ",{"$f":"SUM(B$80:B$85)","v":2308.9308653900002},57257.338621810006,3.4463000000000001E-2]
["Deutsche Bank AG London",15.014319759999999,372.32816429000002,2.24E-4]
["UniCredit Bank Austria AG",42.419249379999997,1051.9211996700001,6.3299999999999999E-4]
["ВАТ \"Газпромбанк\"",500,12399.102000000001,7.463E-3]
["Державний банк розвитку КНР",65.62,1627.2581464800001,9.7900000000000005E-4]
["Експортно-імпортний банк Китаю",1539.09292125,38166.740236110003,2.2973E-2]
["Експортно-імпортний банк Кореї",146.78437500000001,3639.98887526,2.1909999999999998E-3]
["4. Заборгованість за випущеними цінними паперами на зовнішньому ринку"]
["5. Заборгованість, не віднесена до інших категорій",{"$f":"SUM(B$88:B$88)","v":113.48166539},2814.1414884999999,1.694E-3]
["Міжнародний Валютний Фонд",113.48166539,2814.1414884999999,1.694E-3]

{"sheet":"DATA","index":62,"n_rows":12,"n_cols":7,"rows_kept":12,"cut":false,"hidden":false,"merged":[]}
["STOP"]
[]
["Дата отчета","2016-07-31",{"$f":"DREPORTDATE","v":"2016-07-31"}]
["Единицы измерения",1000000,{"$f":"IF($B$4=1,\"дол. США\",IF($B$4=1000,\"тис. дол. США\",IF($B$4=1000000,\"млн. дол. США\",IF($B$4=1000000000,\"млрд. дол. США\"))))","v":"млн. дол. США"},{"$f":"IF($B$4=1,\"грн\",IF($B$4=1000,\"тис. грн\",IF($B$4=1000000,\"млн. грн\",IF($B$4=1000000000,\"млрд. грн\"))))","v":"млн. грн"},{"$f":"IF($B$4=1,\"одиниць\",IF($B$4=1000,\"тис. одиниць\",IF($B$4=1000000,\"млн. одиниць\",IF($B$4=1000000000,\"млрд. одиниць\"))))","v":"млн. одиниць"},{"$f":"1000000000/DDELIMER","v":1000},{"$f":"IF($B$4=1,1000000000,IF($B$4=1000,1000000,IF($B$4=1000000,1000,IF($B$4=1000000000,1))))","v":1000}]
["Сессия","f44915a5-a526-43de-b1bc-dc00f01f404c"]
[]
[]
["SHORT"]
[]
[]
[]
[1000000000]

{"sheet":"AVGRATE_DETAIL","index":63,"n_rows":0,"n_cols":0,"rows_kept":0,"cut":false,"hidden":true,"merged":[]}