{"text_format":"1","workbook":"xlsx","n_sheets":62,"sheets":["MK_UAHD","MK_USDD","K_ALLD","T_ALLD","MTK2_UAH","MTK2_USD","DKT2","MKT2_UAH","MKT2_USD","MT_UAHD","MT_USDD","MT_ALL","MTM_ALL","MK_ALL","SRATED","RATED","RATEDS","SRATE_M","SRATE","RATE_M","RATE","RATE_CMP","CURD","CURDS","CUR_M","CUR","CUR_CMP","CUR_M_EXT","CUR_CMP_EXT","DKT1","DKRD","DKR2DSTATE","DKR2DGUAR","DKR","DKR2","YT_ALL_USD_D","YT_ALL_UAH_D","YT_ALL_PER_D","YT_ALL","YTM_ALL_UAH_D","YTM_ALL_USD_D","YTM_ALL","YKM_ALL_UAH_D","YKM_ALL_USD_D","YKM_ALL","YK_ALL","YKT2_UAH","YKT2_USD","KINDD","KIND_CMP","DTRD","DTR","DEBT_TERM1","DEBT_TERM2","DEBT_TERM","K_ALL","T_ALL","YKT2_PRC","TBL1","DTK2","DATA","AVGRATE_DETAIL"],"not_rendered":{"charts":50,"images":0,"macros":1,"external_links":0,"defined_names":77,"comments":0,"pivot_tables":0},"unopened":[{"sheet":"MK_UAHD","index":0,"reason":"not_a_worksheet"},{"sheet":"MK_USDD","index":1,"reason":"not_a_worksheet"},{"sheet":"K_ALLD","index":2,"reason":"not_a_worksheet"},{"sheet":"T_ALLD","index":3,"reason":"not_a_worksheet"},{"sheet":"MT_UAHD","index":9,"reason":"not_a_worksheet"},{"sheet":"MT_USDD","index":10,"reason":"not_a_worksheet"},{"sheet":"SRATED","index":14,"reason":"not_a_worksheet"},{"sheet":"RATED","index":15,"reason":"not_a_worksheet"},{"sheet":"RATEDS","index":16,"reason":"not_a_worksheet"},{"sheet":"CURD","index":22,"reason":"not_a_worksheet"},{"sheet":"CURDS","index":23,"reason":"not_a_worksheet"},{"sheet":"DKRD","index":30,"reason":"not_a_worksheet"},{"sheet":"DKR2DSTATE","index":31,"reason":"not_a_worksheet"},{"sheet":"DKR2DGUAR","index":32,"reason":"not_a_worksheet"},{"sheet":"YT_ALL_USD_D","index":35,"reason":"not_a_worksheet"},{"sheet":"YT_ALL_UAH_D","index":36,"reason":"not_a_worksheet"},{"sheet":"YT_ALL_PER_D","index":37,"reason":"not_a_worksheet"},{"sheet":"YTM_ALL_UAH_D","index":39,"reason":"not_a_worksheet"},{"sheet":"YTM_ALL_USD_D","index":40,"reason":"not_a_worksheet"},{"sheet":"YKM_ALL_UAH_D","index":42,"reason":"not_a_worksheet"},{"sheet":"YKM_ALL_USD_D","index":43,"reason":"not_a_worksheet"},{"sheet":"KINDD","index":48,"reason":"not_a_worksheet"},{"sheet":"DTRD","index":50,"reason":"not_a_worksheet"},{"sheet":"DEBT_TERM1","index":52,"reason":"not_a_worksheet"},{"sheet":"DEBT_TERM2","index":53,"reason":"not_a_worksheet"}],"bounds":{"document_bytes":16777216,"sheet_cells":100000,"rows_first":2000,"rows_last":500,"rows_between":2000,"halvings":0,"cell_chars":16384,"cell_head_chars":4096},"cells_cut":0,"cells_raw":0,"read":"whole","date_system":"1900"}

{"sheet":"MTK2_UAH","index":4,"n_rows":88,"n_cols":3,"rows_kept":88,"cut":false,"hidden":true,"merged":[[1,0,1,2]]}
[]
["Державний та гарантований державою борг України за поточний рік"]
[]
[null,null,{"$f":"VALUAH","v":"млрд. грн"}]
[null,"2016-12-31","2017-01-31"]
["Загальна сума державного та гарантованого державою боргу",{"$f":"B$7+B$44","v":1929.76115227181},1931.0191653930401]
["Внутрішній борг",{"$f":"B$8+B$31","v":689.73000579025006},689.69166730187999]
["Державний борг",{"$f":"B$9+B$29","v":670.64553054187002},670.64001106030003]
["1. Заборгованість за випущеними цінними паперами на внутрішньому ринку",{"$f":"SUM(B$10:B$28)","v":668.13273261425002},668.12721313268003]
["ОВДП (10 - річні)",74.832982999999999,74.832982999999999]
["ОВДП (11 - річні)",17.382981000000001,17.382981000000001]
["ОВДП (12 - місячні)",3.4775700000000001,3.45757]
["ОВДП (12 - річні)",28.5,28.5]
["ОВДП (13 - річні)",37.117629999999998,37.117629999999998]
["ОВДП (14 - річні)",51.25,51.25]
["ОВДП (15 - річні)",42.789838000000003,42.789838000000003]
["ОВДП (18 - місячні)",29.257961406869999,29.180679354790001]
["ОВДП (2 - річні)",64.353439528590002,64.332585217879995]
["ОВДП (3 - місячні)",0.01,0.01]
["ОВДП (3 - річні)",18.462385000000001,19.409305]
["ОВДП (4 - річні)",15.58553728,15.574045760000001]
["ОВДП (5 - річні)",151.56965139879,150.95320780001001]
["ОВДП (6 - місячні)",0.21580099999999999,0.01]
["ОВДП (6 - річні)",24.1,24.1]
["ОВДП (7 - річні)",44.739790999999997,44.739790999999997]
["ОВДП (8 - річні)",27.416198000000001,27.416198000000001]
["ОВДП (9 - місячні)",0.19656699999999999,0.19600000000000001]
["ОВДП (9 - річні)",36.874398999999997,36.874398999999997]
["2. Заборгованість перед банківськими та іншими фінансовими установами",{"$f":"SUM(B$30:B$30)","v":2.5127979276199999},2.5127979276199999]
["Національний банк України",2.5127979276199999,2.5127979276199999]
["Гарантований державою борг",{"$f":"B$32+B$39+B$42","v":19.084475248379999},19.051656241580002]
["1. Заборгованість за випущеними цінними паперами на внутрішньому ринку",{"$f":"SUM(B$33:B$38)","v":15.9500116},15.9500116]
["Державні цінні папери",1.1600000000000001E-5,1.1600000000000001E-5]
["Облігації ДІУ (10 - річні)",1,1]
["Облігації ДІУ (5 - річні)",3,3]
["Облігації ДІУ (7 - річні)",3,3]
["Облігації НАК \"Нафтогаз України\" (3 - річні)",4.8,4.8]
["Облігації Укравтодору (5 - річні)",4.1500000000000004,4.1500000000000004]
["2. Заборгованість перед банківськими та іншими фінансовими установами",{"$f":"SUM(B$40:B$41)","v":3.13350899838},3.1006899915799999]
["ВАТ \"Державний ощадний банк України\"",3.0217123181500001,2.9981007256300001]
["ПАТ АБ \"Укргазбанк\"",0.11179668023,0.10258926594999999]
["3. Заборгованість, не віднесена до інших категорій",{"$f":"SUM(B$43:B$43)","v":9.5465000000000003E-4},9.5465000000000003E-4]
["Інші кредитори",9.5465000000000003E-4,9.5465000000000003E-4]
["Зовнішній борг",{"$f":"B$45+B$68","v":1240.03114648156},1241.3274980911601]
["Державний борг",{"$f":"B$46+B$53+B$59+B$61+B$66","v":980.18775450825001},981.05003373210002]
["1. Заборгованість за позиками, одержаними від міжнародних фінансових організацій",{"$f":"SUM(B$47:B$52)","v":371.84657549031999},373.20922503414999]
["Європейське Співтовариство",62.813954840000001,63.708852350000001]
["Європейський банк реконструкції та розвитку",16.072308696730001,16.53241549242]
["Європейський Інвестиційний Банк",14.522377756999999,14.729275089390001]
["Міжнародний банк реконструкції та розвитку",137.46050651632001,136.11812265442001]
["Міжнародний Валютний Фонд",140.90985268125999,142.05316294169]
["Фонд чистих технологій (МБРР)",6.7574999009999998E-2,6.739650623E-2]
["2. Заборгованість за позиками, одержаними від органів управління іноземних держав",{"$f":"SUM(B$54:B$58)","v":45.647504163770002},46.15063435127]
["Канада",8.0323875999999998,8.2464519999999997]
["Німеччина",5.9832793529500004,6.0685219046799999]
["Росія",16.473740657730001,16.430226878149998]
["США",0.20657140273999999,0.20602576451999999]
["Японія",14.951525150349999,15.19940780392]
["3. Заборгованість за позиками, одержаними від іноземних комерційних банків, інших іноземних фінансових установ",{"$f":"SUM(B$60:B$60)","v":1.453225E-3},1.4739288000000001E-3]
["Chase Manhattan Bank Luxembourg S.A.",1.453225E-3,1.4739288000000001E-3]
["4. Заборгованість за випущеними цінними паперами на зовнішньому ринку",{"$f":"SUM(B$62:B$65)","v":517.80448187716001},516.43675182988]
["ОЗДП 2013 року",81.572574000000003,81.357107999999997]
["ОЗДП 2014 року",27.190857999999999,27.119036000000001]
["ОЗДП 2015 року",381.85019187716,380.84157182988002]
["ОЗДП 2016 року",27.190857999999999,27.119036000000001]
["5. Заборгованість, не віднесена до інших категорій",{"$f":"SUM(B$67:B$67)","v":44.887739752000002},45.251948587999998]
["Міжнародний Валютний Фонд",44.887739752000002,45.251948587999998]
["Гарантований державою борг",{"$f":"B$69+B$75+B$77+B$79+B$86+B$87","v":259.84339197331002},260.27746435905999]
["1. Заборгованість за позиками, одержаними від міжнародних фінансових організацій",{"$f":"SUM(B$70:B$74)","v":190.93506704562},192.50972424922]
["Європейське співтоватиство з атомної енергії",0.29585176270000002,0.29787833735000002]
["Європейський банк реконструкції та розвитку",10.514548582190001,10.699776571419999]
["Європейський Інвестиційний Банк",0.99479114000000002,1.0089637250000001]
["Міжнародний банк реконструкції та розвитку",12.373018988069999,12.39322211466]
["Міжнародний Валютний Фонд",166.75685657266001,168.10988350079]
["2. Заборгованість за позиками, одержаними від органів управління іноземних держав",{"$f":"SUM(B$76:B$76)","v":3.9757597011099999},3.3043817659200001]
["Канада",3.9757597011099999,3.3043817659200001]
["2. Заборгованість перед банківськими та іншими фінансовими установами",{"$f":"SUM(B$78:B$78)","v":0},7.999719E-4]
["ВАТ \"Державний ощадний банк України\"",0,7.999719E-4]
["3. Заборгованість за позиками, одержаними від іноземних комерційних банків, інших іноземних фінансових установ",{"$f":"SUM(B$80:B$85)","v":61.955520879730003},61.461358969419997]
["Deutsche Bank AG London",0.38812792235999999,0.39365750112999998]
["UniCredit Bank Austria AG",0.96636853003000001,0.98013618395000002]
["ВАТ \"Газпромбанк\"",13.595428999999999,13.559518000000001]
["Державний банк розвитку КНР",1.6086111592800001,1.6043621697599999]
["Експортно-імпортний банк Китаю",41.849257070509999,41.385328892479997]
["Експортно-імпортний банк Кореї",3.54772719755,3.5383562221]
["4. Заборгованість за випущеними цінними паперами на зовнішньому ринку"]
["5. Заборгованість, не віднесена до інших категорій",{"$f":"SUM(B$88:B$88)","v":2.9770443468500001},3.0011994026000002]
["Міжнародний Валютний Фонд",2.9770443468500001,3.0011994026000002]

{"sheet":"MTK2_USD","index":5,"n_rows":88,"n_cols":3,"rows_kept":88,"cut":false,"hidden":true,"merged":[[1,0,1,2]]}
[]
["Державний та гарантований державою борг України за поточний рік"]
[]
[null,null,{"$f":"VALUSD","v":"млрд. дол. США"}]
[null,"2016-12-31","2017-01-31"]
["Загальна сума державного та гарантованого державою боргу",{"$f":"B$7+B$44","v":70.970954733159999},71.205302629320002]
["Внутрішній борг",{"$f":"B$8+B$31","v":25.366246471259998},25.432012675669998]
["Державний борг",{"$f":"B$9+B$29","v":24.664375450929999},24.729493004969999]
["1. Заборгованість за випущеними цінними паперами на внутрішньому ринку",{"$f":"SUM(B$10:B$28)","v":24.57196211378},24.636834920529999]
["ОВДП (10 - річні)",2.7521376118899998,2.7594263675100001]
["ОВДП (11 - річні)",0.63929505277999998,0.64098816051999996]
["ОВДП (12 - місячні)",0.12789482406,0.12749605114000001]
["ОВДП (12 - річні)",1.04814640274,1.0509223115599999]
["ОВДП (13 - річні)",1.36507755659,1.3686928252299999]
["ОВДП (14 - річні)",1.8848246715800001,1.8898164374599999]
["ОВДП (15 - річні)",1.57368472887,1.57785247233]
["ОВДП (18 - місячні)",1.076022,1.076022]
["ОВДП (2 - річні)",2.3667307419600001,2.37222979526]
["ОВДП (3 - місячні)",3.6777066999999999E-4,3.6874466999999998E-4]
["ОВДП (3 - річні)",0.67899236573999999,0.71570777810999997]
["ОВДП (4 - річні)",0.57319034508,0.57428463757000003]
["ОВДП (5 - річні)",5.5742871886499996,5.5663190904200004]
["ОВДП (6 - місячні)",7.93652779E-3,3.6874466999999998E-4]
["ОВДП (6 - річні)",0.88632730900000001,0.88867465642999999]
["ОВДП (7 - річні)",1.64539828055,1.6497559500100001]
["ОВДП (8 - річні)",1.00828734425,1.0109576903799999]
["ОВДП (9 - місячні)",7.2291576899999998E-3,7.2273955499999997E-3]
["ОВДП (9 - річні)",1.3561322338899999,1.3597238117099999]
["2. Заборгованість перед банківськими та іншими фінансовими установами",{"$f":"SUM(B$30:B$30)","v":9.2413337149999997E-2},9.2658084439999996E-2]
["Національний банк України",9.2413337149999997E-2,9.2658084439999996E-2]
["Гарантований державою борг",{"$f":"B$32+B$39+B$42","v":0.70187102033000004},0.70251967069999999]
["1. Заборгованість за випущеними цінними паперами на внутрішньому ринку",{"$f":"SUM(B$33:B$38)","v":0.58659464145999995},0.58814817751000004]
["Державні цінні папери",4.2660999999999998E-7,4.2773999999999999E-7]
["Облігації ДІУ (10 - річні)",3.6777066759999998E-2,3.687446707E-2]
["Облігації ДІУ (5 - річні)",0.11033120028,0.11062340121]
["Облігації ДІУ (7 - річні)",0.11033120028,0.11062340121]
["Облігації НАК \"Нафтогаз України\" (3 - річні)",0.17652992045999999,0.17699744193]
["Облігації Укравтодору (5 - річні)",0.15262482707,0.15302903835000001]
["2. Заборгованість перед банківськими та іншими фінансовими установами",{"$f":"SUM(B$40:B$41)","v":0.11524126964},0.11433629098]
["ВАТ \"Державний ощадний банк України\"",0.11112971566,0.11055336648]
["ПАТ АБ \"Укргазбанк\"",4.11155398E-3,3.7829245000000002E-3]
["3. Заборгованість, не віднесена до інших категорій",{"$f":"SUM(B$43:B$43)","v":3.5109230000000001E-5},3.5202210000000001E-5]
["Інші кредитори",3.5109230000000001E-5,3.5202210000000001E-5]
["Зовнішній борг",{"$f":"B$45+B$68","v":45.604708261899994},45.77328995365]
["Державний борг",{"$f":"B$46+B$53+B$59+B$61+B$66","v":36.048430487459996},36.175697164619997]
["1. Заборгованість за позиками, одержаними від міжнародних фінансових організацій",{"$f":"SUM(B$47:B$52)","v":13.67542633227},13.761891279409999]
["Європейське Співтовариство",2.3101130107799999,2.3492299781599999]
["Європейський банк реконструкції та розвитку",0.59109236997000003,0.60962401070000005]
["Європейський Інвестиційний Банк",0.53409045630999996,0.54313416927000002]
["Міжнародний банк реконструкції та розвитку",5.0553942253799997,5.0192832316900002]
["Міжнародний Валютний Фонд",5.1822510595800004,5.2381346793399999]
["Фонд чистих технологій (МБРР)",2.4852102500000002E-3,2.4852102500000002E-3]
["2. Заборгованість за позиками, одержаними від органів управління іноземних держав",{"$f":"SUM(B$54:B$58)","v":1.67878130816},1.7017800467299999]
["Канада",0.29540765501999999,0.30408352274]
["Німеччина",0.22004746421999999,0.22377351113999999]
["Росія",0.60585586000000002,0.60585586000000002]
["США",7.5970902699999997E-3,7.5970902699999997E-3]
["Японія",0.54987323865000004,0.56047006257999998]
["3. Заборгованість за позиками, одержаними від іноземних комерційних банків, інших іноземних фінансових установ",{"$f":"SUM(B$60:B$60)","v":5.3445349999999998E-5},5.4350340000000003E-5]
["Chase Manhattan Bank Luxembourg S.A.",5.3445349999999998E-5,5.4350340000000003E-5]
["4. Заборгованість за випущеними цінними паперами на зовнішньому ринку",{"$f":"SUM(B$62:B$65)","v":19.043329999999997},19.043330000000001]
["ОЗДП 2013 року",3,3]
["ОЗДП 2014 року",1,1]
["ОЗДП 2015 року",14.043329999999999,14.043329999999999]
["ОЗДП 2016 року",1,1]
["5. Заборгованість, не віднесена до інших категорій",{"$f":"SUM(B$67:B$67)","v":1.6508394016800001},1.66864148814]
["Міжнародний Валютний Фонд",1.6508394016800001,1.66864148814]
["Гарантований державою борг",{"$f":"B$69+B$75+B$77+B$79+B$86+B$87","v":9.5562777744399998},9.597592789030001]
["1. Заборгованість за позиками, одержаними від міжнародних фінансових організацій",{"$f":"SUM(B$70:B$74)","v":7.0220317080700001},7.0986934878200003]
["Європейське співтоватиство з атомної енергії",1.088056003E-2,1.0984104939999999E-2]
["Європейський банк реконструкції та розвитку",0.38669425519,0.39454855886000001]
["Європейський Інвестиційний Банк",3.658550017E-2,3.7204999650000001E-2]
["Міжнародний банк реконструкції та розвитку",0.45504334538000002,0.45699346078000003]
["Міжнародний Валютний Фонд",6.1328280473000003,6.1989623635899997]
["2. Заборгованість за позиками, одержаними від органів управління іноземних держав",{"$f":"SUM(B$76:B$76)","v":0.14621677995999999},0.12184731662000001]
["Канада",0.14621677995999999,0.12184731662000001]
["2. Заборгованість перед банківськими та іншими фінансовими установами",{"$f":"SUM(B$78:B$78)","v":0},2.9498540000000002E-5]
["ВАТ \"Державний ощадний банк України\"",0,2.9498540000000002E-5]
["3. Заборгованість за позиками, одержаними від іноземних комерційних банків, інших іноземних фінансових установ",{"$f":"SUM(B$80:B$85)","v":2.2785423277099999},2.2663548575000001]
["Deutsche Bank AG London",1.427420651E-2,1.4515910559999999E-2]
["UniCredit Bank Austria AG",3.5540199949999997E-2,3.6141999440000003E-2]
["ВАТ \"Газпромбанк\"",0.5,0.5]
["Державний банк розвитку КНР",5.9159999999999997E-2,5.9159999999999997E-2]
["Експортно-імпортний банк Китаю",1.53909292125,1.5260619474999999]
["Експортно-імпортний банк Кореї",0.13047500000000001,0.13047500000000001]
["4. Заборгованість за випущеними цінними паперами на зовнішньому ринку"]
["5. Заборгованість, не віднесена до інших категорій",{"$f":"SUM(B$88:B$88)","v":0.1094869587},0.11066762854999999]
["Міжнародний Валютний Фонд",0.1094869587,0.11066762854999999]

{"sheet":"DKT2","index":6,"n_rows":89,"n_cols":4,"rows_kept":89,"cut":false,"hidden":false,"merged":[[1,0,1,3],[2,0,2,3]]}
[]
[{"$f":"\"Державний та гарантований державою борг України за станом на \" & TEXT(DREPORTDATE,\"dd.MM.yyyy\")","v":"Державний та гарантований державою борг України за станом на 31.01.2017"}]
["(за ознакою умовності)"]
[null,"офіційний курс НБУ  27,119036 грн./дол.США"]
[null,null,null,{"$f":"VALVAL","v":"млрд. одиниць"}]
[null,"дол.США","грн.","%"]
["Загальна сума державного та гарантованого державою боргу",{"$f":"B$8+B$55","v":71.205302629320002},1931.0191653930401,1.0000020000000001]
["Державний борг",{"$f":"B$9+B$32","v":60.90519016959},1651.6900447924002,0.85534699999999997]
["Внутрішній борг",{"$f":"B$10+B$30","v":24.729493004969999},670.64001106030003,0.347298]
["1. Заборгованість за випущеними цінними паперами на внутрішньому ринку",{"$f":"SUM(B$11:B$29)","v":24.636834920529999},668.12721313268003,0.345997]
["ОВДП (10 - річні)",2.7594263675100001,74.832982999999999,3.8753000000000003E-2]
["ОВДП (11 - річні)",0.64098816051999996,17.382981000000001,9.0019999999999996E-3]
["ОВДП (12 - місячні)",0.12749605114000001,3.45757,1.7910000000000001E-3]
["ОВДП (12 - річні)",1.0509223115599999,28.5,1.4759E-2]
["ОВДП (13 - річні)",1.3686928252299999,37.117629999999998,1.9222E-2]
["ОВДП (14 - річні)",1.8898164374599999,51.25,2.6540000000000001E-2]
["ОВДП (15 - річні)",1.57785247233,42.789838000000003,2.2159000000000002E-2]
["ОВДП (18 - місячні)",1.076022,29.180679354790001,1.5112E-2]
["ОВДП (2 - річні)",2.37222979526,64.332585217879995,3.3314999999999997E-2]
["ОВДП (3 - місячні)",3.6874466999999998E-4,0.01,5.0000000000000004E-6]
["ОВДП (3 - річні)",0.71570777810999997,19.409305,1.0050999999999999E-2]
["ОВДП (4 - річні)",0.57428463757000003,15.574045760000001,8.0649999999999993E-3]
["ОВДП (5 - річні)",5.5663190904200004,150.95320780001001,7.8173000000000006E-2]
["ОВДП (6 - місячні)",3.6874466999999998E-4,0.01,5.0000000000000004E-6]
["ОВДП (6 - річні)",0.88867465642999999,24.1,1.248E-2]
["ОВДП (7 - річні)",1.6497559500100001,44.739790999999997,2.3168999999999999E-2]
["ОВДП (8 - річні)",1.0109576903799999,27.416198000000001,1.4198000000000001E-2]
["ОВДП (9 - місячні)",7.2273955499999997E-3,0.19600000000000001,1.02E-4]
["ОВДП (9 - річні)",1.3597238117099999,36.874398999999997,1.9095999999999998E-2]
["2. Заборгованість перед банківськими та іншими фінансовими установами",{"$f":"SUM(B$31:B$31)","v":9.2658084439999996E-2},2.5127979276199999,1.3010000000000001E-3]
["Національний банк України",9.2658084439999996E-2,2.5127979276199999,1.3010000000000001E-3]
["Зовнішній борг",{"$f":"B$33+B$40+B$46+B$48+B$53","v":36.175697164619997},981.05003373210013,0.50804899999999997]
["1. Заборгованість за позиками, одержаними від міжнародних фінансових організацій",{"$f":"SUM(B$34:B$39)","v":13.761891279410001},373.20922503414999,0.19327]
["Європейське Співтовариство",2.3492299781599999,63.708852350000001,3.2992E-2]
["Європейський банк реконструкції та розвитку",0.60962401070000005,16.53241549242,8.5609999999999992E-3]
["Європейський Інвестиційний Банк",0.54313416927000002,14.729275089390001,7.6280000000000002E-3]
["Міжнародний банк реконструкції та розвитку",5.0192832316900002,136.11812265442001,7.0489999999999997E-2]
["Міжнародний Валютний Фонд",5.2381346793399999,142.05316294169,7.3564000000000004E-2]
["Фонд чистих технологій (МБРР)",2.4852102500000002E-3,6.739650623E-2,3.4999999999999997E-5]
["2. Заборгованість за позиками, одержаними від органів управління іноземних держав",{"$f":"SUM(B$41:B$45)","v":1.7017800467299997},46.15063435127,2.3900999999999999E-2]
["Канада",0.30408352274,8.2464519999999997,4.2709999999999996E-3]
["Німеччина",0.22377351113999999,6.0685219046799999,3.143E-3]
["Росія",0.60585586000000002,16.430226878149998,8.5089999999999992E-3]
["США",7.5970902699999997E-3,0.20602576451999999,1.07E-4]
["Японія",0.56047006257999998,15.19940780392,7.8709999999999995E-3]
["3. Заборгованість за позиками, одержаними від іноземних комерційних банків, інших іноземних фінансових установ",{"$f":"SUM(B$47:B$47)","v":5.4350340000000003E-5},1.4739288000000001E-3,9.9999999999999995E-7]
["Chase Manhattan Bank Luxembourg S.A.",5.4350340000000003E-5,1.4739288000000001E-3,9.9999999999999995E-7]
["4. Заборгованість за випущеними цінними паперами на зовнішньому ринку",{"$f":"SUM(B$49:B$52)","v":19.043329999999997},516.43675182988011,0.26744299999999999]
["ОЗДП 2013 року",3,81.357107999999997,4.2132000000000003E-2]
["ОЗДП 2014 року",1,27.119036000000001,1.4043999999999999E-2]
["ОЗДП 2015 року",14.043329999999999,380.84157182988002,0.19722300000000001]
["ОЗДП 2016 року",1,27.119036000000001,1.4043999999999999E-2]
["5. Заборгованість, не віднесена до інших категорій",{"$f":"SUM(B$54:B$54)","v":1.66864148814},45.251948587999998,2.3434E-2]
["Міжнародний Валютний Фонд",1.66864148814,45.251948587999998,2.3434E-2]
["Гарантований державою борг",{"$f":"B$56+B$69","v":10.30011245973},279.32912060064001,0.14465500000000001]
["Внутрішній борг",{"$f":"B$57+B$64+B$67","v":0.70251967069999999},19.051656241580002,9.866999999999999E-3]
["1. Заборгованість за випущеними цінними паперами на внутрішньому ринку",{"$f":"SUM(B$58:B$63)","v":0.58814817751000004},15.9500116,8.2609999999999992E-3]
["Державні цінні папери",4.2773999999999999E-7,1.1600000000000001E-5,0]
["Облігації ДІУ (10 - річні)",3.687446707E-2,1,5.1800000000000001E-4]
["Облігації ДІУ (5 - річні)",0.11062340121,3,1.554E-3]
["Облігації ДІУ (7 - річні)",0.11062340121,3,1.554E-3]
["Облігації НАК \"Нафтогаз України\" (3 - річні)",0.17699744193,4.8,2.4859999999999999E-3]
["Облігації Укравтодору (5 - річні)",0.15302903835000001,4.1500000000000004,2.1489999999999999E-3]
["2. Заборгованість перед банківськими та іншими фінансовими установами",{"$f":"SUM(B$65:B$66)","v":0.11433629098},3.1006899915799999,1.606E-3]
["ВАТ \"Державний ощадний банк України\"",0.11055336648,2.9981007256300001,1.5529999999999999E-3]
["ПАТ АБ \"Укргазбанк\"",3.7829245000000002E-3,0.10258926594999999,5.3000000000000001E-5]
["3. Заборгованість, не віднесена до інших категорій",{"$f":"SUM(B$68:B$68)","v":3.5202210000000001E-5},9.5465000000000003E-4,0]
["Інші кредитори",3.5202210000000001E-5,9.5465000000000003E-4,0]
["Зовнішній борг",{"$f":"B$70+B$76+B$78+B$80+B$87+B$88","v":9.597592789030001},260.27746435905999,0.13478800000000002]
["1. Заборгованість за позиками, одержаними від міжнародних фінансових організацій",{"$f":"SUM(B$71:B$75)","v":7.0986934878200003},192.50972424922,9.9694000000000005E-2]
["Європейське співтоватиство з атомної енергії",1.0984104939999999E-2,0.29787833735000002,1.54E-4]
["Європейський банк реконструкції та розвитку",0.39454855886000001,10.699776571419999,5.5409999999999999E-3]
["Європейський Інвестиційний Банк",3.7204999650000001E-2,1.0089637250000001,5.2300000000000003E-4]
["Міжнародний банк реконструкції та розвитку",0.45699346078000003,12.39322211466,6.4180000000000001E-3]
["Міжнародний Валютний Фонд",6.1989623635899997,168.10988350079,8.7057999999999996E-2]
["2. Заборгованість за позиками, одержаними від органів управління іноземних держав",{"$f":"SUM(B$77:B$77)","v":0.12184731662000001},3.3043817659200001,1.7110000000000001E-3]
["Канада",0.12184731662000001,3.3043817659200001,1.7110000000000001E-3]
["2. Заборгованість перед банківськими та іншими фінансовими установами",{"$f":"SUM(B$79:B$79)","v":2.9498540000000002E-5},7.999719E-4,0]
["ВАТ \"Державний ощадний банк України\"",2.9498540000000002E-5,7.999719E-4,0]
["3. Заборгованість за позиками, одержаними від іноземних комерційних банків, інших іноземних фінансових установ",{"$f":"SUM(B$81:B$86)","v":2.2663548575000001},61.461358969419997,3.1829000000000003E-2]
["Deutsche Bank AG London",1.4515910559999999E-2,0.39365750112999998,2.04E-4]
["UniCredit Bank Austria AG",3.6141999440000003E-2,0.98013618395000002,5.0799999999999999E-4]
["ВАТ \"Газпромбанк\"",0.5,13.559518000000001,7.0219999999999996E-3]
["Державний банк розвитку КНР",5.9159999999999997E-2,1.6043621697599999,8.3100000000000003E-4]
["Експортно-імпортний банк Китаю",1.5260619474999999,41.385328892479997,2.1432E-2]
["Експортно-імпортний банк Кореї",0.13047500000000001,3.5383562221,1.8320000000000001E-3]
["4. Заборгованість за випущеними цінними паперами на зовнішньому ринку"]
["5. Заборгованість, не віднесена до інших категорій",{"$f":"SUM(B$89:B$89)","v":0.11066762854999999},3.0011994026000002,1.554E-3]
["Міжнародний Валютний Фонд",0.11066762854999999,3.0011994026000002,1.554E-3]

{"sheet":"MKT2_UAH","index":7,"n_rows":88,"n_cols":3,"rows_kept":88,"cut":false,"hidden":false,"merged":[[1,0,1,2]]}
[]
["Державний та гарантований державою борг України за поточний рік"]
[]
[null,null,{"$f":"VALUAH","v":"млрд. грн"}]
[null,"2016-12-31","2017-01-31"]
["Загальна сума державного та гарантованого державою боргу",{"$f":"B$7+B$54","v":1929.7611522718103},1931.0191653930401]
["Державний борг",{"$f":"B$8+B$31","v":1650.8332850501201},1651.6900447923999]
["Внутрішній борг",{"$f":"B$9+B$29","v":670.64553054187002},670.64001106030003]
["1. Заборгованість за випущеними цінними паперами на внутрішньому ринку",{"$f":"SUM(B$10:B$28)","v":668.13273261425002},668.12721313268003]
["ОВДП (10 - річні)",74.832982999999999,74.832982999999999]
["ОВДП (11 - річні)",17.382981000000001,17.382981000000001]
["ОВДП (12 - місячні)",3.4775700000000001,3.45757]
["ОВДП (12 - річні)",28.5,28.5]
["ОВДП (13 - річні)",37.117629999999998,37.117629999999998]
["ОВДП (14 - річні)",51.25,51.25]
["ОВДП (15 - річні)",42.789838000000003,42.789838000000003]
["ОВДП (18 - місячні)",29.257961406869999,29.180679354790001]
["ОВДП (2 - річні)",64.353439528590002,64.332585217879995]
["ОВДП (3 - місячні)",0.01,0.01]
["ОВДП (3 - річні)",18.462385000000001,19.409305]
["ОВДП (4 - річні)",15.58553728,15.574045760000001]
["ОВДП (5 - річні)",151.56965139879,150.95320780001001]
["ОВДП (6 - місячні)",0.21580099999999999,0.01]
["ОВДП (6 - річні)",24.1,24.1]
["ОВДП (7 - річні)",44.739790999999997,44.739790999999997]
["ОВДП (8 - річні)",27.416198000000001,27.416198000000001]
["ОВДП (9 - місячні)",0.19656699999999999,0.19600000000000001]
["ОВДП (9 - річні)",36.874398999999997,36.874398999999997]
["2. Заборгованість перед банківськими та іншими фінансовими установами",{"$f":"SUM(B$30:B$30)","v":2.5127979276199999},2.5127979276199999]
["Національний банк України",2.5127979276199999,2.5127979276199999]
["Зовнішній борг",{"$f":"B$32+B$39+B$45+B$47+B$52","v":980.18775450825001},981.05003373210002]
["1. Заборгованість за позиками, одержаними від міжнародних фінансових організацій",{"$f":"SUM(B$33:B$38)","v":371.84657549031999},373.20922503414999]
["Європейське Співтовариство",62.813954840000001,63.708852350000001]
["Європейський банк реконструкції та розвитку",16.072308696730001,16.53241549242]
["Європейський Інвестиційний Банк",14.522377756999999,14.729275089390001]
["Міжнародний банк реконструкції та розвитку",137.46050651632001,136.11812265442001]
["Міжнародний Валютний Фонд",140.90985268125999,142.05316294169]
["Фонд чистих технологій (МБРР)",6.7574999009999998E-2,6.739650623E-2]
["2. Заборгованість за позиками, одержаними від органів управління іноземних держав",{"$f":"SUM(B$40:B$44)","v":45.647504163770002},46.15063435127]
["Канада",8.0323875999999998,8.2464519999999997]
["Німеччина",5.9832793529500004,6.0685219046799999]
["Росія",16.473740657730001,16.430226878149998]
["США",0.20657140273999999,0.20602576451999999]
["Японія",14.951525150349999,15.19940780392]
["3. Заборгованість за позиками, одержаними від іноземних комерційних банків, інших іноземних фінансових установ",{"$f":"SUM(B$46:B$46)","v":1.453225E-3},1.4739288000000001E-3]
["Chase Manhattan Bank Luxembourg S.A.",1.453225E-3,1.4739288000000001E-3]
["4. Заборгованість за випущеними цінними паперами на зовнішньому ринку",{"$f":"SUM(B$48:B$51)","v":517.80448187716001},516.43675182988]
["ОЗДП 2013 року",81.572574000000003,81.357107999999997]
["ОЗДП 2014 року",27.190857999999999,27.119036000000001]
["ОЗДП 2015 року",381.85019187716,380.84157182988002]
["ОЗДП 2016 року",27.190857999999999,27.119036000000001]
["5. Заборгованість, не віднесена до інших категорій",{"$f":"SUM(B$53:B$53)","v":44.887739752000002},45.251948587999998]
["Міжнародний Валютний Фонд",44.887739752000002,45.251948587999998]
["Гарантований державою борг",{"$f":"B$55+B$68","v":278.92786722169001},279.32912060064001]
["Внутрішній борг",{"$f":"B$56+B$63+B$66","v":19.084475248379999},19.051656241580002]
["1. Заборгованість за випущеними цінними паперами на внутрішньому ринку",{"$f":"SUM(B$57:B$62)","v":15.9500116},15.9500116]
["Державні цінні папери",1.1600000000000001E-5,1.1600000000000001E-5]
["Облігації ДІУ (10 - річні)",1,1]
["Облігації ДІУ (5 - річні)",3,3]
["Облігації ДІУ (7 - річні)",3,3]
["Облігації НАК \"Нафтогаз України\" (3 - річні)",4.8,4.8]
["Облігації Укравтодору (5 - річні)",4.1500000000000004,4.1500000000000004]
["2. Заборгованість перед банківськими та іншими фінансовими установами",{"$f":"SUM(B$64:B$65)","v":3.13350899838},3.1006899915799999]
["ВАТ \"Державний ощадний банк України\"",3.0217123181500001,2.9981007256300001]
["ПАТ АБ \"Укргазбанк\"",0.11179668023,0.10258926594999999]
["3. Заборгованість, не віднесена до інших категорій",{"$f":"SUM(B$67:B$67)","v":9.5465000000000003E-4},9.5465000000000003E-4]
["Інші кредитори",9.5465000000000003E-4,9.5465000000000003E-4]
["Зовнішній борг",{"$f":"B$69+B$75+B$77+B$79+B$86+B$87","v":259.84339197331002},260.27746435905999]
["1. Заборгованість за позиками, одержаними від міжнародних фінансових організацій",{"$f":"SUM(B$70:B$74)","v":190.93506704562},192.50972424922]
["Європейське співтоватиство з атомної енергії",0.29585176270000002,0.29787833735000002]
["Європейський банк реконструкції та розвитку",10.514548582190001,10.699776571419999]
["Європейський Інвестиційний Банк",0.99479114000000002,1.0089637250000001]
["Міжнародний банк реконструкції та розвитку",12.373018988069999,12.39322211466]
["Міжнародний Валютний Фонд",166.75685657266001,168.10988350079]
["2. Заборгованість за позиками, одержаними від органів управління іноземних держав",{"$f":"SUM(B$76:B$76)","v":3.9757597011099999},3.3043817659200001]
["Канада",3.9757597011099999,3.3043817659200001]
["2. Заборгованість перед банківськими та іншими фінансовими установами",{"$f":"SUM(B$78:B$78)","v":0},7.999719E-4]
["ВАТ \"Державний ощадний банк України\"",0,7.999719E-4]
["3. Заборгованість за позиками, одержаними від іноземних комерційних банків, інших іноземних фінансових установ",{"$f":"SUM(B$80:B$85)","v":61.955520879730003},61.461358969419997]
["Deutsche Bank AG London",0.38812792235999999,0.39365750112999998]
["UniCredit Bank Austria AG",0.96636853003000001,0.98013618395000002]
["ВАТ \"Газпромбанк\"",13.595428999999999,13.559518000000001]
["Державний банк розвитку КНР",1.6086111592800001,1.6043621697599999]
["Експортно-імпортний банк Китаю",41.849257070509999,41.385328892479997]
["Експортно-імпортний банк Кореї",3.54772719755,3.5383562221]
["4. Заборгованість за випущеними цінними паперами на зовнішньому ринку"]
["5. Заборгованість, не віднесена до інших категорій",{"$f":"SUM(B$88:B$88)","v":2.9770443468500001},3.0011994026000002]
["Міжнародний Валютний Фонд",2.9770443468500001,3.0011994026000002]

{"sheet":"MKT2_USD","index":8,"n_rows":88,"n_cols":3,"rows_kept":88,"cut":false,"hidden":false,"merged":[[1,0,1,2]]}
[]
["Державний та гарантований державою борг України за поточний рік"]
[]
[null,null,{"$f":"VALUSD","v":"млрд. дол. США"}]
[null,"2016-12-31","2017-01-31"]
["Загальна сума державного та гарантованого державою боргу",{"$f":"B$7+B$54","v":70.970954733159985},71.205302629320002]
["Державний борг",{"$f":"B$8+B$31","v":60.712805938389991},60.90519016959]
["Внутрішній борг",{"$f":"B$9+B$29","v":24.664375450929999},24.729493004969999]
["1. Заборгованість за випущеними цінними паперами на внутрішньому ринку",{"$f":"SUM(B$10:B$28)","v":24.57196211378},24.636834920529999]
["ОВДП (10 - річні)",2.7521376118899998,2.7594263675100001]
["ОВДП (11 - річні)",0.63929505277999998,0.64098816051999996]
["ОВДП (12 - місячні)",0.12789482406,0.12749605114000001]
["ОВДП (12 - річні)",1.04814640274,1.0509223115599999]
["ОВДП (13 - річні)",1.36507755659,1.3686928252299999]
["ОВДП (14 - річні)",1.8848246715800001,1.8898164374599999]
["ОВДП (15 - річні)",1.57368472887,1.57785247233]
["ОВДП (18 - місячні)",1.076022,1.076022]
["ОВДП (2 - річні)",2.3667307419600001,2.37222979526]
["ОВДП (3 - місячні)",3.6777066999999999E-4,3.6874466999999998E-4]
["ОВДП (3 - річні)",0.67899236573999999,0.71570777810999997]
["ОВДП (4 - річні)",0.57319034508,0.57428463757000003]
["ОВДП (5 - річні)",5.5742871886499996,5.5663190904200004]
["ОВДП (6 - місячні)",7.93652779E-3,3.6874466999999998E-4]
["ОВДП (6 - річні)",0.88632730900000001,0.88867465642999999]
["ОВДП (7 - річні)",1.64539828055,1.6497559500100001]
["ОВДП (8 - річні)",1.00828734425,1.0109576903799999]
["ОВДП (9 - місячні)",7.2291576899999998E-3,7.2273955499999997E-3]
["ОВДП (9 - річні)",1.3561322338899999,1.3597238117099999]
["2. Заборгованість перед банківськими та іншими фінансовими установами",{"$f":"SUM(B$30:B$30)","v":9.2413337149999997E-2},9.2658084439999996E-2]
["Національний банк України",9.2413337149999997E-2,9.2658084439999996E-2]
["Зовнішній борг",{"$f":"B$32+B$39+B$45+B$47+B$52","v":36.048430487459996},36.175697164619997]
["1. Заборгованість за позиками, одержаними від міжнародних фінансових організацій",{"$f":"SUM(B$33:B$38)","v":13.67542633227},13.761891279409999]
["Європейське Співтовариство",2.3101130107799999,2.3492299781599999]
["Європейський банк реконструкції та розвитку",0.59109236997000003,0.60962401070000005]
["Європейський Інвестиційний Банк",0.53409045630999996,0.54313416927000002]
["Міжнародний банк реконструкції та розвитку",5.0553942253799997,5.0192832316900002]
["Міжнародний Валютний Фонд",5.1822510595800004,5.2381346793399999]
["Фонд чистих технологій (МБРР)",2.4852102500000002E-3,2.4852102500000002E-3]
["2. Заборгованість за позиками, одержаними від органів управління іноземних держав",{"$f":"SUM(B$40:B$44)","v":1.67878130816},1.7017800467299999]
["Канада",0.29540765501999999,0.30408352274]
["Німеччина",0.22004746421999999,0.22377351113999999]
["Росія",0.60585586000000002,0.60585586000000002]
["США",7.5970902699999997E-3,7.5970902699999997E-3]
["Японія",0.54987323865000004,0.56047006257999998]
["3. Заборгованість за позиками, одержаними від іноземних комерційних банків, інших іноземних фінансових установ",{"$f":"SUM(B$46:B$46)","v":5.3445349999999998E-5},5.4350340000000003E-5]
["Chase Manhattan Bank Luxembourg S.A.",5.3445349999999998E-5,5.4350340000000003E-5]
["4. Заборгованість за випущеними цінними паперами на зовнішньому ринку",{"$f":"SUM(B$48:B$51)","v":19.043329999999997},19.043330000000001]
["ОЗДП 2013 року",3,3]
["ОЗДП 2014 року",1,1]
["ОЗДП 2015 року",14.043329999999999,14.043329999999999]
["ОЗДП 2016 року",1,1]
["5. Заборгованість, не віднесена до інших категорій",{"$f":"SUM(B$53:B$53)","v":1.6508394016800001},1.66864148814]
["Міжнародний Валютний Фонд",1.6508394016800001,1.66864148814]
["Гарантований державою борг",{"$f":"B$55+B$68","v":10.258148794769999},10.30011245973]
["Внутрішній борг",{"$f":"B$56+B$63+B$66","v":0.70187102033000004},0.70251967069999999]
["1. Заборгованість за випущеними цінними паперами на внутрішньому ринку",{"$f":"SUM(B$57:B$62)","v":0.58659464145999995},0.58814817751000004]
["Державні цінні папери",4.2660999999999998E-7,4.2773999999999999E-7]
["Облігації ДІУ (10 - річні)",3.6777066759999998E-2,3.687446707E-2]
["Облігації ДІУ (5 - річні)",0.11033120028,0.11062340121]
["Облігації ДІУ (7 - річні)",0.11033120028,0.11062340121]
["Облігації НАК \"Нафтогаз України\" (3 - річні)",0.17652992045999999,0.17699744193]
["Облігації Укравтодору (5 - річні)",0.15262482707,0.15302903835000001]
["2. Заборгованість перед банківськими та іншими фінансовими установами",{"$f":"SUM(B$64:B$65)","v":0.11524126964},0.11433629098]
["ВАТ \"Державний ощадний банк України\"",0.11112971566,0.11055336648]
["ПАТ АБ \"Укргазбанк\"",4.11155398E-3,3.7829245000000002E-3]
["3. Заборгованість, не віднесена до інших категорій",{"$f":"SUM(B$67:B$67)","v":3.5109230000000001E-5},3.5202210000000001E-5]
["Інші кредитори",3.5109230000000001E-5,3.5202210000000001E-5]
["Зовнішній борг",{"$f":"B$69+B$75+B$77+B$79+B$86+B$87","v":9.5562777744399998},9.597592789030001]
["1. Заборгованість за позиками, одержаними від міжнародних фінансових організацій",{"$f":"SUM(B$70:B$74)","v":7.0220317080700001},7.0986934878200003]
["Європейське співтоватиство з атомної енергії",1.088056003E-2,1.0984104939999999E-2]
["Європейський банк реконструкції та розвитку",0.38669425519,0.39454855886000001]
["Європейський Інвестиційний Банк",3.658550017E-2,3.7204999650000001E-2]
["Міжнародний банк реконструкції та розвитку",0.45504334538000002,0.45699346078000003]
["Міжнародний Валютний Фонд",6.1328280473000003,6.1989623635899997]
["2. Заборгованість за позиками, одержаними від органів управління іноземних держав",{"$f":"SUM(B$76:B$76)","v":0.14621677995999999},0.12184731662000001]
["Канада",0.14621677995999999,0.12184731662000001]
["2. Заборгованість перед банківськими та іншими фінансовими установами",{"$f":"SUM(B$78:B$78)","v":0},2.9498540000000002E-5]
["ВАТ \"Державний ощадний банк України\"",0,2.9498540000000002E-5]
["3. Заборгованість за позиками, одержаними від іноземних комерційних банків, інших іноземних фінансових установ",{"$f":"SUM(B$80:B$85)","v":2.2785423277099999},2.2663548575000001]
["Deutsche Bank AG London",1.427420651E-2,1.4515910559999999E-2]
["UniCredit Bank Austria AG",3.5540199949999997E-2,3.6141999440000003E-2]
["ВАТ \"Газпромбанк\"",0.5,0.5]
["Державний банк розвитку КНР",5.9159999999999997E-2,5.9159999999999997E-2]
["Експортно-імпортний банк Китаю",1.53909292125,1.5260619474999999]
["Експортно-імпортний банк Кореї",0.13047500000000001,0.13047500000000001]
["4. Заборгованість за випущеними цінними паперами на зовнішньому ринку"]
["5. Заборгованість, не віднесена до інших категорій",{"$f":"SUM(B$88:B$88)","v":0.1094869587},0.11066762854999999]
["Міжнародний Валютний Фонд",0.1094869587,0.11066762854999999]

{"sheet":"MT_ALL","index":11,"n_rows":20,"n_cols":3,"rows_kept":20,"cut":false,"hidden":true,"merged":[[1,0,1,2]]}
[]
["Державний та гарантований державою борг України за поточний рік"]
[]
[{"$f":"$A$2 & \" (\" &C4 & \")\"","v":"Державний та гарантований державою борг України за поточний рік (млрд. грн)"},null,{"$f":"VALUAH","v":"млрд. грн"}]
[null,"2016-12-31","2017-01-31"]
["Загальна сума державного та гарантованого державою боргу",{"$f":"SUM(B7:B8)","v":1929.7611522718098},1931.0191653930399]
["Внутрішній борг",689.73000579024995,689.69166730187999]
["Зовнішній борг",1240.03114648156,1241.3274980911599]
[]
[{"$f":"$A$2 & \" (\" &C10 & \")\"","v":"Державний та гарантований державою борг України за поточний рік (млрд. дол. США)"},null,{"$f":"VALUSD","v":"млрд. дол. США"}]
[null,"2016-12-31","2017-01-31"]
["Загальна сума державного та гарантованого державою боргу",{"$f":"SUM(B13:B14)","v":70.970954733159999},71.205302629320002]
["Внутрішній борг",25.366246471259998,25.432012675669998]
["Зовнішній борг",45.604708261900001,45.77328995365]
[]
[null,null,"%%"]
[null,"2016-12-31","2017-01-31"]
["Загальна сума державного та гарантованого державою боргу",{"$f":"SUM(B19:B20)","v":1},1]
["Внутрішній борг",0.35741699999999998,0.35716500000000001]
["Зовнішній борг",0.64258300000000002,0.64283500000000005]

{"sheet":"MTM_ALL","index":12,"n_rows":20,"n_cols":3,"rows_kept":20,"cut":false,"hidden":true,"merged":[[1,0,1,2]]}
[]
["Державний та гарантований державою борг України за поточний рік"]
[]
[null,null,"млрд. грн."]
[null,{"$f":"MT_ALL!B5","v":"2016-12-31"},{"$f":"MT_ALL!C5","v":"2017-01-31"}]
[{"$f":"MT_ALL!A6","v":"Загальна сума державного та гарантованого державою боргу"},{"$f":"SUM(B7:B8)","v":1929.7611522718098},1931.0191653930399]
[{"$f":"MT_ALL!A7","v":"Внутрішній борг"},{"$f":"MT_ALL!B7/DMLMLR","v":689.73000579024995},{"$f":"MT_ALL!C7/DMLMLR","v":689.69166730187999}]
[{"$f":"MT_ALL!A8","v":"Зовнішній борг"},{"$f":"MT_ALL!B8/DMLMLR","v":1240.03114648156},{"$f":"MT_ALL!C8/DMLMLR","v":1241.3274980911599}]
[]
[null,null,"млрд. дол.США"]
[null,{"$f":"MT_ALL!B11","v":"2016-12-31"},{"$f":"MT_ALL!C11","v":"2017-01-31"}]
[{"$f":"MT_ALL!A12","v":"Загальна сума державного та гарантованого державою боргу"},{"$f":"SUM(B13:B14)","v":70.970954733159999},71.205302629320002]
[{"$f":"MT_ALL!A13","v":"Внутрішній борг"},{"$f":"MT_ALL!B13/DMLMLR","v":25.366246471259998},{"$f":"MT_ALL!C13/DMLMLR","v":25.432012675669998}]
[{"$f":"MT_ALL!A14","v":"Зовнішній борг"},{"$f":"MT_ALL!B14/DMLMLR","v":45.604708261900001},{"$f":"MT_ALL!C14/DMLMLR","v":45.77328995365}]
[]
[null,null,"%%"]
[null,{"$f":"MT_ALL!B17","v":"2016-12-31"},{"$f":"MT_ALL!C17","v":"2017-01-31"}]
[{"$f":"MT_ALL!A18","v":"Загальна сума державного та гарантованого державою боргу"},{"$f":"SUM(B19:B20)","v":1},1]
[{"$f":"MT_ALL!A19","v":"Внутрішній борг"},{"$f":"MT_ALL!B19","v":0.35741699999999998},{"$f":"MT_ALL!C19","v":0.35716500000000001}]
[{"$f":"MT_ALL!A20","v":"Зовнішній борг"},{"$f":"MT_ALL!B20","v":0.64258300000000002},{"$f":"MT_ALL!C20","v":0.64283500000000005}]

{"sheet":"MK_ALL","index":13,"n_rows":20,"n_cols":3,"rows_kept":20,"cut":false,"hidden":true,"merged":[[1,0,1,2]]}
[]
["Державний та гарантований державою борг України за поточний рік"]
[]
[{"$f":"$A$2 & \" (\" &C4 & \")\"","v":"Державний та гарантований державою борг України за поточний рік (млрд. грн)"},null,{"$f":"VALUAH","v":"млрд. грн"}]
[null,"2016-12-31","2017-01-31"]
["Загальна сума державного та гарантованого державою боргу",{"$f":"SUM(B7:B8)","v":1929.7611522718098},1931.0191653930399]
["Державний борг",1650.8332850501199,1651.6900447923999]
["Гарантований державою борг",278.92786722169001,279.32912060064001]
[]
[{"$f":"$A$2 & \" (\" &C10 & \")\"","v":"Державний та гарантований державою борг України за поточний рік (млрд. дол. США)"},null,{"$f":"VALUSD","v":"млрд. дол. США"}]
[null,"2016-12-31","2017-01-31"]
["Загальна сума державного та гарантованого державою боргу",{"$f":"SUM(B13:B14)","v":70.970954733159999},71.205302629320002]
["Державний борг",60.712805938389998,60.90519016959]
["Гарантований державою борг",10.258148794769999,10.30011245973]
[]
[null,null,"%%"]
[null,"2016-12-31","2017-01-31"]
["Загальна сума державного та гарантованого державою боргу",{"$f":"SUM(B19:B20)","v":1},1]
["Державний борг",0.85546,0.85534600000000005]
["Гарантований державою борг",0.14454,0.144654]

{"sheet":"SRATE_M","index":17,"n_rows":8,"n_cols":4,"rows_kept":8,"cut":false,"hidden":true,"merged":[[1,0,1,3],[2,0,2,3]]}
[]
[{"$f":"\"Державний та гарантований державою борг України\nза станом на \" & TEXT(DREPORTDATE,\"dd.MM.yyyy\")&\" \n(за видами відсоткових ставок)\"","v":"Державний та гарантований державою борг України\nза станом на 31.01.2017 \n(за видами відсоткових ставок)"}]
[]
[null,null,null,{"$f":"VALVAL","v":"млрд. одиниць"}]
[null,"дол.США","грн.","%"]
["Загальна сума державного та гарантованого державою боргу",{"$f":"SUM(B$7+ B$8)","v":71.205302629320002},1931.0191653930401,1]
["Борг, по якому сплата відсотків здійснюється за плаваючими процентними ставками",22.259773325739999,603.66359417264005,0.312614]
["Борг, по якому сплата відсотків здійснюється за фіксованими процентними ставками",48.945529303580003,1327.3555712204,0.68738600000000005]

{"sheet":"SRATE","index":18,"n_rows":20,"n_cols":4,"rows_kept":20,"cut":false,"hidden":true,"merged":[[1,0,1,3],[2,0,2,3]]}
[]
[{"$f":"\"Державний та гарантований державою борг України за станом на \" & TEXT(DREPORTDATE,\"dd.MM.yyyy\")","v":"Державний та гарантований державою борг України за станом на 31.01.2017"}]
["(за видами відсоткових ставок)"]
[]
[null,null,null,{"$f":"VALVAL","v":"млрд. одиниць"}]
[null,"дол.США","грн.","%"]
["Загальна сума державного та гарантованого державою боргу",{"$f":"SUM(B$8+ B$9)","v":71.205302629320002},1931.0191653930401,1]
[{"$f":"SRATE_M!A7","v":"Борг, по якому сплата відсотків здійснюється за плаваючими процентними ставками"},{"$f":"SRATE_M!B7","v":22.259773325739999},{"$f":"SRATE_M!C7","v":603.66359417264005},{"$f":"SRATE_M!D7","v":0.312614}]
[{"$f":"SRATE_M!A8","v":"Борг, по якому сплата відсотків здійснюється за фіксованими процентними ставками"},{"$f":"SRATE_M!B8","v":48.945529303580003},{"$f":"SRATE_M!C8","v":1327.3555712204},{"$f":"SRATE_M!D8","v":0.68738600000000005}]
[]
["В тому числі:"]
[null,null,null,{"$f":"VALVAL","v":"млрд. одиниць"}]
[null,"дол.США","грн.","%"]
["Загальна сума державного та гарантованого державою боргу",{"$f":"B$18+B$15","v":71.205302629320002},1931.0191653930399,1]
["Державний борг",{"$f":"SUM(B$16:B$17)","v":60.90519016959},1651.6900447923999,1.0436099999999999]
["Борг, по якому сплата відсотків здійснюється за плаваючими процентними ставками",13.405421298809999,363.54210279759002,0.18826399999999999]
["Борг, по якому сплата відсотків здійснюється за фіксованими процентними ставками",47.499768870780002,1288.14794199481,0.66708199999999995]
["Гарантований державою борг",{"$f":"SUM(B$19:B$20)","v":10.30011245973},279.32912060064001,0.26900400000000002]
["Борг, по якому сплата відсотків здійснюється за плаваючими процентними ставками",8.85435202693,240.12149137505,0.12435]
["Борг, по якому сплата відсотків здійснюється за фіксованими процентними ставками",1.4457604328,39.207629225589997,2.0303999999999999E-2]

{"sheet":"RATE_M","index":19,"n_rows":10,"n_cols":4,"rows_kept":10,"cut":false,"hidden":false,"merged":[[1,0,1,3],[2,0,2,3]]}
[]
[{"$f":"\"Державний та гарантований державою борг України за станом на \" & TEXT(DREPORTDATE,\"dd.MM.yyyy\")","v":"Державний та гарантований державою борг України за станом на 31.01.2017"}]
["(за видами відсоткових ставок)"]
[]
[null,null,null,{"$f":"VALVAL","v":"млрд. одиниць"}]
[null,"дол.США","грн.","%"]
["Загальна сума державного та гарантованого державою боргу",{"$f":"SUM(B8:B19)","v":71.205302629320002},1931.0191653930401,1]
["LIBOR",9.0433671661199995,245.24739973956,0.12700400000000001]
["Ставка МВФ",13.21640615962,358.41619443308002,0.18561]
["Фіксована",48.945529303580003,1327.3555712204,0.68738600000000005]

{"sheet":"RATE","index":20,"n_rows":30,"n_cols":4,"rows_kept":30,"cut":false,"hidden":true,"merged":[[1,0,1,3],[2,0,2,3]]}
[]
[{"$f":"\"Державний та гарантований державою борг України за станом на \" & TEXT(DREPORTDATE,\"dd.MM.yyyy\")","v":"Державний та гарантований державою борг України за станом на 31.01.2017"}]
["(за видами відсоткових ставок)"]
[]
[null,null,null,{"$f":"VALVAL","v":"млрд. одиниць"}]
[null,"дол.США","грн.","%"]
["Загальна сума державного та гарантованого державою боргу",{"$f":"SUM(B8:B18)","v":71.205302629320002},1931.0191653930401,1]
["LIBOR",9.0433671661199995,245.24739973956,0.12700400000000001]
["Ставка МВФ",13.21640615962,358.41619443308002,0.18561]
["Фіксована",48.945529303580003,1327.3555712204,0.68738600000000005]
[]
[]
[]
[]
[]
[]
[]
[]
["В тому числі:"]
[null,{"$f":"\"Державний борг України за станом на \" & TEXT(DREPORTDATE,\"dd.MM.yyyy\")","v":"Державний борг України за станом на 31.01.2017"},null,{"$f":"VALVAL","v":"млрд. одиниць"}]
[null,"дол.США","грн.","%"]
["Загальна сума державного та гарантованого державою боргу",{"$f":"B$27+B$23","v":71.205302629320002},1931.0191653930399,1]
["Державний борг",{"$f":"SUM(B$24:B$26)","v":60.90519016959},1651.6900447923999,0.85534600000000005]
["LIBOR",6.49864513133,176.23699126790001,9.1266E-2]
["Ставка МВФ",6.9067761674800003,187.30511152969001,9.6998000000000001E-2]
["Фіксована",47.499768870780002,1288.14794199481,0.66708199999999995]
["Гарантований державою борг",{"$f":"SUM(B$28:B$30)","v":10.30011245973},279.32912060064001,0.144654]
["LIBOR",2.5447220347899999,69.01040847166,3.5737999999999999E-2]
["Ставка МВФ",6.3096299921399996,171.11108290339001,8.8611999999999996E-2]
["Фіксована",1.4457604328,39.207629225589997,2.0303999999999999E-2]

{"sheet":"RATE_CMP","index":21,"n_rows":28,"n_cols":8,"rows_kept":28,"cut":false,"hidden":true,"merged":[[1,0,1,7],[4,1,4,3],[4,4,4,6],[17,1,17,3],[17,4,17,6]]}
[]
["Структура боргу за типом ставки на кінець попереднього року та звітну дату"]
[]
[null,null,null,null,null,null,null,{"$f":"VALVAL","v":"млрд. одиниць"}]
[null,"2016-12-31",null,null,"2017-01-31"]
[null,"дол.США","грн.","%","дол.США","грн.","%","Зміна структури"]
["Загальна сума державного та гарантованого державою боргу",{"$f":"SUM(B8:B15)","v":70.970954733159999},1929.76115227181,1,71.205302629320002,1931.0191653930401,1,0]
["LIBOR",9.0349672266500001,245.66851089492999,0.127305,9.0433671661199995,245.24739973956,0.12700400000000001,-3.01E-4]
["Ставка МВФ",13.07540546726,355.53149335276998,0.18423600000000001,13.21640615962,358.41619443308002,0.18561,1.374E-3]
["Фіксована",48.860582039249998,1328.56114802411,0.68845900000000004,48.945529303580003,1327.3555712204,0.68738600000000005,-1.073E-3]
[null,null,null,null,null,null,null,{"$f":"G11-D11","v":0}]
[null,null,null,null,null,null,null,0]
[null,null,null,null,null,null,null,0]
[]
[]
[]
[null,null,null,null,null,null,null,{"$f":"VALVAL","v":"млрд. одиниць"}]
[null,"2016-12-31",null,null,"2017-01-31"]
[null,"дол.США","грн.","%","дол.США","грн.","%","Зміна структури"]
["Загальна сума державного та гарантованого державою боргу",{"$f":"B$25+B$21","v":70.970954733159999},1929.7611522718103,1,71.205302629320002,1931.0191653930399,0.99999999999999989,0]
["Державний борг",{"$f":"SUM(B$22:B$24)","v":60.712805938390005},1650.8332850501201,0.85546000000000011,60.90519016959,1651.6900447923999,0.85534599999999994,-1.1400000000000001E-4]
["LIBOR",6.5010143593700001,176.76815830205999,9.1601000000000002E-2,6.49864513133,176.23699126790001,9.1266E-2,-3.3500000000000001E-4]
["Ставка МВФ",6.8330904612600003,185.79759243326001,9.6280000000000004E-2,6.9067761674800003,187.30511152969001,9.6998000000000001E-2,7.18E-4]
["Фіксована",47.378701117760002,1288.2675343148001,0.66757900000000003,47.499768870780002,1288.14794199481,0.66708199999999995,-4.9700000000000005E-4]
["Гарантований державою борг",{"$f":"SUM(B$26:B$28)","v":10.258148794769999},278.92786722169001,0.14454,10.30011245973,279.32912060064001,0.14465399999999998,1.1400000000000001E-4]
["LIBOR",2.53395286728,68.900352592869993,3.5704E-2,2.5447220347899999,69.01040847166,3.5737999999999999E-2,3.4E-5]
["Ставка МВФ",6.2423150060000001,169.73390091951001,8.7956000000000006E-2,6.3096299921399996,171.11108290339001,8.8611999999999996E-2,6.5600000000000001E-4]
["Фіксована",1.4818809214899999,40.293613709310002,2.0879999999999999E-2,1.4457604328,39.207629225589997,2.0303999999999999E-2,-5.7600000000000001E-4]

{"sheet":"CUR_M","index":24,"n_rows":13,"n_cols":4,"rows_kept":13,"cut":false,"hidden":false,"merged":[[1,0,1,3],[2,0,2,3]]}
[]
[{"$f":"\"Державний та гарантований державою борг України за станом на \" & TEXT(DREPORTDATE,\"dd.MM.yyyy\")","v":"Державний та гарантований державою борг України за станом на 31.01.2017"}]
["(в розрізі валют погашеня)"]
[]
[null,null,null,{"$f":"VALVAL","v":"млрд. одиниць"}]
[null,"дол.США","грн.","%"]
["Загальна сума державного та гарантованого державою боргу",{"$f":"SUM(B8:B26)","v":71.205302629320002},1931.0191653930399,1]
["Долар США",31.566188702390001,856.04460780290003,0.44331199999999998]
["ЄВРО",4.0147931663799996,108.87732041204001,5.6383000000000003E-2]
["Канадський долар",0.30408352274,8.2464519999999997,4.2709999999999996E-3]
["СПЗ",13.21640615962,358.41619443308002,0.18561]
["Українська гривня",21.543361015609999,584.23518294109999,0.30255300000000002]
["Японська єна",0.56047006257999998,15.19940780392,7.8709999999999995E-3]

{"sheet":"CUR","index":25,"n_rows":35,"n_cols":4,"rows_kept":35,"cut":false,"hidden":true,"merged":[[1,0,1,3],[2,0,2,3]]}
[]
[{"$f":"\"Державний та гарантований державою борг України за станом на \" & TEXT(DREPORTDATE,\"dd.MM.yyyy\")","v":"Державний та гарантований державою борг України за станом на 31.01.2017"}]
["(в розрізі валют погашеня)"]
[]
[null,null,null,{"$f":"VALVAL","v":"млрд. одиниць"}]
[null,"дол.США","грн.","%"]
["Загальна сума державного та гарантованого державою боргу",{"$f":"SUM(B8:B18)","v":71.205302629320002},1931.0191653930399,1]
["Долар США",31.566188702390001,856.04460780290003,0.44331199999999998]
["ЄВРО",4.0147931663799996,108.87732041204001,5.6383000000000003E-2]
["Канадський долар",0.30408352274,8.2464519999999997,4.2709999999999996E-3]
["СПЗ",13.21640615962,358.41619443308002,0.18561]
["Українська гривня",21.543361015609999,584.23518294109999,0.30255300000000002]
["Японська єна",0.56047006257999998,15.19940780392,7.8709999999999995E-3]
[]
[]
[]
[]
[]
[]
["В тому числі:"]
[null,{"$f":"\"Державний борг України за станом на \" & TEXT(DREPORTDATE,\"dd.MM.yyyy\")","v":"Державний борг України за станом на 31.01.2017"},null,{"$f":"VALVAL","v":"млрд. одиниць"}]
[null,"дол.США","грн.","%"]
["Загальна сума державного та гарантованого державою боргу",{"$f":"B$31+B$24","v":71.205302629320002},1931.0191653930401,1.0000020000000001]
["Державний борг",{"$f":"SUM(B$25:B$30)","v":60.905190169590007},1651.6900447924002,0.85534699999999997]
["Долар США",28.417009392210002,770.64190071968005,0.399086]
["ЄВРО",3.8760391782100001,105.11444601149,5.4434999999999997E-2]
["Канадський долар",0.30408352274,8.2464519999999997,4.2709999999999996E-3]
["СПЗ",6.9067761674800003,187.30511152969001,9.6998000000000001E-2]
["Українська гривня",20.840811846369999,565.18272672761998,0.292686]
["Японська єна",0.56047006257999998,15.19940780392,7.8709999999999995E-3]
["Гарантований державою борг",{"$f":"SUM(B$32:B$35)","v":10.300112459729998},279.32912060064001,0.14465500000000001]
["Долар США",3.1491793101800001,85.402707083219994,4.4227000000000002E-2]
["ЄВРО",0.13875398817000001,3.7628744005499999,1.949E-3]
["СПЗ",6.3096299921399996,171.11108290339001,8.8611999999999996E-2]
["Українська гривня",0.70254916923999999,19.052456213479999,9.8670000000000008E-3]

{"sheet":"CUR_CMP","index":26,"n_rows":36,"n_cols":8,"rows_kept":36,"cut":false,"hidden":true,"merged":[[1,0,1,7],[5,1,5,3],[5,4,5,6],[21,1,21,3],[21,4,21,6]]}
[]
["Валютна структура державного боргу на кінець попереднього року та звітну дату"]
[]
[]
[null,null,null,null,null,null,null,{"$f":"VALVAL","v":"млрд. одиниць"}]
[null,"2016-12-31",null,null,"2017-01-31"]
[null,"дол.США","грн.","%","дол.США","грн.","%","Зміна структури"]
["Загальна сума державного та гарантованого державою боргу",{"$f":"SUM(B9:B18)","v":70.970954733159985},1929.76115227181,0.99999899999999997,71.205302629320002,1931.0191653930399,1,2.7105054312137611E-19]
["Долар США",31.637750017769999,860.25756817268996,0.44578400000000001,31.566188702390001,856.04460780290003,0.44331199999999998,-2.4719999999999998E-3]
["ЄВРО",3.9324516798900002,106.92673522,5.5409E-2,4.0147931663799996,108.87732041204001,5.6383000000000003E-2,9.7400000000000004E-4]
["Канадський долар",0.29540765501999999,8.0323875999999998,4.1619999999999999E-3,0.30408352274,8.2464519999999997,4.2709999999999996E-3,1.08E-4]
["СПЗ",13.07540546726,355.53149335276998,0.18423600000000001,13.21640615962,358.41619443308002,0.18561,1.374E-3]
["Українська гривня",21.480066674570001,584.06144277600004,0.30265999999999998,21.543361015609999,584.23518294109999,0.30255300000000002,-1.07E-4]
["Японська єна",0.54987323865000004,14.951525150349999,7.7479999999999997E-3,0.56047006257999998,15.19940780392,7.8709999999999995E-3,1.2300000000000001E-4]
[]
[]
[]
[]
[]
[]
[null,null,null,null,null,null,null,{"$f":"VALVAL","v":"млрд. одиниць"}]
[null,"2016-12-31",null,null,"2017-01-31"]
[null,"дол.США","грн.","%","дол.США","грн.","%","Зміна структури"]
["Загальна сума державного та гарантованого державою боргу",{"$f":"B$32+B$25","v":70.970954733159999},1929.7611522718103,0.99999899999999997,71.205302629320002,1931.0191653930401,1.0000019999999998,-9.9999999999999995E-7]
["Державний борг",{"$f":"SUM(B$26:B$31)","v":60.712805938390005},1650.8332850501201,0.85545899999999997,60.905190169590007,1651.6900447924002,0.85534699999999997,-1.1400000000000001E-4]
["Долар США",28.4531203859,773.66475606993004,0.40091199999999999,28.417009392210002,770.64190071968005,0.399086,-1.8270000000000001E-3]
["ЄВРО",3.8031185433200001,103.41005626896001,5.3587000000000003E-2,3.8760391782100001,105.11444601149,5.4434999999999997E-2,8.4800000000000001E-4]
["Канадський долар",0.29540765501999999,8.0323875999999998,4.1619999999999999E-3,0.30408352274,8.2464519999999997,4.2709999999999996E-3,1.08E-4]
["СПЗ",6.8330904612600003,185.79759243326001,9.6280000000000004E-2,6.9067761674800003,187.30511152969001,9.6998000000000001E-2,7.18E-4]
["Українська гривня",20.778195654240001,564.97696752761999,0.29276999999999997,20.840811846369999,565.18272672761998,0.292686,-8.3999999999999995E-5]
["Японська єна",0.54987323865000004,14.951525150349999,7.7479999999999997E-3,0.56047006257999998,15.19940780392,7.8709999999999995E-3,1.2300000000000001E-4]
["Гарантований державою борг",{"$f":"SUM(B$33:B$36)","v":10.258148794769999},278.92786722169001,0.14454,10.300112459729998,279.32912060064001,0.14465499999999998,1.13E-4]
["Долар США",3.18462963187,86.592812102760007,4.4872000000000002E-2,3.1491793101800001,85.402707083219994,4.4227000000000002E-2,-6.4599999999999998E-4]
["ЄВРО",0.12933313657000001,3.5166789510399998,1.8220000000000001E-3,0.13875398817000001,3.7628744005499999,1.949E-3,1.26E-4]
["СПЗ",6.2423150060000001,169.73390091951001,8.7956000000000006E-2,6.3096299921399996,171.11108290339001,8.8611999999999996E-2,6.5600000000000001E-4]
["Українська гривня",0.70187102033000004,19.084475248379999,9.8899999999999995E-3,0.70254916923999999,19.052456213479999,9.8670000000000008E-3,-2.3E-5]

{"sheet":"CUR_M_EXT","index":27,"n_rows":13,"n_cols":14,"rows_kept":13,"cut":false,"hidden":true,"merged":[[4,1,4,6],[4,7,4,12],[1,0,1,13]]}
[]
["Валютна структура боргу на кінець попереднього року та на звітну дату"]
[]
[null,null,null,null,null,null,null,null,null,null,null,null,null,{"$f":"VALVAL","v":"млрд. одиниць"}]
[null,"2016-12-31",null,null,null,null,null,"2017-01-31"]
[null,"оріг.","курс до USD","курс до UAH","дол.США","грн.","%","оріг.","курс до USD","курс до UAH","дол.США","грн.","%","Зміна структури"]
["Загальна сума державного та гарантованого державою боргу",null,null,null,{"$f":"SUM(E8:E23)","v":70.970954733159985},1929.76115227181,0.99999899999999997,null,null,null,{"$f":"SUM(K8:K23)","v":71.205302629320002},1931.0191653930399,1,2.7105054312137611E-19]
["Долар США",31.637750017769999,1,27.190857999999999,31.637750017769999,860.25756817268996,0.44578400000000001,31.566188702390001,1,27.119036000000001,31.566188702390001,856.04460780290003,0.44331199999999998,-2.4719999999999998E-3]
["ЄВРО",3.76203162877,1.0452999999999999,28.422604,3.9324516798900002,106.92673522,5.5409E-2,3.77685155571,1.0629999999999999,28.827535000000001,4.0147931663799996,108.87732041204001,5.6383000000000003E-2,9.7400000000000004E-4]
["Канадський долар",0.4,0.73851900000000004,20.080969,0.29540765501999999,8.0323875999999998,4.1619999999999999E-3,0.4,0.76020900000000002,20.616129999999998,0.30408352274,8.2464519999999997,4.2709999999999996E-3,1.08E-4]
["СПЗ",9.7263234070000006,1.3443320000000001,36.553533999999999,13.07540546726,355.53149335276998,0.18423600000000001,9.7263234070000006,1.3588290000000001,36.850121000000001,13.21640615962,358.41619443308002,0.18561,1.374E-3]
["Українська гривня",584.06144277600004,3.6776999999999997E-2,1,21.480066674570001,584.06144277600004,0.30265999999999998,584.23518294109999,3.6873999999999997E-2,1,21.543361015609999,584.23518294109999,0.30255300000000002,-1.07E-4]
["Японська єна",64.198346000000001,8.5649999999999997E-3,0.23289599999999999,0.54987323865000004,14.951525150349999,7.7479999999999997E-3,64.198346000000001,8.7299999999999999E-3,0.236757,0.56047006257999998,15.19940780392,7.8709999999999995E-3,1.2300000000000001E-4]

{"sheet":"CUR_CMP_EXT","index":28,"n_rows":38,"n_cols":14,"rows_kept":38,"cut":false,"hidden":true,"merged":[[1,0,1,13],[4,1,4,6],[4,7,4,12],[23,1,23,6],[23,7,23,12]]}
[]
["Валютна структура боргу на кінець попереднього року та на звітну дату (розширений)"]
[]
[null,null,null,null,null,null,null,null,null,null,null,null,null,{"$f":"VALVAL","v":"млрд. одиниць"}]
[null,"2016-12-31",null,null,null,null,null,"2017-01-31"]
[null,"оріг.","курс до USD","курс до UAH","дол.США","грн.","%","оріг.","курс до USD","курс до UAH","дол.США","грн.","%","Зміна структури"]
["Загальна сума державного та гарантованого державою боргу",null,null,null,{"$f":"SUM(E8:E24)","v":70.970954733159985},1929.76115227181,0.99999899999999997,null,null,null,{"$f":"SUM(K8:K24)","v":71.205302629320002},1931.0191653930399,1,2.7105054312137611E-19]
["Долар США",31.637750017769999,1,27.190857999999999,31.637750017769999,860.25756817268996,0.44578400000000001,31.566188702390001,1,27.119036000000001,31.566188702390001,856.04460780290003,0.44331199999999998,-2.4719999999999998E-3]
["ЄВРО",3.76203162877,1.0452999999999999,28.422604,3.9324516798900002,106.92673522,5.5409E-2,3.77685155571,1.0629999999999999,28.827535000000001,4.0147931663799996,108.87732041204001,5.6383000000000003E-2,9.7400000000000004E-4]
["Канадський долар",0.4,0.73851900000000004,20.080969,0.29540765501999999,8.0323875999999998,4.1619999999999999E-3,0.4,0.76020900000000002,20.616129999999998,0.30408352274,8.2464519999999997,4.2709999999999996E-3,1.08E-4]
["СПЗ",9.7263234070000006,1.3443320000000001,36.553533999999999,13.07540546726,355.53149335276998,0.18423600000000001,9.7263234070000006,1.3588290000000001,36.850121000000001,13.21640615962,358.41619443308002,0.18561,1.374E-3]
["Українська гривня",584.06144277600004,3.6776999999999997E-2,1,21.480066674570001,584.06144277600004,0.30265999999999998,584.23518294109999,3.6873999999999997E-2,1,21.543361015609999,584.23518294109999,0.30255300000000002,-1.07E-4]
["Японська єна",64.198346000000001,8.5649999999999997E-3,0.23289599999999999,0.54987323865000004,14.951525150349999,7.7479999999999997E-3,64.198346000000001,8.7299999999999999E-3,0.236757,0.56047006257999998,15.19940780392,7.8709999999999995E-3,1.2300000000000001E-4]
[]
[]
[]
[]
[]
[]
[]
[]
[]
[null,null,null,null,null,null,null,null,null,null,null,null,null,{"$f":"VALVAL","v":"млрд. одиниць"}]
[null,"2016-12-31",null,null,null,null,null,"2017-01-31"]
[null,"оріг.","курс до USD","курс до UAH","дол.США","грн.","%","оріг.","курс до USD","курс до UAH","дол.США","грн.","%","Зміна структури"]
["Загальна сума державного та гарантованого державою боргу",{"$f":"B$34+B$27","v":693.78589382953999},7.5999020000000002,206.64785699999999,70.970954733159999,1929.7611522718103,0.99999899999999997,693.9028926062,7.6863450000000002,208.44627100000002,71.205302629320002,1931.0191653930401,1.0000019999999998,-9.9999999999999995E-7]
["Державний борг",{"$f":"SUM(B$28:B$33)","v":666.74962729589004},4.1734930000000006,113.48086099999999,60.712805938390005,1650.8332850501201,0.85545899999999997,666.92729311159997,4.2276420000000003,114.649579,60.905190169590007,1651.6900447924002,0.85534699999999997,-1.1400000000000001E-4]
["Долар США",28.4531203859,1,27.190857999999999,28.4531203859,773.66475606993004,0.40091199999999999,28.417009392210002,1,27.119036000000001,28.417009392210002,770.64190071968005,0.399086,-1.8270000000000001E-3]
["ЄВРО",3.6383033823700002,1.0452999999999999,28.422604,3.8031185433200001,103.41005626896001,5.3587000000000003E-2,3.6463209917700001,1.0629999999999999,28.827535000000001,3.8760391782100001,105.11444601149,5.4434999999999997E-2,8.4800000000000001E-4]
["Канадський долар",0.4,0.73851900000000004,20.080969,0.29540765501999999,8.0323875999999998,4.1619999999999999E-3,0.4,0.76020900000000002,20.616129999999998,0.30408352274,8.2464519999999997,4.2709999999999996E-3,1.08E-4]
["СПЗ",5.0828899999999999,1.3443320000000001,36.553533999999999,6.8330904612600003,185.79759243326001,9.6280000000000004E-2,5.0828899999999999,1.3588290000000001,36.850121000000001,6.9067761674800003,187.30511152969001,9.6998000000000001E-2,7.18E-4]
["Українська гривня",564.97696752761999,3.6776999999999997E-2,1,20.778195654240001,564.97696752761999,0.29276999999999997,565.18272672761998,3.6873999999999997E-2,1,20.840811846369999,565.18272672761998,0.292686,-8.3999999999999995E-5]
["Японська єна",64.198346000000001,8.5649999999999997E-3,0.23289599999999999,0.54987323865000004,14.951525150349999,7.7479999999999997E-3,64.198346000000001,8.7299999999999999E-3,0.236757,0.56047006257999998,15.19940780392,7.8709999999999995E-3,1.2300000000000001E-4]
["Гарантований державою борг",{"$f":"SUM(B$35:B$38)","v":27.03626653365},3.426409,93.166995999999997,10.258148794769999,278.92786722169001,0.14454,26.975599494599997,3.4587029999999999,93.796692000000007,10.300112459729998,279.32912060064001,0.14465499999999998,1.13E-4]
["Долар США",3.18462963187,1,27.190857999999999,3.18462963187,86.592812102760007,4.4872000000000002E-2,3.1491793101800001,1,27.119036000000001,3.1491793101800001,85.402707083219994,4.4227000000000002E-2,-6.4599999999999998E-4]
["ЄВРО",0.12372824640000001,1.0452999999999999,28.422604,0.12933313657000001,3.5166789510399998,1.8220000000000001E-3,0.13053056394000001,1.0629999999999999,28.827535000000001,0.13875398817000001,3.7628744005499999,1.949E-3,1.26E-4]
["СПЗ",4.6434334069999998,1.3443320000000001,36.553533999999999,6.2423150060000001,169.73390091951001,8.7956000000000006E-2,4.6434334069999998,1.3588290000000001,36.850121000000001,6.3096299921399996,171.11108290339001,8.8611999999999996E-2,6.5600000000000001E-4]
["Українська гривня",19.084475248379999,3.6776999999999997E-2,1,0.70187102033000004,19.084475248379999,9.8899999999999995E-3,19.052456213479999,3.6873999999999997E-2,1,0.70254916923999999,19.052456213479999,9.8670000000000008E-3,-2.3E-5]

{"sheet":"DKT1","index":29,"n_rows":28,"n_cols":5,"rows_kept":28,"cut":false,"hidden":true,"merged":[[1,0,1,3],[2,0,2,3]]}
[]
[{"$f":"\"Державний та гарантований державою борг України за станом на \" & TEXT(DREPORTDATE,\"dd.MM.yyyy\")","v":"Державний та гарантований державою борг України за станом на 31.01.2017"}]
["(за типом кредитора)"]
[]
[null,null,null,{"$f":"VALVAL","v":"млрд. одиниць"}]
[null,"дол.США","грн.","%","FORMAT"]
["Загальна сума державного та гарантованого державою боргу",{"$f":"B$18+B$8","v":71.205302629320002},1931.0191653930399,0.99999899999999997,"3"]
["Державний борг",{"$f":"B$9+B$12","v":60.90519016959},1651.6900447923999,0.85534699999999997,"3"]
["Внутрішній борг",{"$f":"SUM(B$10:B$11)","v":24.729493004969999},670.64001106030003,0.347298,"2"]
["1. Заборгованість за випущеними цінними паперами на внутрішньому ринку",24.636834920529999,668.12721313268003,0.345997,"1"]
["2. Заборгованість перед банківськими та іншими фінансовими установами",9.2658084439999996E-2,2.5127979276199999,1.3010000000000001E-3]
["Зовнішній борг",{"$f":"SUM(B$13:B$17)","v":36.175697164619997},981.05003373210002,0.50804899999999997]
["1. Заборгованість за позиками, одержаними від міжнародних фінансових організацій",13.761891279409999,373.20922503414999,0.193271]
["2. Заборгованість за позиками, одержаними від органів управління іноземних держав",1.7017800467299999,46.15063435127,2.3900000000000001E-2]
["3. Заборгованість за позиками, одержаними від іноземних комерційних банків, інших іноземних фінансових установ",5.4350340000000003E-5,1.4739288000000001E-3,9.9999999999999995E-7]
["4. Заборгованість за випущеними цінними паперами на зовнішньому ринку",19.043330000000001,516.43675182988,0.26744299999999999]
["5. Заборгованість, не віднесена до інших категорій",1.66864148814,45.251948587999998,2.3434E-2]
["Гарантований державою борг",{"$f":"B$19+B$23","v":10.30011245973},279.32912060064001,0.144652]
["Внутрішній борг",{"$f":"SUM(B$20:B$22)","v":0.70251967069999999},19.051656241580002,9.8659999999999998E-3]
["1. Заборгованість за випущеними цінними паперами на внутрішньому ринку",0.58814817751000004,15.9500116,8.26E-3]
["2. Заборгованість перед банківськими та іншими фінансовими установами",0.11433629098,3.1006899915799999,1.606E-3]
["3. Заборгованість, не віднесена до інших категорій",3.5202210000000001E-5,9.5465000000000003E-4,0]
["Зовнішній борг",{"$f":"SUM(B$24:B$28)","v":9.597592789030001},260.27746435905999,0.13478599999999999]
["1. Заборгованість за позиками, одержаними від міжнародних фінансових організацій",7.0986934878200003,192.50972424922,9.9693000000000004E-2]
["2. Заборгованість за позиками, одержаними від органів управління іноземних держав",0.12184731662000001,3.3043817659200001,1.7110000000000001E-3]
["2. Заборгованість перед банківськими та іншими фінансовими установами",2.9498540000000002E-5,7.999719E-4,0]
["3. Заборгованість за позиками, одержаними від іноземних комерційних банків, інших іноземних фінансових установ",2.2663548575000001,61.461358969419997,3.1828000000000002E-2]
["5. Заборгованість, не віднесена до інших категорій",0.11066762854999999,3.0011994026000002,1.554E-3]

{"sheet":"DKR","index":33,"n_rows":15,"n_cols":4,"rows_kept":15,"cut":false,"hidden":true,"merged":[[1,0,1,3],[2,0,2,3]]}
[]
[{"$f":"\"Державний та гарантований державою борг України за станом на \" & TEXT(DREPORTDATE,\"dd.MM.yyyy\")","v":"Державний та гарантований державою борг України за станом на 31.01.2017"}]
["(за типом кредитора)"]
[]
[null,null,null,{"$f":"VALVAL","v":"млрд. одиниць"}]
[null,"дол.США","грн.","%"]
["Загальна сума державного та гарантованого державою боргу",{"$f":"SUM(B8:B46)","v":71.205302629320002},1931.0191653930401,0.99999899999999997]
["Внутрішній борг за випущеними цінними паперами",25.224983098039999,684.07722473267995,0.35425699999999999]
["Внутрішній борг перед банківськими та іншими фінансовими установами",0.20702387395999999,5.6142878911,2.9069999999999999E-3]
["Внутрішня заборгованість, не віднесена до інших категорій",3.5202210000000001E-5,9.5465000000000003E-4,0]
["Зовнішній борг за випущеними цінними паперами",19.043330000000001,516.43675182988,0.26744299999999999]
["Зовнішній борг за позиками, одержаними від іноземних комерційних банків, інших іноземних фінансових установ",2.2664092078400002,61.46283289822,3.1829000000000003E-2]
["Зовнішній борг за позиками, одержаними від міжнародних фінансових організацій",20.860584767230002,565.71894928336997,0.292964]
["Зовнішній борг за позиками, одержаними від органів управління іноземних держав",1.82362736335,49.455016117189999,2.5610999999999998E-2]
["Зовнішній борг, не віднесений до інших категорій",1.7793091166899999,48.253147990599999,2.4988E-2]

{"sheet":"DKR2","index":34,"n_rows":24,"n_cols":4,"rows_kept":24,"cut":false,"hidden":true,"merged":[[2,0,2,3],[3,0,3,3],[0,0,0,3],[1,0,1,3]]}
[{"$f":"\"Державний борг України за станом на \" & TEXT(DREPORTDATE,\"dd.MM.yyyy\")","v":"Державний борг України за станом на 31.01.2017"}]
[{"$f":"\"Гарантований державою борг України за станом на \" & TEXT(DREPORTDATE,\"dd.MM.yyyy\")","v":"Гарантований державою борг України за станом на 31.01.2017"}]
[{"$f":"\"Державний та гарантований державою борг України за станом на \" & TEXT(DREPORTDATE,\"dd.MM.yyyy\")","v":"Державний та гарантований державою борг України за станом на 31.01.2017"}]
["(за типом кредитора)"]
[]
[null,null,null,{"$f":"VALVAL","v":"млрд. одиниць"}]
[null,"дол.США","грн.","%"]
["Загальна сума державного та гарантованого державою боргу",{"$f":"B$17+B$9","v":71.205302629320002},1931.0191653930397,2.091993]
["Державний борг",{"$f":"SUM(B$10:B$16)","v":60.90519016959},1651.6900447923997,1.255347]
["Внутрішній борг за випущеними цінними паперами",24.636834920529999,668.12721313268003,0.345997]
["Внутрішній борг перед банківськими та іншими фінансовими установами",9.2658084439999996E-2,2.5127979276199999,1.3010000000000001E-3]
["Зовнішній борг за випущеними цінними паперами",19.043330000000001,516.43675182988,0.26744299999999999]
["Зовнішній борг за позиками, одержаними від іноземних комерційних банків, інших іноземних фінансових установ",5.4350340000000003E-5,1.4739288000000001E-3,9.9999999999999995E-7]
["Зовнішній борг за позиками, одержаними від міжнародних фінансових організацій",13.761891279409999,373.20922503414999,0.193271]
["Зовнішній борг за позиками, одержаними від органів управління іноземних держав",1.7017800467299999,46.15063435127,2.3900000000000001E-2]
["Зовнішній борг, не віднесений до інших категорій",1.66864148814,45.251948587999998,2.3434E-2]
["Гарантований державою борг",{"$f":"SUM(B$18:B$24)","v":10.300112459730002},279.32912060064001,0.144652]
["Внутрішній борг за випущеними цінними паперами",0.58814817751000004,15.9500116,8.26E-3]
["Внутрішній борг перед банківськими та іншими фінансовими установами",0.11436578952,3.1014899634800002,1.606E-3]
["Внутрішня заборгованість, не віднесена до інших категорій",3.5202210000000001E-5,9.5465000000000003E-4,0]
["Зовнішній борг за позиками, одержаними від іноземних комерційних банків, інших іноземних фінансових установ",2.2663548575000001,61.461358969419997,3.1828000000000002E-2]
["Зовнішній борг за позиками, одержаними від міжнародних фінансових організацій",7.0986934878200003,192.50972424922,9.9693000000000004E-2]
["Зовнішній борг за позиками, одержаними від органів управління іноземних держав",0.12184731662000001,3.3043817659200001,1.7110000000000001E-3]
["Зовнішній борг, не віднесений до інших категорій",0.11066762854999999,3.0011994026000002,1.554E-3]

{"sheet":"YT_ALL","index":38,"n_rows":20,"n_cols":7,"rows_kept":20,"cut":false,"hidden":true,"merged":[[1,0,1,6]]}
[]
["Державний та гарантований державою борг України за останні 5 років"]
[]
[{"$f":"$A$2 & \" (\" &G4 & \")\"","v":"Державний та гарантований державою борг України за останні 5 років (млрд. грн)"},null,null,null,null,null,{"$f":"VALUAH","v":"млрд. грн"}]
[null,"2012-12-31","2013-12-31","2014-12-31","2015-12-31","2016-12-31","2017-01-31"]
["Загальна сума державного та гарантованого державою боргу",{"$f":"SUM(B$7+ B$8)","v":515.51083307649992},584.78657094877008,1100.8332167026401,1572.1801589904999,1929.7611522718098,1931.0191653930399]
["Внутрішній борг",206.51071361043,284.08872546875,488.86690736498002,529.46057801733002,689.73000579024995,689.69166730187999]
["Зовнішній борг",309.00011946606998,300.69784548002002,611.96630933766005,1042.71958097317,1240.03114648156,1241.3274980911599]
[]
[{"$f":"$A$2 & \" (\" &G10 & \")\"","v":"Державний та гарантований державою борг України за останні 5 років (млрд. дол. США)"},null,null,null,null,null,{"$f":"VALUSD","v":"млрд. дол. США"}]
[null,"2012-12-31","2013-12-31","2014-12-31","2015-12-31","2016-12-31","2017-01-31"]
["Загальна сума державного та гарантованого державою боргу",{"$f":"SUM(B$13+ B$14)","v":64.495287511390003},73.16233841495,69.811922962929998,65.505686112320006,70.970954733159999,71.205302629320002]
["Внутрішній борг",25.836446091900001,35.542190100169996,31.002642687809999,22.060244326389999,25.366246471259998,25.432012675669998]
["Зовнішній борг",38.658841419490003,37.620148314780003,38.809280275120003,43.445441785930001,45.604708261900001,45.77328995365]
[]
[null,null,null,null,null,null,"%"]
[null,"2012-12-31","2013-12-31","2014-12-31","2015-12-31","2016-12-31","2017-01-31"]
["Загальна сума державного та гарантованого державою боргу",{"$f":"SUM(B$19+ B$20)","v":1},1,1,1,1,1]
["Внутрішній борг",0.40059400000000001,0.48579899999999998,0.44408799999999998,0.33676800000000001,0.35741699999999998,0.35716500000000001]
["Зовнішній борг",0.59940599999999999,0.51420100000000002,0.55591199999999996,0.66323200000000004,0.64258300000000002,0.64283500000000005]

{"sheet":"YTM_ALL","index":41,"n_rows":20,"n_cols":7,"rows_kept":20,"cut":false,"hidden":true,"merged":[[1,0,1,6]]}
[]
["Державний та гарантований державою борг України за останні 5 років"]
[]
[null,null,null,null,null,null,"млрд. грн."]
[null,{"$f":"YT_ALL!B5","v":"2012-12-31"},{"$f":"YT_ALL!C5","v":"2013-12-31"},{"$f":"YT_ALL!D5","v":"2014-12-31"},{"$f":"YT_ALL!E5","v":"2015-12-31"},{"$f":"YT_ALL!F5","v":"2016-12-31"},{"$f":"YT_ALL!G5","v":"2017-01-31"}]
["Загальна сума державного та гарантованого державою боргу",{"$f":"SUM(B$7+ B$8)","v":515.51083307649992},584.78657094877008,1100.8332167026401,1572.1801589904999,1929.7611522718098,1931.0191653930399]
[{"$f":"YT_ALL!A7","v":"Внутрішній борг"},{"$f":"YT_ALL!B7/DMLMLR","v":206.51071361043},{"$f":"YT_ALL!C7/DMLMLR","v":284.08872546875},{"$f":"YT_ALL!D7/DMLMLR","v":488.86690736498002},{"$f":"YT_ALL!E7/DMLMLR","v":529.46057801733002},{"$f":"YT_ALL!F7/DMLMLR","v":689.73000579024995},{"$f":"YT_ALL!G7/DMLMLR","v":689.69166730187999}]
[{"$f":"YT_ALL!A8","v":"Зовнішній борг"},{"$f":"YT_ALL!B8/DMLMLR","v":309.00011946606998},{"$f":"YT_ALL!C8/DMLMLR","v":300.69784548002002},{"$f":"YT_ALL!D8/DMLMLR","v":611.96630933766005},{"$f":"YT_ALL!E8/DMLMLR","v":1042.71958097317},{"$f":"YT_ALL!F8/DMLMLR","v":1240.03114648156},{"$f":"YT_ALL!G8/DMLMLR","v":1241.3274980911599}]
[]
[null,null,null,null,null,null,"млрд. дол.США"]
[null,{"$f":"YT_ALL!B11","v":"2012-12-31"},{"$f":"YT_ALL!C11","v":"2013-12-31"},{"$f":"YT_ALL!D11","v":"2014-12-31"},{"$f":"YT_ALL!E11","v":"2015-12-31"},{"$f":"YT_ALL!F11","v":"2016-12-31"},{"$f":"YT_ALL!G11","v":"2017-01-31"}]
["Загальна сума державного та гарантованого державою боргу",{"$f":"SUM(B$13+ B$14)","v":64.495287511390003},73.16233841495,69.811922962929998,65.505686112320006,70.970954733159999,71.205302629320002]
[{"$f":"YT_ALL!A13","v":"Внутрішній борг"},{"$f":"YT_ALL!B13/DMLMLR","v":25.836446091900001},{"$f":"YT_ALL!C13/DMLMLR","v":35.542190100169996},{"$f":"YT_ALL!D13/DMLMLR","v":31.002642687809999},{"$f":"YT_ALL!E13/DMLMLR","v":22.060244326389999},{"$f":"YT_ALL!F13/DMLMLR","v":25.366246471259998},{"$f":"YT_ALL!G13/DMLMLR","v":25.432012675669998}]
[{"$f":"YT_ALL!A14","v":"Зовнішній борг"},{"$f":"YT_ALL!B14/DMLMLR","v":38.658841419490003},{"$f":"YT_ALL!C14/DMLMLR","v":37.620148314780003},{"$f":"YT_ALL!D14/DMLMLR","v":38.809280275120003},{"$f":"YT_ALL!E14/DMLMLR","v":43.445441785930001},{"$f":"YT_ALL!F14/DMLMLR","v":45.604708261900001},{"$f":"YT_ALL!G14/DMLMLR","v":45.77328995365}]
[]
[null,null,null,null,null,null,"%"]
[null,{"$f":"YT_ALL!B17","v":"2012-12-31"},{"$f":"YT_ALL!C17","v":"2013-12-31"},{"$f":"YT_ALL!D17","v":"2014-12-31"},{"$f":"YT_ALL!E17","v":"2015-12-31"},{"$f":"YT_ALL!F17","v":"2016-12-31"},{"$f":"YT_ALL!G17","v":"2017-01-31"}]
["Загальна сума державного та гарантованого державою боргу",{"$f":"SUM(B$19+ B$20)","v":1},1,1,1,1,1]
[{"$f":"YT_ALL!A19","v":"Внутрішній борг"},{"$f":"YT_ALL!B19","v":0.40059400000000001},{"$f":"YT_ALL!C19","v":0.48579899999999998},{"$f":"YT_ALL!D19","v":0.44408799999999998},{"$f":"YT_ALL!E19","v":0.33676800000000001},{"$f":"YT_ALL!F19","v":0.35741699999999998},{"$f":"YT_ALL!G19","v":0.35716500000000001}]
[{"$f":"YT_ALL!A20","v":"Зовнішній борг"},{"$f":"YT_ALL!B20","v":0.59940599999999999},{"$f":"YT_ALL!C20","v":0.51420100000000002},{"$f":"YT_ALL!D20","v":0.55591199999999996},{"$f":"YT_ALL!E20","v":0.66323200000000004},{"$f":"YT_ALL!F20","v":0.64258300000000002},{"$f":"YT_ALL!G20","v":0.64283500000000005}]

{"sheet":"YKM_ALL","index":44,"n_rows":20,"n_cols":7,"rows_kept":20,"cut":false,"hidden":true,"merged":[[1,0,1,6]]}
[]
["Державний та гарантований державою борг України за останні 5 років"]
[]
[null,null,null,null,null,null,"млрд. грн."]
[null,{"$f":"YT_ALL!B5","v":"2012-12-31"},{"$f":"YT_ALL!C5","v":"2013-12-31"},{"$f":"YT_ALL!D5","v":"2014-12-31"},{"$f":"YT_ALL!E5","v":"2015-12-31"},{"$f":"YT_ALL!F5","v":"2016-12-31"},{"$f":"YT_ALL!G5","v":"2017-01-31"}]
["Загальна сума державного та гарантованого державою боргу",{"$f":"SUM(B$7+ B$8)","v":515.51083307650003},584.78657094876996,1100.8332167026401,1572.1801589904999,1929.7611522718098,1931.0191653930399]
[{"$f":"YK_ALL!A7","v":"Державний борг"},{"$f":"YK_ALL!B7/DMLMLR","v":399.21823411787},{"$f":"YK_ALL!C7/DMLMLR","v":480.21862943662001},{"$f":"YK_ALL!D7/DMLMLR","v":947.03046914465006},{"$f":"YK_ALL!E7/DMLMLR","v":1334.2716012912799},{"$f":"YK_ALL!F7/DMLMLR","v":1650.8332850501199},{"$f":"YK_ALL!G7/DMLMLR","v":1651.6900447923999}]
[{"$f":"YK_ALL!A8","v":"Гарантований державою борг"},{"$f":"YK_ALL!B8/DMLMLR","v":116.29259895862999},{"$f":"YK_ALL!C8/DMLMLR","v":104.56794151215},{"$f":"YK_ALL!D8/DMLMLR","v":153.80274755798999},{"$f":"YK_ALL!E8/DMLMLR","v":237.90855769922001},{"$f":"YK_ALL!F8/DMLMLR","v":278.92786722169001},{"$f":"YK_ALL!G8/DMLMLR","v":279.32912060064001}]
[]
[null,null,null,null,null,null,"млрд. дол.США"]
[null,{"$f":"YT_ALL!B11","v":"2012-12-31"},{"$f":"YT_ALL!C11","v":"2013-12-31"},{"$f":"YT_ALL!D11","v":"2014-12-31"},{"$f":"YT_ALL!E11","v":"2015-12-31"},{"$f":"YT_ALL!F11","v":"2016-12-31"},{"$f":"YT_ALL!G11","v":"2017-01-31"}]
["Загальна сума державного та гарантованого державою боргу",{"$f":"SUM(B$13+ B$14)","v":64.495287511390003},73.16233841495,69.811922962929998,65.505686112320006,70.970954733159999,71.205302629320002]
[{"$f":"YK_ALL!A13","v":"Державний борг"},{"$f":"YK_ALL!B13/DMLMLR","v":49.945981999040001},{"$f":"YK_ALL!C13/DMLMLR","v":60.079898590879999},{"$f":"YK_ALL!D13/DMLMLR","v":60.058160629950002},{"$f":"YK_ALL!E13/DMLMLR","v":55.593105028709999},{"$f":"YK_ALL!F13/DMLMLR","v":60.712805938389998},{"$f":"YK_ALL!G13/DMLMLR","v":60.90519016959}]
[{"$f":"YK_ALL!A14","v":"Гарантований державою борг"},{"$f":"YK_ALL!B14/DMLMLR","v":14.549305512349999},{"$f":"YK_ALL!C14/DMLMLR","v":13.082439824070001},{"$f":"YK_ALL!D14/DMLMLR","v":9.7537623329799992},{"$f":"YK_ALL!E14/DMLMLR","v":9.9125810836100001},{"$f":"YK_ALL!F14/DMLMLR","v":10.258148794769999},{"$f":"YK_ALL!G14/DMLMLR","v":10.30011245973}]
[]
[null,null,null,null,null,null,"%"]
[null,{"$f":"YT_ALL!B17","v":"2012-12-31"},{"$f":"YT_ALL!C17","v":"2013-12-31"},{"$f":"YT_ALL!D17","v":"2014-12-31"},{"$f":"YT_ALL!E17","v":"2015-12-31"},{"$f":"YT_ALL!F17","v":"2016-12-31"},{"$f":"YT_ALL!G17","v":"2017-01-31"}]
["Загальна сума державного та гарантованого державою боргу",{"$f":"SUM(B$19+ B$20)","v":1},1,1,1,1,1]
[{"$f":"YK_ALL!A19","v":"Державний борг"},{"$f":"YK_ALL!B19","v":0.77441300000000002},{"$f":"YK_ALL!C19","v":0.82118599999999997},{"$f":"YK_ALL!D19","v":0.86028499999999997},{"$f":"YK_ALL!E19","v":0.84867599999999999},{"$f":"YK_ALL!F19","v":0.85546},{"$f":"YK_ALL!G19","v":0.85534600000000005}]
[{"$f":"YK_ALL!A20","v":"Гарантований державою борг"},{"$f":"YK_ALL!B20","v":0.22558700000000001},{"$f":"YK_ALL!C20","v":0.178814},{"$f":"YK_ALL!D20","v":0.13971500000000001},{"$f":"YK_ALL!E20","v":0.15132399999999999},{"$f":"YK_ALL!F20","v":0.14454},{"$f":"YK_ALL!G20","v":0.144654}]

{"sheet":"YK_ALL","index":45,"n_rows":20,"n_cols":7,"rows_kept":20,"cut":false,"hidden":true,"merged":[[1,0,1,6]]}
[]
["Державний та гарантований державою борг України за останні 5 років"]
[]
[null,null,null,null,null,null,{"$f":"VALUAH","v":"млрд. грн"}]
[null,"2012-12-31","2013-12-31","2014-12-31","2015-12-31","2016-12-31","2017-01-31"]
["Загальна сума державного та гарантованого державою боргу",{"$f":"SUM(B$7+ B$8)","v":515.51083307650003},584.78657094876996,1100.8332167026401,1572.1801589904999,1929.7611522718098,1931.0191653930399]
["Державний борг",399.21823411787,480.21862943662001,947.03046914465006,1334.2716012912799,1650.8332850501199,1651.6900447923999]
["Гарантований державою борг",116.29259895862999,104.56794151215,153.80274755798999,237.90855769922001,278.92786722169001,279.32912060064001]
[]
[null,null,null,null,null,null,{"$f":"VALUSD","v":"млрд. дол. США"}]
[null,"2012-12-31","2013-12-31","2014-12-31","2015-12-31","2016-12-31","2017-01-31"]
["Загальна сума державного та гарантованого державою боргу",{"$f":"SUM(B$13+ B$14)","v":64.495287511390003},73.16233841495,69.811922962929998,65.505686112320006,70.970954733159999,71.205302629320002]
["Державний борг",49.945981999040001,60.079898590879999,60.058160629950002,55.593105028709999,60.712805938389998,60.90519016959]
["Гарантований державою борг",14.549305512349999,13.082439824070001,9.7537623329799992,9.9125810836100001,10.258148794769999,10.30011245973]
[]
[null,null,null,null,null,null,"%"]
[null,"2012-12-31","2013-12-31","2014-12-31","2015-12-31","2016-12-31","2017-01-31"]
["Загальна сума державного та гарантованого державою боргу",{"$f":"SUM(B$19+ B$20)","v":1},1,1,1,1,1]
["Державний борг",0.77441300000000002,0.82118599999999997,0.86028499999999997,0.84867599999999999,0.85546,0.85534600000000005]
["Гарантований державою борг",0.22558700000000001,0.178814,0.13971500000000001,0.15132399999999999,0.14454,0.144654]

{"sheet":"YKT2_UAH","index":46,"n_rows":115,"n_cols":7,"rows_kept":115,"cut":false,"hidden":false,"merged":[[1,0,1,6]]}
[]
["Державний та гарантований державою борг України за останні 5 років"]
[]
[null,null,null,null,null,null,{"$f":"VALUAH","v":"млрд. грн"}]
[null,"2012-12-31","2013-12-31","2014-12-31","2015-12-31","2016-12-31","2017-01-31"]
["Загальна сума державного та гарантованого державою боргу",{"$f":"B$7+B$65","v":515.51083307650003},584.78657094876996,1100.8332167026401,1572.1801589905001,1929.7611522718103,1931.0191653930401]
["Державний борг",{"$f":"B$8+B$33","v":399.21823411787},480.21862943661995,947.03046914465006,1334.2716012912801,1650.8332850501201,1651.6900447923999]
["Внутрішній борг",{"$f":"B$9+B$31","v":190.29929770604002},256.95957565805998,461.00362280239005,508.00112311179004,670.64553054187002,670.64001106030003]
["1. Заборгованість за випущеними цінними паперами на внутрішньому ринку",{"$f":"SUM(B$10:B$30)","v":187.25748968850002},254.050020163,458.22631982981005,505.35607266169006,668.13273261425002,668.12721313268003]
["Казначейські зобов'язання",0.82623241349999998,1.5986,8.8426000000000005E-2,9.8638000000000003E-2,0,0]
["ОВДП (1 - місячні)",0,2.3609777950000002,0,0,0,0]
["ОВДП (10 - річні)",15.412189,15.742189,50.254465000000003,60.558463000000003,74.832982999999999,74.832982999999999]
["ОВДП (11 - річні)",3.8499810000000001,3.8499810000000001,3.8499810000000001,17.382981000000001,17.382981000000001,17.382981000000001]
["ОВДП (12 - місячні)",14.392811129,2.9587167999999999,7.3378894800000003,8.2837102117200008,3.4775700000000001,3.45757]
["ОВДП (12 - річні)",1.5,1.5,1.5,12.5,28.5,28.5]
["ОВДП (13 - річні)",0,0,2.6176300000000001,13.11763,37.117629999999998,37.117629999999998]
["ОВДП (14 - річні)",0,0,3.25,3.25,51.25,51.25]
["ОВДП (15 - річні)",0,0,15.848839999999999,15.848839999999999,42.789838000000003,42.789838000000003]
["ОВДП (18 - місячні)",5.7090358229999998,2.8034248549999998,0.76931632000000005,1.04892516,29.257961406869999,29.180679354790001]
["ОВДП (2 - річні)",11.078361601999999,20.370806241,40.90737357439,21.910342335999999,64.353439528590002,64.332585217879995]
["ОВДП (3 - місячні)",0,0,0,0,0.01,0.01]
["ОВДП (3 - річні)",28.454277421,34.656496490999999,46.585054805570003,43.377236129330001,18.462385000000001,19.409305]
["ОВДП (4 - річні)",1.5982689999999999,6.5181646999999998,2.9221828599999999,15.04510672,15.58553728,15.574045760000001]
["ОВДП (5 - річні)",32.665693300000001,75.317385281,131.37977278984999,149.03381210463999,151.56965139879,150.95320780001001]
["ОВДП (6 - місячні)",0,0.55379,0.17,0,0.21580099999999999,0.01]
["ОВДП (6 - річні)",9.5,9.5,27.1,27.1,24.1,24.1]
["ОВДП (7 - річні)",33.095041999999999,47.143891000000004,54.624791000000002,48.624791000000002,44.739790999999997,44.739790999999997]
["ОВДП (8 - річні)",14.301197999999999,14.301197999999999,31.301197999999999,31.301197999999999,27.416198000000001,27.416198000000001]
["ОВДП (9 - місячні)",0,0,0.84499999999999997,0,0.19656699999999999,0.19600000000000001]
["ОВДП (9 - річні)",14.874399,14.874399,36.874398999999997,36.874398999999997,36.874398999999997,36.874398999999997]
["2. Заборгованість перед банківськими та іншими фінансовими установами",{"$f":"SUM(B$32:B$32)","v":3.0418080175400002},2.9095554950600002,2.7773029725799998,2.6450504500999998,2.5127979276199999,2.5127979276199999]
["Національний банк України",3.0418080175400002,2.9095554950600002,2.7773029725799998,2.6450504500999998,2.5127979276199999,2.5127979276199999]
["Зовнішній борг",{"$f":"B$34+B$41+B$49+B$51+B$63","v":208.91893641183},223.25905377855997,486.02684634226,826.27047817949006,980.18775450825001,981.05003373210002]
["1. Заборгованість за позиками, одержаними від міжнародних фінансових організацій",{"$f":"SUM(B$35:B$40)","v":80.097203051979989},61.90365008709,169.08990330626,337.44929111162003,371.84657549031999,373.20922503414999]
["Європейське Співтовариство",0,0,26.156754880000001,57.953115089999997,62.813954840000001,63.708852350000001]
["Європейський банк реконструкції та розвитку",4.2667356563999999,4.7666457536099998,9.3689811106899992,13.990699070510001,16.072308696730001,16.53241549242]
["Європейський Інвестиційний Банк",3.2033002879999999,4.2831345544100001,7.6529919443500001,12.53014511808,14.522377756999999,14.729275089390001]
["Міжнародний банк реконструкції та розвитку",24.233517043199999,24.539548446560001,68.318982284140006,124.74712580344,137.46050651632001,136.11812265442001]
["Міжнародний Валютний Фонд",48.393650064379997,28.314321332510001,57.585097236880003,128.20769715962001,140.90985268125999,142.05316294169]
["Фонд чистих технологій (МБРР)",0,0,7.0958502E-3,2.0508869969999999E-2,6.7574999009999998E-2,6.739650623E-2]
["2. Заборгованість за позиками, одержаними від органів управління іноземних держав",{"$f":"SUM(B$42:B$48)","v":9.0995013746799991},7.2789285748699992,16.372261708800004,32.70852715345,45.647504163770002,46.15063435127]
["Італія",8.4649745979999996E-2,0,0,0,0,0]
["Канада",0,0,2.7121072000000002,6.9140144000000001,8.0323875999999998,8.2464519999999997]
["Німеччина",0.48192545176000001,0.10648884857,0.13463035600000001,5.4281877029999999,5.9832793529500004,6.0685219046799999]
["Росія",6.4052373889799998,5.6239216389799997,9.5534720563400004,14.540944745859999,16.473740657730001,16.430226878149998]
["США",0.26486239851999999,9.4891391320000004E-2,0.16473260006000001,0.216533956,0.20657140273999999,0.20602576451999999]
["Франція",2.220053566E-2,0,0,0,0,0]
["Японія",1.84062585378,1.4536266959999999,3.8073194963999999,5.6088463485900002,14.951525150349999,15.19940780392]
["3. Заборгованість за позиками, одержаними від іноземних комерційних банків, інших іноземних фінансових установ",{"$f":"SUM(B$50:B$50)","v":5.3875717000000003E-4},5.6454460000000004E-4,9.8336319999999997E-4,1.34076761E-3,1.453225E-3,1.4739288000000001E-3]
["Chase Manhattan Bank Luxembourg S.A.",5.3875717000000003E-4,5.6454460000000004E-4,9.8336319999999997E-4,1.34076761E-3,1.453225E-3,1.4739288000000001E-3]
["4. Заборгованість за випущеними цінними паперами на зовнішньому ринку",{"$f":"SUM(B$52:B$62)","v":104.63620320000001},138.90906799999999,272.50934659999996,415.26993272281004,517.80448187716001,516.43675182988]
["ОЗДП 2003 року",7.9930000000000003,0,0,0,0,0]
["ОЗДП 2005 року",6.3223032000000003,6.6249180000000001,11.539744799999999,0,0,0]
["ОЗДП 2006 року",7.9930000000000003,7.9930000000000003,15.768556,0,0,0]
["ОЗДП 2007 року",5.5951000000000004,5.5951000000000004,11.0379892,0,0,0]
["ОЗДП 2010 року",15.986000000000001,15.986000000000001,31.537112,0,0,0]
["ОЗДП 2011 року",21.98075,21.98075,43.363529,0,0,0]
["ОЗДП 2012 року",38.76605,46.759050000000002,76.477496599999995,0,0,0]
["ОЗДП 2013 року",0,33.97025,67.016362999999998,72.002001000000007,81.572574000000003,81.357107999999997]
["ОЗДП 2014 року",0,0,15.768556,24.000667,27.190857999999999,27.119036000000001]
["ОЗДП 2015 року",0,0,0,319.26726472281001,381.85019187716,380.84157182988002]
["ОЗДП 2016 року",0,0,0,0,27.190857999999999,27.119036000000001]
["5. Заборгованість, не віднесена до інших категорій",{"$f":"SUM(B$64:B$64)","v":15.085490028000001},15.166842572,28.054351363999999,40.841386424,44.887739752000002,45.251948587999998]
["Міжнародний Валютний Фонд",15.085490028000001,15.166842572,28.054351363999999,40.841386424,44.887739752000002,45.251948587999998]
["Гарантований державою борг",{"$f":"B$66+B$86","v":116.29259895863001},104.56794151215001,153.80274755798999,237.90855769922001,278.92786722169001,279.32912060064001]
["Внутрішній борг",{"$f":"B$67+B$80+B$84","v":16.211415904390002},27.129149810690006,27.86328456259,21.459454905539999,19.084475248379999,19.051656241580002]
["1. Заборгованість за випущеними цінними паперами на внутрішньому ринку",{"$f":"SUM(B$68:B$79)","v":9.9712047243900006},21.135767983260003,21.567011600000001,16.400011599999999,15.9500116,15.9500116]
["Векселі Укравтодору",1.5677871243899999,0.99985038325999998,0,0,0,0]
["Державні цінні папери",1.1600000000000001E-5,1.1600000000000001E-5,1.1600000000000001E-5,1.1600000000000001E-5,1.1600000000000001E-5,1.1600000000000001E-5]
["Облігації ДІУ (10 - річні)",0,0,1,1,1,1]
["Облігації ДІУ (5 - річні)",1.8174999999999999,1.8,3,3,3,3]
["Облігації ДІУ (7 - річні)",0.4,1.4,3.2,3.2,3,3]
["Облігації ДП КАЗ \"Авіант\" (5 - річні)",0.57890600000000003,0.57890600000000003,0,0,0,0]
["Облігації НАК \"Нафтогаз України\" (3 - річні)",0,4.8,4.8,4.8,4.8,4.8]
["Облігації Укравтодору (12 - місячні)",0,1.55,0,0,0,0]
["Облігації Укравтодору (3 - річні)",4,4.25,4.25,0.25,0,0]
["Облігації Укравтодору (5 - річні)",0,4.1500000000000004,4.1500000000000004,4.1500000000000004,4.1500000000000004,4.1500000000000004]
["Облігації ХДАВП (5 - річні)",0.88,0.88,0.44,0,0,0]
["Облігації ХДАВП (6 - річні)",0.72699999999999998,0.72699999999999998,0.72699999999999998,0,0,0]
["2. Заборгованість перед банківськими та іншими фінансовими установами",{"$f":"SUM(B$81:B$83)","v":6.2392565300000005},5.9924271774300006,6.2953183125900001,5.0584886555399997,3.13350899838,3.1006899915799999]
["ВАТ \"Державний експортно-імпортний банк України\"",2.1,2.1,2.1,1.05,0,0]
["ВАТ \"Державний ощадний банк України\"",4.1392565299999999,3.8924271774300001,4.0098623181499997,3.8598623181499998,3.0217123181500001,2.9981007256300001]
["ПАТ АБ \"Укргазбанк\"",0,0,0.18545599443999999,0.14862633739,0.11179668023,0.10258926594999999]
["3. Заборгованість, не віднесена до інших категорій",{"$f":"SUM(B$85:B$85)","v":9.5465000000000003E-4},9.5465000000000003E-4,9.5465000000000003E-4,9.5465000000000003E-4,9.5465000000000003E-4,9.5465000000000003E-4]
["Інші кредитори",9.5465000000000003E-4,9.5465000000000003E-4,9.5465000000000003E-4,9.5465000000000003E-4,9.5465000000000003E-4,9.5465000000000003E-4]
["Зовнішній борг",{"$f":"B$87+B$93+B$95+B$97+B$110+B$114","v":100.08118305424},77.438791701460005,125.93946299539999,216.44910279368,259.84339197331002,260.27746435905999]
["1. Заборгованість за позиками, одержаними від міжнародних фінансових організацій",{"$f":"SUM(B$88:B$92)","v":40.557833932560001},16.22562155316,40.11055668046,140.83380311662,190.93506704562,192.50972424922]
["Європейське співтоватиство з атомної енергії",0.37945768590000001,0.31837813165000001,0.45145045025000002,0.45663837269000002,0.29585176270000002,0.29787833735000002]
["Європейський банк реконструкції та розвитку",0.90424261813999995,0.78219066155999994,1.3925072565700001,3.0501432933200001,10.514548582190001,10.699776571419999]
["Європейський Інвестиційний Банк",0,0,0,0,0.99479114000000002,1.0089637250000001]
["Міжнародний банк реконструкції та розвитку",1.4836298022700001,1.94824073307,5.8077372910499996,9.4189829975699997,12.373018988069999,12.39322211466]
["Міжнародний Валютний Фонд",37.790503826250003,13.17681202688,32.458861682589998,127.90803845304001,166.75685657266001,168.10988350079]
["2. Заборгованість за позиками, одержаними від органів управління іноземних держав",{"$f":"SUM(B$94:B$94)","v":1.9809336450799999},1.9809336450799999,3.8427124724100001,4.6790669948200003,3.9757597011099999,3.3043817659200001]
["Канада",1.9809336450799999,1.9809336450799999,3.8427124724100001,4.6790669948200003,3.9757597011099999,3.3043817659200001]
["2. Заборгованість перед банківськими та іншими фінансовими установами",{"$f":"SUM(B$96:B$96)","v":0},0,0,0,0,7.999719E-4]
["ВАТ \"Державний ощадний банк України\"",0,0,0,0,0,7.999719E-4]
["3. Заборгованість за позиками, одержаними від іноземних комерційних банків, інших іноземних фінансових установ",{"$f":"SUM(B$98:B$109)","v":29.341600836519998},31.026026400319999,51.616024108979992,68.227550551150003,61.955520879730003,61.461358969419997]
["Aquasafety Invest plc",0.35123906314999997,0.18402549264000001,0,0,0,0]
["Citibank, N.A. London",1.5729139271999999,1.2361506707800001,1.4354757070399999,0.97860044465999996,0,0]
["Credit Suisse First Boston International",1.19895,1.19895,0,0,0,0]
["Credit Suisse International",2.0142359999999999,1.6113888000000001,2.3842056671999998,2.4192672335999998,0,0]
["Deutsche Bank AG London",0.34255715198999998,0.22837143999000001,0.22526511275,0,0.38812792235999999,0.39365750112999998]
["UniCredit Bank Austria AG",0.7165276921,0.65697103136000001,0.98087830241999996,1.1144829759399999,0.96636853003000001,0.98013618395000002]
["VTB Capital PLC",3.5233143999999998,2.34887627732,2.3169265369800001,0,0,0]
["ВАТ \"Газпромбанк\"",0,3.9965000000000002,7.8842780000000001,12.0003335,13.595428999999999,13.559518000000001]
["Державний банк розвитку КНР",0.46304125208000002,0.67940500000000004,1.34032726,1.7299680773599999,1.6086111592800001,1.6043621697599999]
["Експортно-імпортний банк Китаю",11.9895,12.40612629274,24.47475255725,37.252008746640001,41.849257070509999,41.385328892479997]
["Експортно-імпортний банк Кореї",2.0857733500000002,1.8250516812499999,3.0861035161500001,3.91435878353,3.54772719755,3.5383562221]
["Сбербанк Росії",5.0835480000000004,4.6542097142400003,7.4878114491899996,8.8185307894200005,0,0]
["4. Заборгованість за випущеними цінними паперами на зовнішньому ринку",{"$f":"SUM(B$111:B$113)","v":27.200314880999997},27.200314880999997,28.509549247999999,0,0,0]
["Облігації ДП \"ФІНІНПРО\" (5 - річні)",4.3961499999999996,4.3961499999999996,8.6727057999999992,0,0,0]
["Облігації ДП \"ФІНІНПРО\" (7 - річні)",10.055194,10.055194,19.836843448,0,0,0]
["Облігації НАК \"Нафтогаз\" (5 - річні)",12.748970881,12.748970881,0,0,0,0]
["5. Заборгованість, не віднесена до інших категорій",{"$f":"SUM(B$115:B$115)","v":1.00049975908},1.0058952218999999,1.8606204855499999,2.7086821310899998,2.9770443468500001,3.0011994026000002]
["Міжнародний Валютний Фонд",1.00049975908,1.0058952218999999,1.8606204855499999,2.7086821310899998,2.9770443468500001,3.0011994026000002]

{"sheet":"YKT2_USD","index":47,"n_rows":115,"n_cols":7,"rows_kept":115,"cut":false,"hidden":false,"merged":[[1,0,1,6]]}
[]
["Державний та гарантований державою борг України за останні 5 років"]
[]
[null,null,null,null,null,null,{"$f":"VALUSD","v":"млрд. дол. США"}]
[null,"2012-12-31","2013-12-31","2014-12-31","2015-12-31","2016-12-31","2017-01-31"]
["Загальна сума державного та гарантованого державою боргу",{"$f":"B$7+B$65","v":64.495287511390018},73.16233841495,69.811922962929998,65.505686112320006,70.970954733159985,71.205302629320002]
["Державний борг",{"$f":"B$8+B$33","v":49.945981999040008},60.079898590880006,60.058160629949995,55.593105028709999,60.712805938389991,60.90519016959]
["Внутрішній борг",{"$f":"B$9+B$31","v":23.808244427200005},32.148076524250001,29.235627080109996,21.166125221089995,24.664375450929999,24.729493004969999]
["1. Заборгованість за випущеними цінними паперами на внутрішньому ринку",{"$f":"SUM(B$10:B$30)","v":23.427685435890005},31.784063576040001,29.059497891579998,21.055917848519996,24.57196211378,24.636834920529999]
["Казначейські зобов'язання",0.1033695,0.2,5.6077423999999999E-3,4.10980245E-3,0,0]
["ОВДП (1 - місячні)",0,0.29538068246999999,0,0,0,0]
["ОВДП (10 - річні)",1.9282108094799999,1.96949693484,3.1870048849599999,2.5231991677200001,2.7521376118899998,2.7594263675100001]
["ОВДП (11 - річні)",0.48166908544999998,0.48166908544999998,0.24415558406999999,0.72427074632999999,0.63929505277999998,0.64098816051999996]
["ОВДП (12 - місячні)",1.80067698349,0.37016349306000002,0.46534948921000002,0.34514499999999998,0.12789482406,0.12749605114000001]
["ОВДП (12 - річні)",0.18766420617999999,0.18766420617999999,9.5126021690000007E-2,0.52081885891000002,1.04814640274,1.0509223115599999]
["ОВДП (13 - річні)",0,0,0.1660031521,0.54655272705000002,1.36507755659,1.3686928252299999]
["ОВДП (14 - річні)",0,0,0.20610638032,0.13541290332,1.8848246715800001,1.8898164374599999]
["ОВДП (15 - річні)",0,0,1.0050913983500001,0.66034998110999998,1.57368472887,1.57785247233]
["ОВДП (18 - місячні)",0.71425445052000003,0.35073500000000002,4.8788000630000002E-2,4.3704000389999997E-2,1.076022,1.076022]
["ОВДП (2 - річні)",1.3860079572099999,2.5485807883199998,2.5942371371499999,0.91290555954999997,2.3667307419600001,2.37222979526]
["ОВДП (3 - місячні)",0,0,0,0,3.6777066999999999E-4,3.6874466999999998E-4]
["ОВДП (3 - річні)",3.5598995898000001,4.3358559353399997,2.9543006224399999,1.8073346098800001,0.67899236573999999,0.71570777810999997]
["ОВДП (4 - річні)",0.19995858877,0.81548413612000004,0.18531708674,0.62686202513,0.57319034508,0.57428463757000003]
["ОВДП (5 - річні)",4.0867876016400002,9.4229182135399991,8.3317567436799997,6.2095695967499998,5.5742871886499996,5.5663190904200004]
["ОВДП (6 - місячні)",0,6.9284373829999996E-2,1.0780949119999999E-2,0,7.93652779E-3,3.6874466999999998E-4]
["ОВДП (6 - річні)",1.1885399724600001,1.1885399724600001,1.7186101251499999,1.1291352861099999,0.88632730900000001,0.88867465642999999]
["ОВДП (7 - річні)",4.1405031902899996,5.8981472538300004,3.4641593688699999,2.0259766530699999,1.64539828055,1.6497559500100001]
["ОВДП (8 - річні)",1.78921531342,1.78921531342,1.98503895984,1.3041803379700001,1.00828734425,1.0109576903799999]
["ОВДП (9 - місячні)",0,0,5.3587658890000001E-2,0,7.2291576899999998E-3,7.2273955499999997E-3]
["ОВДП (9 - річні)",1.8609281871800001,1.8609281871800001,2.3384765859700001,1.5363905927799999,1.3561322338899999,1.3597238117099999]
["2. Заборгованість перед банківськими та іншими фінансовими установами",{"$f":"SUM(B$32:B$32)","v":0.38055899130999998},0.36401294821000002,0.17612918853000001,0.11020737257,9.2413337149999997E-2,9.2658084439999996E-2]
["Національний банк України",0.38055899130999998,0.36401294821000002,0.17612918853000001,0.11020737257,9.2413337149999997E-2,9.2658084439999996E-2]
["Зовнішній борг",{"$f":"B$34+B$41+B$49+B$51+B$63","v":26.137737571840002},27.931822066630001,30.822533549839999,34.42697980762,36.048430487459996,36.175697164619997]
["1. Заборгованість за позиками, одержаними від міжнародних фінансових організацій",{"$f":"SUM(B$35:B$40)","v":10.02091868534},7.7447329021800009,10.72323320578,14.05999637889,13.67542633227,13.761891279409999]
["Європейське Співтовариство",0,0,1.65879202128,2.4146460216999999,2.3101130107799999,2.3492299781599999]
["Європейський банк реконструкції та розвитку",0.53380903995999995,0.59635252767000002,0.59415593354999996,0.58292959401,0.59109236997000003,0.60962401070000005]
["Європейський Інвестиційний Банк",0.40076320380000002,0.53586069740999998,0.48533245177000001,0.52207487058000002,0.53409045630999996,0.54313416927000002]
["Міжнародний банк реконструкції та розвитку",3.03184249258,3.0701299194999998,4.33260866018,5.1976524570500002,5.0553942253799997,5.0192832316900002]
["Міжнародний Валютний Фонд",6.0545039489999999,3.5423897576000001,3.6518941389999999,5.3418389230500001,5.1822510595800004,5.2381346793399999]
["Фонд чистих технологій (МБРР)",0,0,4.4999999999999999E-4,8.5451250000000004E-4,2.4852102500000002E-3,2.4852102500000002E-3]
["2. Заборгованість за позиками, одержаними від органів управління іноземних держав",{"$f":"SUM(B$42:B$48)","v":1.1384338014099999},0.9106629018900001,1.0382854149,1.3628174230800001,1.67878130816,1.7017800467299999]
["Італія",1.059048492E-2,0,0,0,0,0]
["Канада",0,0,0.17199464554999999,0.28807592722000003,0.29540765501999999,0.30408352274]
["Німеччина",6.0293438230000003E-2,1.3322763479999999E-2,8.5379001099999997E-3,0.22616820202999999,0.22004746421999999,0.22377351113999999]
["Росія",0.80135586000000003,0.70360586000000003,0.60585586000000002,0.60585586000000002,0.60585586000000002,0.60585586000000002]
["США",3.3136794509999998E-2,1.1871811750000001E-2,1.044690459E-2,9.0219974299999995E-3,7.5970902699999997E-3,7.5970902699999997E-3]
["Франція",2.7774972700000001E-3,0,0,0,0,0]
["Японія",0.23027972648,0.18186246666,0.24145010465,0.23369543640000001,0.54987323865000004,0.56047006257999998]
["3. Заборгованість за позиками, одержаними від іноземних комерційних банків, інших іноземних фінансових установ",{"$f":"SUM(B$50:B$50)","v":6.7403619999999994E-5},7.0629879999999998E-5,6.2362290000000004E-5,5.5863760000000003E-5,5.3445349999999998E-5,5.4350340000000003E-5]
["Chase Manhattan Bank Luxembourg S.A.",6.7403619999999994E-5,7.0629879999999998E-5,6.2362290000000004E-5,5.5863760000000003E-5,5.3445349999999998E-5,5.4350340000000003E-5]
["4. Заборгованість за випущеними цінними паперами на зовнішньому ринку",{"$f":"SUM(B$52:B$62)","v":13.09098000751},17.378839984990002,17.28182000939,17.302433000000001,19.043329999999997,19.043330000000001]
["ОЗДП 2003 року",1,0,0,0,0,0]
["ОЗДП 2005 року",0.79098000750999997,0.82883998499,0.73182000939000003,0,0,0]
["ОЗДП 2006 року",1,1,1,0,0,0]
["ОЗДП 2007 року",0.7,0.7,0.7,0,0,0]
["ОЗДП 2010 року",2,2,2,0,0,0]
["ОЗДП 2011 року",2.75,2.75,2.75,0,0,0]
["ОЗДП 2012 року",4.8499999999999996,5.85,4.8499999999999996,0,0,0]
["ОЗДП 2013 року",0,4.25,4.25,3,3,3]
["ОЗДП 2014 року",0,0,1,1,1,1]
["ОЗДП 2015 року",0,0,0,13.302433000000001,14.043329999999999,14.043329999999999]
["ОЗДП 2016 року",0,0,0,0,1,1]
["5. Заборгованість, не віднесена до інших категорій",{"$f":"SUM(B$64:B$64)","v":1.8873376739600001},1.8975156476899999,1.7791325574800001,1.7016771418900001,1.6508394016800001,1.66864148814]
["Міжнародний Валютний Фонд",1.8873376739600001,1.8975156476899999,1.7791325574800001,1.7016771418900001,1.6508394016800001,1.66864148814]
["Гарантований державою борг",{"$f":"B$66+B$86","v":14.549305512350003},13.082439824070001,9.7537623329799992,9.9125810836100001,10.258148794769999,10.30011245973]
["Внутрішній борг",{"$f":"B$67+B$80+B$84","v":2.0282016647000001},3.3941135759200001,1.7670156076999999,0.89411910530000005,0.70187102033000004,0.70251967069999999]
["1. Заборгованість за випущеними цінними паперами на внутрішньому ринку",{"$f":"SUM(B$68:B$79)","v":1.2474921463700002},2.6442847472600004,1.36772267545,0.68331482616000006,0.58659464145999995,0.58814817751000004]
["Векселі Укравтодору",0.19614501741000001,0.12509075229,0,0,0,0]
["Державні цінні папери",1.45127E-6,1.45127E-6,7.3564000000000004E-7,4.8332000000000002E-7,4.2660999999999998E-7,4.2773999999999999E-7]
["Облігації ДІУ (10 - річні)",0,0,6.3417347789999995E-2,4.166550871E-2,3.6777066759999998E-2,3.687446707E-2]
["Облігації ДІУ (5 - річні)",0.22738646333000001,0.22519704759,0.19025204337000001,0.12499652612999999,0.11033120028,0.11062340121]
["Облігації ДІУ (7 - річні)",5.0043788360000001E-2,0.17515325914999999,0.20293551297000001,0.13332962782999999,0.11033120028,0.11062340121]
["Облігації ДП КАЗ \"Авіант\" (5 - річні)",7.2426623300000006E-2,7.2426623300000006E-2,0,0,0,0]
["Облігації НАК \"Нафтогаз України\" (3 - річні)",0,0.60052545978000005,0.30440326938000001,0.19999444182000001,0.17652992045999999,0.17699744193]
["Облігації Укравтодору (12 - місячні)",0,0.19391967971999999,0,0,0,0]
["Облігації Укравтодору (3 - річні)",0.50043788314000004,0.53171525084000004,0.26952372811000003,1.041637718E-2,0,0]
["Облігації Укравтодору (5 - річні)",0,0.51920430376000004,0.26318199332999997,0.17291186116999999,0.15262482707,0.15302903835000001]
["Облігації ХДАВП (5 - річні)",0.1100963343,0.1100963343,2.7903633019999999E-2,0,0,0]
["Облігації ХДАВП (6 - річні)",9.0954585259999998E-2,9.0954585259999998E-2,4.6104411839999998E-2,0,0,0]
["2. Заборгованість перед банківськими та іншими фінансовими установами",{"$f":"SUM(B$81:B$83)","v":0.78059008257000007},0.74970939290000005,0.39923239088000001,0.21076450315999998,0.11524126964,0.11433629098]
["ВАТ \"Державний експортно-імпортний банк України\"",0.26272988865000002,0.26272988865000002,0.13317643035999999,4.3748784149999997E-2,0,0]
["ВАТ \"Державний ощадний банк України\"",0.51786019392000004,0.48697950424999997,0.25429483322000002,0.16082312704999999,0.11112971566,0.11055336648]
["ПАТ АБ \"Укргазбанк\"",0,0,1.17611273E-2,6.1925919600000004E-3,4.11155398E-3,3.7829245000000002E-3]
["3. Заборгованість, не віднесена до інших категорій",{"$f":"SUM(B$85:B$85)","v":1.1943576E-4},1.1943576E-4,6.0541370000000001E-5,3.9775979999999999E-5,3.5109230000000001E-5,3.5202210000000001E-5]
["Інші кредитори",1.1943576E-4,1.1943576E-4,6.0541370000000001E-5,3.9775979999999999E-5,3.5109230000000001E-5,3.5202210000000001E-5]
["Зовнішній борг",{"$f":"B$87+B$93+B$95+B$97+B$110+B$114","v":12.521103847650002},9.6883262481500001,7.9867467252799997,9.0184619783100004,9.5562777744399998,9.597592789030001]
["1. Заборгованість за позиками, одержаними від міжнародних фінансових організацій",{"$f":"SUM(B$88:B$92)","v":5.0741691395699995},2.0299789257,2.5437051230600001,5.8679120508100002,7.0220317080700001,7.0986934878200003]
["Європейське співтоватиство з атомної енергії",4.7473750269999997E-2,3.9832119559999997E-2,2.8629790209999999E-2,1.90260701E-2,1.088056003E-2,1.0984104939999999E-2]
["Європейський банк реконструкції та розвитку",0.11312931542,9.785945972E-2,8.8309116990000006E-2,0.12708577197000001,0.38669425519,0.39454855886000001]
["Європейський Інвестиційний Банк",0,0,0,0,3.658550017E-2,3.7204999650000001E-2]
["Міжнародний банк реконструкції та розвитку",0.18561613940999999,0.24374336708,0.36831129565999998,0.39244671814999998,0.45504334538000002,0.45699346078000003]
["Міжнародний Валютний Фонд",4.7279499344699998,1.6485439793400001,2.0584549202,5.32935349059,6.1328280473000003,6.1989623635899997]
["2. Заборгованість за позиками, одержаними від органів управління іноземних держав",{"$f":"SUM(B$94:B$94)","v":0.24783356000000001},0.24783356000000001,0.24369463331999999,0.19495570664,0.14621677995999999,0.12184731662000001]
["Канада",0.24783356000000001,0.24783356000000001,0.24369463331999999,0.19495570664,0.14621677995999999,0.12184731662000001]
["2. Заборгованість перед банківськими та іншими фінансовими установами",{"$f":"SUM(B$96:B$96)","v":0},0,0,0,0,2.9498540000000002E-5]
["ВАТ \"Державний ощадний банк України\"",0,0,0,0,0,2.9498540000000002E-5]
["3. Заборгованість за позиками, одержаними від іноземних комерційних банків, інших іноземних фінансових установ",{"$f":"SUM(B$98:B$109)","v":3.6709121527000006},3.8816497435699997,3.2733513524600002,2.8427356019299999,2.2785423277099999,2.2663548575000001]
["Aquasafety Invest plc",4.3943333309999999E-2,2.3023332000000001E-2,0,0,0,0]
["Citibank, N.A. London",0.19678642902999999,0.15465415623000001,9.1034062159999998E-2,4.0773885349999997E-2,0,0]
["Credit Suisse First Boston International",0.15,0.15,0,0,0,0]
["Credit Suisse International",0.252,0.2016,0.1512,0.1008,0,0]
["Deutsche Bank AG London",4.2857144E-2,2.8571429999999998E-2,1.4285716E-2,0,1.427420651E-2,1.4515910559999999E-2]
["UniCredit Bank Austria AG",8.9644400360000001E-2,8.2193298060000003E-2,6.2204700440000003E-2,4.6435500140000002E-2,3.5540199949999997E-2,3.6141999440000003E-2]
["VTB Capital PLC",0.44080000000000003,0.293866668,0.146933336,0,0,0]
["ВАТ \"Газпромбанк\"",0,0.5,0.5,0.5,0.5,0.5]
["Державний банк розвитку КНР",5.7930846000000001E-2,8.5000000000000006E-2,8.5000000000000006E-2,7.2080000000000005E-2,5.9159999999999997E-2,5.9159999999999997E-2]
["Експортно-імпортний банк Китаю",1.5,1.552123895,1.552123895,1.552123895,1.53909292125,1.5260619474999999]
["Експортно-імпортний банк Кореї",0.26095000000000002,0.22833125000000001,0.19571250000000001,0.16309375000000001,0.13047500000000001,0.13047500000000001]
["Сбербанк Росії",0.63600000000000001,0.58228571427999998,0.47485714286000003,0.36742857144000002,0,0]
["4. Заборгованість за випущеними цінними паперами на зовнішньому ринку",{"$f":"SUM(B$111:B$113)","v":3.4030170000000002},3.4030170000000002,1.8080000000000001,0,0,0]
["Облігації ДП \"ФІНІНПРО\" (5 - річні)",0.55000000000000004,0.55000000000000004,0.55000000000000004,0,0,0]
["Облігації ДП \"ФІНІНПРО\" (7 - річні)",1.258,1.258,1.258,0,0,0]
["Облігації НАК \"Нафтогаз\" (5 - річні)",1.5950169999999999,1.5950169999999999,0,0,0,0]
["5. Заборгованість, не віднесена до інших категорій",{"$f":"SUM(B$115:B$115)","v":0.12517199538000001},0.12584701887999999,0.11799561644000001,0.11285861893,0.1094869587,0.11066762854999999]
["Міжнародний Валютний Фонд",0.12517199538000001,0.12584701887999999,0.11799561644000001,0.11285861893,0.1094869587,0.11066762854999999]

{"sheet":"KIND_CMP","index":49,"n_rows":9,"n_cols":9,"rows_kept":9,"cut":false,"hidden":true,"merged":[[4,1,4,3],[4,4,4,6],[1,0,1,8],[0,1,0,4]]}
[null,{"$f":"\"Державний та гарантований державою борг України за станом на \" & TEXT(DREPORTDATE,\"dd.MM.yyyy\")","v":"Державний та гарантований державою борг України за станом на 31.01.2017"}]
["Структура боргу за ознакою умовності\nна кінець попереднього року та на звітну дату"]
[]
[null,null,null,null,null,null,null,"тис.одиниць",{"$f":"VALVAL","v":"млрд. одиниць"}]
[null,"2016-12-31",null,null,"2017-01-31"]
[null,"дол.США","грн.","%","дол.США","грн.","%","%","Зміна структури"]
["Загальна сума державного та гарантованого державою боргу",{"$f":"SUM(B$8+ B$9)","v":70.970954733159999},1929.7611522718098,1,71.205302629320002,1931.0191653930399,1,null,{"$f":"SUM(I$8+ I$9)","v":0}]
["Державний борг",60.712805938389998,1650.8332850501199,0.85546,60.90519016959,1651.6900447923999,0.85534600000000005,-1.1400000000000001E-4,-21.4]
["Гарантований державою борг",10.258148794769999,278.92786722169001,0.14454,10.30011245973,279.32912060064001,0.144654,1.1400000000000001E-4,21.4]

{"sheet":"DTR","index":51,"n_rows":9,"n_cols":5,"rows_kept":9,"cut":false,"hidden":true,"merged":[[1,0,1,4]]}
[]
["Структура державного та гарантованого державою боргу\nв розрізі термінів погашення"]
[]
[null,null,null,{"$f":"VALVAL","v":"млрд. одиниць"}]
[null,"дол.США","грн.","%","FORMAT"]
["Загальна сума державного та гарантованого державою боргу",{"$f":"SUM(B$7+ B$8+ B$9)","v":71.205302629320002},1931.0191653930401,1.0000009999999999,"3"]
["2017.01.31-2017.12.31",3.32889358652,90.276385012960006,4.6751000000000001E-2,"1"]
["2018-2022",31.74572214718,860.91338175436999,0.44583400000000001,"1"]
["2022-31.12.2060",36.130686895620002,979.82939862571004,0.50741599999999998,"1"]

{"sheet":"DEBT_TERM","index":54,"n_rows":61,"n_cols":10,"rows_kept":61,"cut":false,"hidden":true,"merged":[[2,0,2,4],[4,0,4,4],[3,0,3,7]]}
[]
[]
["Державний та гарантований державою борг України"]
[{"$f":"\" за станом на \" & TEXT(DREPORTDATE,\"dd.MM.yyyy\")","v":" за станом на 31.01.2017"}]
["(в розрізі середнього терміну обігу та середньої ставки)"]
[]
[]
[" ","Середня ставка,\n %","Середній термін обігу, років","Середній термін до погашення, років",{"$f":" \"Сума боргу \" & VALVAL","v":"Сума боргу млрд. одиниць"},"IS_CHART_DATA","IS_OVDP","FORMAT"]
["Державний та гарантований державою борг України",24.783000000000001,10.95,8.1199999999999992,1931019165.3900001,0,0,3,{"$f":"IF(A9=\"\",\"\",A9 & \"; \" &B9 & \"%; \"&C9 &\"р.\")","v":"Державний та гарантований державою борг України; 24,783%; 10,95р."},{"$f":"E9","v":1931019165.3900001}]
["    Державний борг",25.277000000000001,10.7,7.9,1651690044.79,0,0,2,"    Державний борг; 25,277%; 10,7р.",1651690044.79]
["      Державний внутрішній борг",53.719000000000001,7.78,5.54,670640011.05999994,1,0,0,"      Державний внутрішній борг; 53,719%; 7,78р.",670640011.05999994]
["         в т.ч. ОВДП",53.902000000000001,7.67,5.49,668127213.13,0,0,0,"         в т.ч. ОВДП; 53,902%; 7,67р.",668127213.13]
["            ОВДП (1 - місячні)",0,0,0,0,0,1,0,"            ОВДП (1 - місячні); 0%; 0р.",0]
["            ОВДП (10 - річні)",17.321000000000002,9.93,7.02,72402983,0,1,0,"            ОВДП (10 - річні); 17,321%; 9,93р.",72402983]
["            ОВДП (11 - річні)",11.221,10.99,8.18,17382981,0,1,0,"            ОВДП (11 - річні); 11,221%; 10,99р.",17382981]
["            ОВДП (12 - місячні)",0.42799999999999999,0.91,0.4,3457570,0,1,0,"            ОВДП (12 - місячні); 0,428%; 0,91р.",3457570]
["            ОВДП (12 - річні)",8.1820000000000004,12.14,11.24,28500000,0,1,0,"            ОВДП (12 - річні); 8,182%; 12,14р.",28500000]
["            ОВДП (13 - річні)",8.7260000000000009,13.1,12.55,37117630,0,1,0,"            ОВДП (13 - річні); 8,726%; 13,1р.",37117630]
["            ОВДП (14 - річні)",8.2110000000000003,14.03,13.81,51250000,0,1,0,"            ОВДП (14 - річні); 8,211%; 14,03р.",51250000]
["            ОВДП (15 - річні)",8.3460000000000001,13.42,12.56,42789838,0,1,0,"            ОВДП (15 - річні); 8,346%; 13,42р.",42789838]
["            ОВДП (18 - місячні)",77.87,1.48,0.8,29180679.350000001,0,1,0,"            ОВДП (18 - місячні); 77,87%; 1,48р.",29180679.350000001]
["            ОВДП (2 - річні)",109.991,1.98,1.34,64332585.219999999,0,1,0,"            ОВДП (2 - річні); 109,991%; 1,98р.",64332585.219999999]
["            ОВДП (3 - місячні)",0,0.25,0.1,10000,0,1,0,"            ОВДП (3 - місячні); 0%; 0,25р.",10000]
["            ОВДП (3 - річні)",427.81700000000001,2.9,1.37,19409305,0,1,0,"            ОВДП (3 - річні); 427,817%; 2,9р.",19409305]
["            ОВДП (4 - річні)",14.504,4.32,2.42,11230000,0,1,0,"            ОВДП (4 - річні); 14,504%; 4,32р.",11230000]
["            ОВДП (5 - річні)",28.276,4.99,2.85,84845701.799999997,0,1,0,"            ОВДП (5 - річні); 28,276%; 4,99р.",84845701.799999997]
["            ОВДП (6 - місячні)",0,0.5,0.35,10000,0,1,0,"            ОВДП (6 - місячні); 0%; 0,5р.",10000]
["            ОВДП (6 - річні)",14.3,6.42,3.82,17600000,0,1,0,"            ОВДП (6 - річні); 14,3%; 6,42р.",17600000]
["            ОВДП (7 - річні)",11.411,6.98,4.41,13580900,0,1,0,"            ОВДП (7 - річні); 11,411%; 6,98р.",13580900]
["            ОВДП (8 - річні)",12.244,8.14,3.9,26316198,0,1,0,"            ОВДП (8 - річні); 12,244%; 8,14р.",26316198]
["            ОВДП (9 - місячні)",0,0.75,0.08,196000,0,1,0,"            ОВДП (9 - місячні); 0%; 0,75р.",196000]
["            ОВДП (9 - річні)",11.669,9.06,4.75,35774399,0,1,0,"            ОВДП (9 - річні); 11,669%; 9,06р.",35774399]
["            Казначейські зобов'язання",0,0,0,0,0,1,0,"            Казначейські зобов'язання; 0%; 0р.",0]
["            ОВДП (1 - місячні)",0,0,0,0,0,1,0,"            ОВДП (1 - місячні); 0%; 0р.",0]
["            ОВДП (10 - річні)",9.4649999999999999,10.029999999999999,4.84,2430000,0,1,0,"            ОВДП (10 - річні); 9,465%; 10,03р.",2430000]
["            ОВДП (12 - місячні)",0,0,0,0,0,1,0,"            ОВДП (12 - місячні); 0%; 0р.",0]
["            ОВДП (18 - місячні)",0,0,0,0,0,1,0,"            ОВДП (18 - місячні); 0%; 0р.",0]
["            ОВДП (2 - річні)",0,0,0,0,0,1,0,"            ОВДП (2 - річні); 0%; 0р.",0]
["            ОВДП (3 - місячні)",0,0,0,0,0,1,0,"            ОВДП (3 - місячні); 0%; 0р.",0]
["            ОВДП (3 - річні)",0,0,0,0,0,1,0,"            ОВДП (3 - річні); 0%; 0р.",0]
["            ОВДП (4 - річні)",744.28200000000004,3.97,0.28999999999999998,4344045.76,0,1,0,"            ОВДП (4 - річні); 744,282%; 3,97р.",4344045.76]
["            ОВДП (5 - річні)",73.515000000000001,4.9000000000000004,1.1200000000000001,66107506,0,1,0,"            ОВДП (5 - річні); 73,515%; 4,9р.",66107506]
["            ОВДП (6 - місячні)",0,0,0,0,0,1,0,"            ОВДП (6 - місячні); 0%; 0р.",0]
["            ОВДП (6 - річні)",9.5,6.18,0.7,6500000,0,1,0,"            ОВДП (6 - річні); 9,5%; 6,18р.",6500000]
["            ОВДП (7 - річні)",117.744,6.98,2.63,31158891,0,1,0,"            ОВДП (7 - річні); 117,744%; 6,98р.",31158891]
["            ОВДП (8 - річні)",9.5,7.92,2.2799999999999998,1100000,0,1,0,"            ОВДП (8 - річні); 9,5%; 7,92р.",1100000]
["            ОВДП (9 - місячні)",0,0,0,0,0,1,0,"            ОВДП (9 - місячні); 0%; 0р.",0]
["            ОВДП (9 - річні)",9.5,8.93,3.3,1100000,0,1,0,"            ОВДП (9 - річні); 9,5%; 8,93р.",1100000]
["      Державний зовнішній борг",5.8339999999999996,12.69,9.51,981050033.73000002,1,0,0,"      Державний зовнішній борг; 5,834%; 12,69р.",981050033.73000002]
["         в т.ч. ОЗДП",6.367,7.21,5.63,516436751.82999998,0,0,0,"         в т.ч. ОЗДП; 6,367%; 7,21р.",516436751.82999998]
["   Гарантований борг",21.86,12.45,9.42,279329120.60000002,0,0,2,"   Гарантований борг; 21,86%; 12,45р.",279329120.60000002]
["      Гарантований внутрішній борг",141.19300000000001,6.22,2.35,19051656.239999998,1,0,0,"      Гарантований внутрішній борг; 141,193%; 6,22р.",19051656.239999998]
["      Гарантований зовнішній борг",13.125,12.9,9.94,260277464.36000001,1,0,0,"      Гарантований зовнішній борг; 13,125%; 12,9р.",260277464.36000001]
["         в т.ч. ОЗДП",null,null,null,null,null,null,null,null,0]
[null,null,null,null,null,null,null,null,null,0]
[null,null,null,null,null,null,null,null,null,0]
[null,null,null,null,null,null,null,null,null,0]
[null,null,null,null,null,null,null,null,null,0]
[null,null,null,null,null,null,null,null,null,0]
[null,null,null,null,null,null,null,null,null,0]
[null,null,null,null,null,null,null,null,null,0]

{"sheet":"K_ALL","index":55,"n_rows":2,"n_cols":1,"rows_kept":2,"cut":false,"hidden":true,"merged":[[1,0,1,3]]}
[]
["Державний та гарантований державою борг України за станом на ReportDate \n(за ознакою умовності)"]

{"sheet":"T_ALL","index":56,"n_rows":2,"n_cols":1,"rows_kept":2,"cut":false,"hidden":true,"merged":[[1,0,1,3]]}
[]
["Державний та гарантований державою борг України за станом на ReportDate \n(за типом боргу)"]

{"sheet":"YKT2_PRC","index":57,"n_rows":4,"n_cols":7,"rows_kept":4,"cut":false,"hidden":true,"merged":[[1,0,1,6]]}
[]
["Державний та гарантований державою борг України за останні 5 років"]
[]
[null,null,null,null,null,null,"%"]

{"sheet":"TBL1","index":58,"n_rows":0,"n_cols":0,"rows_kept":0,"cut":false,"hidden":true,"merged":[]}

{"sheet":"DTK2","index":59,"n_rows":89,"n_cols":4,"rows_kept":89,"cut":false,"hidden":false,"merged":[[1,0,1,3],[2,0,2,3]]}
[]
[{"$f":"\"Державний та гарантований державою борг України за станом на \" & TEXT(DREPORTDATE,\"dd.MM.yyyy\")","v":"Державний та гарантований державою борг України за станом на 31.01.2017"}]
["(за типом кредитора)"]
[null,"офіційний курс НБУ  27,119036 грн./дол.США"]
[null,null,null,{"$f":"VALVAL","v":"млрд. одиниць"}]
[null,"дол.США","грн.","%"]
["Загальна сума державного та гарантованого державою боргу",{"$f":"B$8+B$45","v":71.205302629320002},1931.0191653930401,1.0000020000000001]
["Внутрішній борг",{"$f":"B$9+B$32","v":25.432012675669998},689.69166730187999,0.35716500000000001]
["Державний борг",{"$f":"B$10+B$30","v":24.729493004969999},670.64001106030003,0.347298]
["1. Заборгованість за випущеними цінними паперами на внутрішньому ринку",{"$f":"SUM(B$11:B$29)","v":24.636834920529999},668.12721313268003,0.345997]
["ОВДП (10 - річні)",2.7594263675100001,74.832982999999999,3.8753000000000003E-2]
["ОВДП (11 - річні)",0.64098816051999996,17.382981000000001,9.0019999999999996E-3]
["ОВДП (12 - місячні)",0.12749605114000001,3.45757,1.7910000000000001E-3]
["ОВДП (12 - річні)",1.0509223115599999,28.5,1.4759E-2]
["ОВДП (13 - річні)",1.3686928252299999,37.117629999999998,1.9222E-2]
["ОВДП (14 - річні)",1.8898164374599999,51.25,2.6540000000000001E-2]
["ОВДП (15 - річні)",1.57785247233,42.789838000000003,2.2159000000000002E-2]
["ОВДП (18 - місячні)",1.076022,29.180679354790001,1.5112E-2]
["ОВДП (2 - річні)",2.37222979526,64.332585217879995,3.3314999999999997E-2]
["ОВДП (3 - місячні)",3.6874466999999998E-4,0.01,5.0000000000000004E-6]
["ОВДП (3 - річні)",0.71570777810999997,19.409305,1.0050999999999999E-2]
["ОВДП (4 - річні)",0.57428463757000003,15.574045760000001,8.0649999999999993E-3]
["ОВДП (5 - річні)",5.5663190904200004,150.95320780001001,7.8173000000000006E-2]
["ОВДП (6 - місячні)",3.6874466999999998E-4,0.01,5.0000000000000004E-6]
["ОВДП (6 - річні)",0.88867465642999999,24.1,1.248E-2]
["ОВДП (7 - річні)",1.6497559500100001,44.739790999999997,2.3168999999999999E-2]
["ОВДП (8 - річні)",1.0109576903799999,27.416198000000001,1.4198000000000001E-2]
["ОВДП (9 - місячні)",7.2273955499999997E-3,0.19600000000000001,1.02E-4]
["ОВДП (9 - річні)",1.3597238117099999,36.874398999999997,1.9095999999999998E-2]
["2. Заборгованість перед банківськими та іншими фінансовими установами",{"$f":"SUM(B$31:B$31)","v":9.2658084439999996E-2},2.5127979276199999,1.3010000000000001E-3]
["Національний банк України",9.2658084439999996E-2,2.5127979276199999,1.3010000000000001E-3]
["Гарантований державою борг",{"$f":"B$33+B$40+B$43","v":0.70251967069999999},19.051656241580002,9.866999999999999E-3]
["1. Заборгованість за випущеними цінними паперами на внутрішньому ринку",{"$f":"SUM(B$34:B$39)","v":0.58814817751000004},15.9500116,8.2609999999999992E-3]
["Державні цінні папери",4.2773999999999999E-7,1.1600000000000001E-5,0]
["Облігації ДІУ (10 - річні)",3.687446707E-2,1,5.1800000000000001E-4]
["Облігації ДІУ (5 - річні)",0.11062340121,3,1.554E-3]
["Облігації ДІУ (7 - річні)",0.11062340121,3,1.554E-3]
["Облігації НАК \"Нафтогаз України\" (3 - річні)",0.17699744193,4.8,2.4859999999999999E-3]
["Облігації Укравтодору (5 - річні)",0.15302903835000001,4.1500000000000004,2.1489999999999999E-3]
["2. Заборгованість перед банківськими та іншими фінансовими установами",{"$f":"SUM(B$41:B$42)","v":0.11433629098},3.1006899915799999,1.606E-3]
["ВАТ \"Державний ощадний банк України\"",0.11055336648,2.9981007256300001,1.5529999999999999E-3]
["ПАТ АБ \"Укргазбанк\"",3.7829245000000002E-3,0.10258926594999999,5.3000000000000001E-5]
["3. Заборгованість, не віднесена до інших категорій",{"$f":"SUM(B$44:B$44)","v":3.5202210000000001E-5},9.5465000000000003E-4,0]
["Інші кредитори",3.5202210000000001E-5,9.5465000000000003E-4,0]
["Зовнішній борг",{"$f":"B$46+B$69","v":45.77328995365},1241.3274980911601,0.64283699999999999]
["Державний борг",{"$f":"B$47+B$54+B$60+B$62+B$67","v":36.175697164619997},981.05003373210013,0.50804899999999997]
["1. Заборгованість за позиками, одержаними від міжнародних фінансових організацій",{"$f":"SUM(B$48:B$53)","v":13.761891279410001},373.20922503414999,0.19327]
["Європейське Співтовариство",2.3492299781599999,63.708852350000001,3.2992E-2]
["Європейський банк реконструкції та розвитку",0.60962401070000005,16.53241549242,8.5609999999999992E-3]
["Європейський Інвестиційний Банк",0.54313416927000002,14.729275089390001,7.6280000000000002E-3]
["Міжнародний банк реконструкції та розвитку",5.0192832316900002,136.11812265442001,7.0489999999999997E-2]
["Міжнародний Валютний Фонд",5.2381346793399999,142.05316294169,7.3564000000000004E-2]
["Фонд чистих технологій (МБРР)",2.4852102500000002E-3,6.739650623E-2,3.4999999999999997E-5]
["2. Заборгованість за позиками, одержаними від органів управління іноземних держав",{"$f":"SUM(B$55:B$59)","v":1.7017800467299997},46.15063435127,2.3900999999999999E-2]
["Канада",0.30408352274,8.2464519999999997,4.2709999999999996E-3]
["Німеччина",0.22377351113999999,6.0685219046799999,3.143E-3]
["Росія",0.60585586000000002,16.430226878149998,8.5089999999999992E-3]
["США",7.5970902699999997E-3,0.20602576451999999,1.07E-4]
["Японія",0.56047006257999998,15.19940780392,7.8709999999999995E-3]
["3. Заборгованість за позиками, одержаними від іноземних комерційних банків, інших іноземних фінансових установ",{"$f":"SUM(B$61:B$61)","v":5.4350340000000003E-5},1.4739288000000001E-3,9.9999999999999995E-7]
["Chase Manhattan Bank Luxembourg S.A.",5.4350340000000003E-5,1.4739288000000001E-3,9.9999999999999995E-7]
["4. Заборгованість за випущеними цінними паперами на зовнішньому ринку",{"$f":"SUM(B$63:B$66)","v":19.043329999999997},516.43675182988011,0.26744299999999999]
["ОЗДП 2013 року",3,81.357107999999997,4.2132000000000003E-2]
["ОЗДП 2014 року",1,27.119036000000001,1.4043999999999999E-2]
["ОЗДП 2015 року",14.043329999999999,380.84157182988002,0.19722300000000001]
["ОЗДП 2016 року",1,27.119036000000001,1.4043999999999999E-2]
["5. Заборгованість, не віднесена до інших категорій",{"$f":"SUM(B$68:B$68)","v":1.66864148814},45.251948587999998,2.3434E-2]
["Міжнародний Валютний Фонд",1.66864148814,45.251948587999998,2.3434E-2]
["Гарантований державою борг",{"$f":"B$70+B$76+B$78+B$80+B$87+B$88","v":9.597592789030001},260.27746435905999,0.13478800000000002]
["1. Заборгованість за позиками, одержаними від міжнародних фінансових організацій",{"$f":"SUM(B$71:B$75)","v":7.0986934878200003},192.50972424922,9.9694000000000005E-2]
["Європейське співтоватиство з атомної енергії",1.0984104939999999E-2,0.29787833735000002,1.54E-4]
["Європейський банк реконструкції та розвитку",0.39454855886000001,10.699776571419999,5.5409999999999999E-3]
["Європейський Інвестиційний Банк",3.7204999650000001E-2,1.0089637250000001,5.2300000000000003E-4]
["Міжнародний банк реконструкції та розвитку",0.45699346078000003,12.39322211466,6.4180000000000001E-3]
["Міжнародний Валютний Фонд",6.1989623635899997,168.10988350079,8.7057999999999996E-2]
["2. Заборгованість за позиками, одержаними від органів управління іноземних держав",{"$f":"SUM(B$77:B$77)","v":0.12184731662000001},3.3043817659200001,1.7110000000000001E-3]
["Канада",0.12184731662000001,3.3043817659200001,1.7110000000000001E-3]
["2. Заборгованість перед банківськими та іншими фінансовими установами",{"$f":"SUM(B$79:B$79)","v":2.9498540000000002E-5},7.999719E-4,0]
["ВАТ \"Державний ощадний банк України\"",2.9498540000000002E-5,7.999719E-4,0]
["3. Заборгованість за позиками, одержаними від іноземних комерційних банків, інших іноземних фінансових установ",{"$f":"SUM(B$81:B$86)","v":2.2663548575000001},61.461358969419997,3.1829000000000003E-2]
["Deutsche Bank AG London",1.4515910559999999E-2,0.39365750112999998,2.04E-4]
["UniCredit Bank Austria AG",3.6141999440000003E-2,0.98013618395000002,5.0799999999999999E-4]
["ВАТ \"Газпромбанк\"",0.5,13.559518000000001,7.0219999999999996E-3]
["Державний банк розвитку КНР",5.9159999999999997E-2,1.6043621697599999,8.3100000000000003E-4]
["Експортно-імпортний банк Китаю",1.5260619474999999,41.385328892479997,2.1432E-2]
["Експортно-імпортний банк Кореї",0.13047500000000001,3.5383562221,1.8320000000000001E-3]
["4. Заборгованість за випущеними цінними паперами на зовнішньому ринку"]
["5. Заборгованість, не віднесена до інших категорій",{"$f":"SUM(B$89:B$89)","v":0.11066762854999999},3.0011994026000002,1.554E-3]
["Міжнародний Валютний Фонд",0.11066762854999999,3.0011994026000002,1.554E-3]

{"sheet":"DATA","index":60,"n_rows":12,"n_cols":7,"rows_kept":12,"cut":false,"hidden":false,"merged":[]}
["STOP"]
[]
["Дата отчета","2017-01-31",{"$f":"DREPORTDATE","v":"2017-01-31"}]
["Единицы измерения",1000000000,{"$f":"IF($B$4=1,\"дол. США\",IF($B$4=1000,\"тис. дол. США\",IF($B$4=1000000,\"млн. дол. США\",IF($B$4=1000000000,\"млрд. дол. США\"))))","v":"млрд. дол. США"},{"$f":"IF($B$4=1,\"грн\",IF($B$4=1000,\"тис. грн\",IF($B$4=1000000,\"млн. грн\",IF($B$4=1000000000,\"млрд. грн\"))))","v":"млрд. грн"},{"$f":"IF($B$4=1,\"одиниць\",IF($B$4=1000,\"тис. одиниць\",IF($B$4=1000000,\"млн. одиниць\",IF($B$4=1000000000,\"млрд. одиниць\"))))","v":"млрд. одиниць"},{"$f":"1000000000/DDELIMER","v":1},{"$f":"IF($B$4=1,1000000000,IF($B$4=1000,1000000,IF($B$4=1000000,1000,IF($B$4=1000000000,1))))","v":1}]
["Сессия","26a9703e-faf2-426c-a3f2-2a443fbaee02"]
[]
[]
["SHORT"]
[]
[]
[]
[1000000000]

{"sheet":"AVGRATE_DETAIL","index":61,"n_rows":0,"n_cols":0,"rows_kept":0,"cut":false,"hidden":true,"merged":[]}