{"text_format":"1","workbook":"xlsx","n_sheets":62,"sheets":["MK_UAHD","MK_USDD","K_ALLD","T_ALLD","MTK2_UAH","MTK2_USD","DKT2","MKT2_UAH","MKT2_USD","MT_UAHD","MT_USDD","MT_ALL","MTM_ALL","MK_ALL","SRATED","RATED","RATEDS","SRATE_M","SRATE","RATE_M","RATE","RATE_CMP","CURD","CURDS","CUR_M","CUR","CUR_CMP","CUR_M_EXT","CUR_CMP_EXT","DKT1","DKRD","DKR2DSTATE","DKR2DGUAR","DKR","DKR2","YT_ALL_USD_D","YT_ALL_UAH_D","YT_ALL_PER_D","YT_ALL","YTM_ALL_UAH_D","YTM_ALL_USD_D","YTM_ALL","YKM_ALL_UAH_D","YKM_ALL_USD_D","YKM_ALL","YK_ALL","YKT2_UAH","YKT2_USD","KINDD","KIND_CMP","DTRD","DTR","DEBT_TERM1","DEBT_TERM2","DEBT_TERM","K_ALL","T_ALL","YKT2_PRC","TBL1","DTK2","DATA","AVGRATE_DETAIL"],"not_rendered":{"charts":50,"images":0,"macros":1,"external_links":0,"defined_names":77,"comments":0,"pivot_tables":0},"unopened":[{"sheet":"MK_UAHD","index":0,"reason":"not_a_worksheet"},{"sheet":"MK_USDD","index":1,"reason":"not_a_worksheet"},{"sheet":"K_ALLD","index":2,"reason":"not_a_worksheet"},{"sheet":"T_ALLD","index":3,"reason":"not_a_worksheet"},{"sheet":"MT_UAHD","index":9,"reason":"not_a_worksheet"},{"sheet":"MT_USDD","index":10,"reason":"not_a_worksheet"},{"sheet":"SRATED","index":14,"reason":"not_a_worksheet"},{"sheet":"RATED","index":15,"reason":"not_a_worksheet"},{"sheet":"RATEDS","index":16,"reason":"not_a_worksheet"},{"sheet":"CURD","index":22,"reason":"not_a_worksheet"},{"sheet":"CURDS","index":23,"reason":"not_a_worksheet"},{"sheet":"DKRD","index":30,"reason":"not_a_worksheet"},{"sheet":"DKR2DSTATE","index":31,"reason":"not_a_worksheet"},{"sheet":"DKR2DGUAR","index":32,"reason":"not_a_worksheet"},{"sheet":"YT_ALL_USD_D","index":35,"reason":"not_a_worksheet"},{"sheet":"YT_ALL_UAH_D","index":36,"reason":"not_a_worksheet"},{"sheet":"YT_ALL_PER_D","index":37,"reason":"not_a_worksheet"},{"sheet":"YTM_ALL_UAH_D","index":39,"reason":"not_a_worksheet"},{"sheet":"YTM_ALL_USD_D","index":40,"reason":"not_a_worksheet"},{"sheet":"YKM_ALL_UAH_D","index":42,"reason":"not_a_worksheet"},{"sheet":"YKM_ALL_USD_D","index":43,"reason":"not_a_worksheet"},{"sheet":"KINDD","index":48,"reason":"not_a_worksheet"},{"sheet":"DTRD","index":50,"reason":"not_a_worksheet"},{"sheet":"DEBT_TERM1","index":52,"reason":"not_a_worksheet"},{"sheet":"DEBT_TERM2","index":53,"reason":"not_a_worksheet"}],"bounds":{"document_bytes":16777216,"sheet_cells":100000,"rows_first":2000,"rows_last":500,"rows_between":2000,"halvings":0,"cell_chars":16384,"cell_head_chars":4096},"cells_cut":0,"cells_raw":0,"read":"whole","date_system":"1900"}

{"sheet":"MTK2_UAH","index":4,"n_rows":87,"n_cols":4,"rows_kept":87,"cut":false,"hidden":true,"merged":[[1,0,1,3]]}
[]
["Державний та гарантований державою борг України за поточний рік"]
[]
[null,null,null,{"$f":"VALUAH","v":"млрд. грн"}]
[null,"2016-12-31","2017-01-31","2017-02-28"]
["Загальна сума державного та гарантованого державою боргу",{"$f":"B$7+B$45","v":1929.76115227176},1931.01836542109,1941.3618820220699]
["Внутрішній борг",{"$f":"B$8+B$31","v":689.73000579020004},689.69166730183008,707.40375139486991]
["Державний борг",{"$f":"B$9+B$29","v":670.64553054187002},670.64001106030003,688.29668663974996]
["1. Заборгованість за випущеними цінними паперами на внутрішньому ринку",{"$f":"SUM(B$10:B$28)","v":668.13273261425002},668.12721313268003,685.78388871212996]
["ОВДП (10 - річні)",74.832982999999999,74.832982999999999,81.319903999999994]
["ОВДП (11 - річні)",17.382981000000001,17.382981000000001,17.382981000000001]
["ОВДП (12 - місячні)",3.4775700000000001,3.45757,3.9919699999999998]
["ОВДП (12 - річні)",28.5,28.5,28.5]
["ОВДП (13 - річні)",37.117629999999998,37.117629999999998,37.117629999999998]
["ОВДП (14 - річні)",51.25,51.25,56.15]
["ОВДП (15 - річні)",42.789838000000003,42.789838000000003,47.689838000000002]
["ОВДП (18 - місячні)",29.257961406869999,29.180679354790001,29.110346252789999]
["ОВДП (2 - річні)",64.353439528590002,64.332585217879995,64.488167734119997]
["ОВДП (3 - місячні)",0.01,0.01,0.01]
["ОВДП (3 - річні)",18.462385000000001,19.409305,20.768255]
["ОВДП (4 - річні)",15.58553728,15.574045760000001,15.56358752]
["ОВДП (5 - річні)",151.56965139879,150.95320780001001,150.81982120521999]
["ОВДП (6 - місячні)",0.21580099999999999,0.01,0.01]
["ОВДП (6 - річні)",24.1,24.1,22.85]
["ОВДП (7 - річні)",44.739790999999997,44.739790999999997,44.739790999999997]
["ОВДП (8 - річні)",27.416198000000001,27.416198000000001,27.416198000000001]
["ОВДП (9 - місячні)",0.19656699999999999,0.19600000000000001,0.98099999999999998]
["ОВДП (9 - річні)",36.874398999999997,36.874398999999997,36.874398999999997]
["2. Заборгованість перед банківськими та іншими фінансовими установами",{"$f":"SUM(B$30:B$30)","v":2.5127979276199999},2.5127979276199999,2.5127979276199999]
["Національний банк України",2.5127979276199999,2.5127979276199999,2.5127979276199999]
["Гарантований державою борг",{"$f":"B$32+B$39+B$43","v":19.084475248330001},19.051656241530001,19.10706475512]
["1. Заборгованість за випущеними цінними паперами на внутрішньому ринку",{"$f":"SUM(B$33:B$38)","v":15.9500116},15.9500116,15.9500116]
["Державні цінні папери",1.1600000000000001E-5,1.1600000000000001E-5,1.1600000000000001E-5]
["Облігації ДІУ (10 - річні)",1,1,1]
["Облігації ДІУ (5 - річні)",3,3,3]
["Облігації ДІУ (7 - річні)",3,3,3]
["Облігації НАК \"Нафтогаз України\" (3 - річні)",4.8,4.8,4.8]
["Облігації Укравтодору (5 - річні)",4.1500000000000004,4.1500000000000004,4.1500000000000004]
["2. Заборгованість перед банківськими та іншими фінансовими установами",{"$f":"SUM(B$40:B$42)","v":3.13350899833},3.1006899915299999,3.1560985051200001]
["ВАТ \"Державний експортно-імпортний банк України\"",0,0,3.707292115E-2]
["ВАТ \"Державний ощадний банк України\"",3.0217123181500001,2.9981007256300001,3.0164363180699998]
["ПАТ АБ \"Укргазбанк\"",0.11179668018,0.1025892659,0.1025892659]
["3. Заборгованість, не віднесена до інших категорій",{"$f":"SUM(B$44:B$44)","v":9.5465000000000003E-4},9.5465000000000003E-4,9.5465000000000003E-4]
["Інші кредитори",9.5465000000000003E-4,9.5465000000000003E-4,9.5465000000000003E-4]
["Зовнішній борг",{"$f":"B$46+B$69","v":1240.03114648156},1241.3266981192601,1233.9581306272]
["Державний борг",{"$f":"B$47+B$54+B$60+B$62+B$67","v":980.18775450825001},981.05003373210013,977.63887417087005]
["1. Заборгованість за позиками, одержаними від міжнародних фінансових організацій",{"$f":"SUM(B$48:B$53)","v":371.84657549031999},373.20922503414999,371.12360427924]
["Європейське Співтовариство",62.813954840000001,63.708852350000001,63.298207830000003]
["Європейський банк реконструкції та розвитку",16.072308696730001,16.53241549242,16.22666392899]
["Європейський Інвестиційний Банк",14.522377756999999,14.729275089390001,15.04367339807]
["Міжнародний банк реконструкції та розвитку",137.46050651632001,136.11812265442001,135.29180847371001]
["Міжнародний Валютний Фонд",140.90985268125999,142.05316294169,141.19601658552]
["Фонд чистих технологій (МБРР)",6.7574999009999998E-2,6.739650623E-2,6.7234062950000006E-2]
["2. Заборгованість за позиками, одержаними від органів управління іноземних держав",{"$f":"SUM(B$55:B$59)","v":45.647504163770002},46.15063435127,46.342902751510003]
["Канада",8.0323875999999998,8.2464519999999997,8.2487499999999994]
["Німеччина",5.9832793529500004,6.0685219046799999,6.0294063787700001]
["Росія",16.473740657730001,16.430226878149998,16.390625715719999]
["США",0.20657140273999999,0.20602576451999999,0.20552918832]
["Японія",14.951525150349999,15.19940780392,15.4685914687]
["3. Заборгованість за позиками, одержаними від іноземних комерційних банків, інших іноземних фінансових установ",{"$f":"SUM(B$61:B$61)","v":1.453225E-3},1.4739288000000001E-3,1.46442838E-3]
["Chase Manhattan Bank Luxembourg S.A.",1.453225E-3,1.4739288000000001E-3,1.46442838E-3]
["4. Заборгованість за випущеними цінними паперами на зовнішньому ринку",{"$f":"SUM(B$63:B$66)","v":517.80448187716001},516.43675182988011,515.19200360774005]
["ОЗДП 2013 року",81.572574000000003,81.357107999999997,81.161016000000004]
["ОЗДП 2014 року",27.190857999999999,27.119036000000001,27.053671999999999]
["ОЗДП 2015 року",381.85019187716,380.84157182988002,379.92364360774002]
["ОЗДП 2016 року",27.190857999999999,27.119036000000001,27.053671999999999]
["5. Заборгованість, не віднесена до інших категорій",{"$f":"SUM(B$68:B$68)","v":44.887739752000002},45.251948587999998,44.978899104]
["Міжнародний Валютний Фонд",44.887739752000002,45.251948587999998,44.978899104]
["Гарантований державою борг",{"$f":"B$70+B$76+B$78+B$85+B$86","v":259.84339197331002},260.27666438716,256.31925645632998]
["1. Заборгованість за позиками, одержаними від міжнародних фінансових організацій",{"$f":"SUM(B$71:B$75)","v":190.93506704562},192.50972424922,188.73207173121]
["Європейське співтоватиство з атомної енергії",0.29585176270000002,0.29787833735000002,0.29647984142]
["Європейський банк реконструкції та розвитку",10.514548582190001,10.699776571419999,7.8602237756599997]
["Європейський Інвестиційний Банк",0.99479114000000002,1.0089637250000001,1.0024603050000001]
["Міжнародний банк реконструкції та розвитку",12.373018988069999,12.39322211466,12.47739647081]
["Міжнародний Валютний Фонд",166.75685657266001,168.10988350079,167.09551133831999]
["2. Заборгованість за позиками, одержаними від органів управління іноземних держав",{"$f":"SUM(B$77:B$77)","v":3.9757597011099999},3.3043817659200001,3.2964173379199999]
["Канада",3.9757597011099999,3.3043817659200001,3.2964173379199999]
["3. Заборгованість за позиками, одержаними від іноземних комерційних банків, інших іноземних фінансових установ",{"$f":"SUM(B$79:B$84)","v":61.955520879730003},61.461358969419997,61.307677170470001]
["Deutsche Bank AG London",0.38812792235999999,0.39365750112999998,0.39112012541000002]
["UniCredit Bank Austria AG",0.96636853003000001,0.98013618395000002,0.97381857598999999]
["ВАТ \"Газпромбанк\"",13.595428999999999,13.559518000000001,13.526835999999999]
["Державний банк розвитку КНР",1.6086111592800001,1.6043621697599999,1.6004952355199999]
["Експортно-імпортний банк Китаю",41.849257070509999,41.385328892479997,41.285579379349997]
["Експортно-імпортний банк Кореї",3.54772719755,3.5383562221,3.5298278542000001]
["4. Заборгованість за випущеними цінними паперами на зовнішньому ринку"]
["5. Заборгованість, не віднесена до інших категорій",{"$f":"SUM(B$87:B$87)","v":2.9770443468500001},3.0011994026000002,2.98309021673]
["Міжнародний Валютний Фонд",2.9770443468500001,3.0011994026000002,2.98309021673]

{"sheet":"MTK2_USD","index":5,"n_rows":87,"n_cols":4,"rows_kept":87,"cut":false,"hidden":true,"merged":[[1,0,1,3]]}
[]
["Державний та гарантований державою борг України за поточний рік"]
[]
[null,null,null,{"$f":"VALUSD","v":"млрд. дол. США"}]
[null,"2016-12-31","2017-01-31","2017-02-28"]
["Загальна сума державного та гарантованого державою боргу",{"$f":"B$7+B$45","v":70.970954733159999},71.20527313078,71.759644384690006]
["Внутрішній борг",{"$f":"B$8+B$31","v":25.366246471259998},25.432012675669998,26.148160271629997]
["Державний борг",{"$f":"B$9+B$29","v":24.664375450929999},24.729493004969999,25.441895157029997]
["1. Заборгованість за випущеними цінними паперами на внутрішньому ринку",{"$f":"SUM(B$10:B$28)","v":24.57196211378},24.636834920529999,25.349013202679998]
["ОВДП (10 - річні)",2.7521376118899998,2.7594263675100001,3.0058730659099999]
["ОВДП (11 - річні)",0.63929505277999998,0.64098816051999996,0.64253684306000003]
["ОВДП (12 - місячні)",0.12789482406,0.12749605114000001,0.14755741846000001]
["ОВДП (12 - річні)",1.04814640274,1.0509223115599999,1.0534614302900001]
["ОВДП (13 - річні)",1.36507755659,1.3686928252299999,1.3719997048599999]
["ОВДП (14 - річні)",1.8848246715800001,1.8898164374599999,2.0755038354600002]
["ОВДП (15 - річні)",1.57368472887,1.57785247233,1.7627861386100001]
["ОВДП (18 - місячні)",1.076022,1.076022,1.076022]
["ОВДП (2 - річні)",2.3667307419600001,2.37222979526,2.3837121901399998]
["ОВДП (3 - місячні)",3.6777066999999999E-4,3.6874466999999998E-4,3.6963559000000002E-4]
["ОВДП (3 - річні)",0.67899236573999999,0.71570777810999997,0.76766861812999998]
["ОВДП (4 - річні)",0.57319034508,0.57428463757000003,0.57528558488000003]
["ОВДП (5 - річні)",5.5742871886499996,5.5663190904200004,5.5748373531600004]
["ОВДП (6 - місячні)",7.93652779E-3,3.6874466999999998E-4,3.6963559000000002E-4]
["ОВДП (6 - річні)",0.88632730900000001,0.88867465642999999,0.84461732216999996]
["ОВДП (7 - річні)",1.64539828055,1.6497559500100001,1.65374190242]
["ОВДП (8 - річні)",1.00828734425,1.0109576903799999,1.01340025115]
["ОВДП (9 - місячні)",7.2291576899999998E-3,7.2273955499999997E-3,3.6261251340000002E-2]
["ОВДП (9 - річні)",1.3561322338899999,1.3597238117099999,1.3630090214599999]
["2. Заборгованість перед банківськими та іншими фінансовими установами",{"$f":"SUM(B$30:B$30)","v":9.2413337149999997E-2},9.2658084439999996E-2,9.2881954350000004E-2]
["Національний банк України",9.2413337149999997E-2,9.2658084439999996E-2,9.2881954350000004E-2]
["Гарантований державою борг",{"$f":"B$32+B$39+B$43","v":0.70187102033000004},0.70251967069999999,0.70626511459999997]
["1. Заборгованість за випущеними цінними паперами на внутрішньому ринку",{"$f":"SUM(B$33:B$38)","v":0.58659464145999995},0.58814817751000004,0.58956919416999998]
["Державні цінні папери",4.2660999999999998E-7,4.2773999999999999E-7,4.2878000000000001E-7]
["Облігації ДІУ (10 - річні)",3.6777066759999998E-2,3.687446707E-2,3.6963558959999997E-2]
["Облігації ДІУ (5 - річні)",0.11033120028,0.11062340121,0.11089067688]
["Облігації ДІУ (7 - річні)",0.11033120028,0.11062340121,0.11089067688]
["Облігації НАК \"Нафтогаз України\" (3 - річні)",0.17652992045999999,0.17699744193,0.17742508299000001]
["Облігації Укравтодору (5 - річні)",0.15262482707,0.15302903835000001,0.15339876967999999]
["2. Заборгованість перед банківськими та іншими фінансовими установами",{"$f":"SUM(B$40:B$42)","v":0.11524126964},0.11433629098,0.11666063317]
["ВАТ \"Державний експортно-імпортний банк України\"",0,0,1.3703471000000001E-3]
["ВАТ \"Державний ощадний банк України\"",0.11112971566,0.11055336648,0.11149822169]
["ПАТ АБ \"Укргазбанк\"",4.11155398E-3,3.7829245000000002E-3,3.7920643800000002E-3]
["3. Заборгованість, не віднесена до інших категорій",{"$f":"SUM(B$44:B$44)","v":3.5109230000000001E-5},3.5202210000000001E-5,3.5287260000000001E-5]
["Інші кредитори",3.5109230000000001E-5,3.5202210000000001E-5,3.5287260000000001E-5]
["Зовнішній борг",{"$f":"B$46+B$69","v":45.604708261899994},45.773260455109998,45.611484113059994]
["Державний борг",{"$f":"B$47+B$54+B$60+B$62+B$67","v":36.048430487459996},36.175697164619997,36.137012164969995]
["1. Заборгованість за позиками, одержаними від міжнародних фінансових організацій",{"$f":"SUM(B$48:B$53)","v":13.67542633227},13.761891279410001,13.71804922746]
["Європейське Співтовариство",2.3101130107799999,2.3492299781599999,2.3397270370599998]
["Європейський банк реконструкції та розвитку",0.59109236997000003,0.60962401070000005,0.59979524885000002]
["Європейський Інвестиційний Банк",0.53409045630999996,0.54313416927000002,0.55606770857999999]
["Міжнародний банк реконструкції та розвитку",5.0553942253799997,5.0192832316900002,5.0008667390400001]
["Міжнародний Валютний Фонд",5.1822510595800004,5.2381346793399999,5.2191072836799997]
["Фонд чистих технологій (МБРР)",2.4852102500000002E-3,2.4852102500000002E-3,2.4852102500000002E-3]
["2. Заборгованість за позиками, одержаними від органів управління іноземних держав",{"$f":"SUM(B$55:B$59)","v":1.67878130816},1.7017800467299997,1.7129986181400001]
["Канада",0.29540765501999999,0.30408352274,0.30490315695999998]
["Німеччина",0.22004746421999999,0.22377351113999999,0.22286831816]
["Росія",0.60585586000000002,0.60585586000000002,0.60585586000000002]
["США",7.5970902699999997E-3,7.5970902699999997E-3,7.5970902699999997E-3]
["Японія",0.54987323865000004,0.56047006257999998,0.57177419274999997]
["3. Заборгованість за позиками, одержаними від іноземних комерційних банків, інших іноземних фінансових установ",{"$f":"SUM(B$61:B$61)","v":5.3445349999999998E-5},5.4350340000000003E-5,5.4130479999999998E-5]
["Chase Manhattan Bank Luxembourg S.A.",5.3445349999999998E-5,5.4350340000000003E-5,5.4130479999999998E-5]
["4. Заборгованість за випущеними цінними паперами на зовнішньому ринку",{"$f":"SUM(B$63:B$66)","v":19.043329999999997},19.043329999999997,19.043330000000001]
["ОЗДП 2013 року",3,3,3]
["ОЗДП 2014 року",1,1,1]
["ОЗДП 2015 року",14.043329999999999,14.043329999999999,14.043329999999999]
["ОЗДП 2016 року",1,1,1]
["5. Заборгованість, не віднесена до інших категорій",{"$f":"SUM(B$68:B$68)","v":1.6508394016800001},1.66864148814,1.66258018889]
["Міжнародний Валютний Фонд",1.6508394016800001,1.66864148814,1.66258018889]
["Гарантований державою борг",{"$f":"B$70+B$76+B$78+B$85+B$86","v":9.5562777744399998},9.597563290490001,9.4744719480900006]
["1. Заборгованість за позиками, одержаними від міжнародних фінансових організацій",{"$f":"SUM(B$71:B$75)","v":7.0220317080700001},7.0986934878200003,6.9762090606999996]
["Європейське співтоватиство з атомної енергії",1.088056003E-2,1.0984104939999999E-2,1.09589501E-2]
["Європейський банк реконструкції та розвитку",0.38669425519,0.39454855886000001,0.29054184496000002]
["Європейський Інвестиційний Банк",3.658550017E-2,3.7204999650000001E-2,3.7054500589999997E-2]
["Міжнародний банк реконструкції та розвитку",0.45504334538000002,0.45699346078000003,0.46120898009]
["Міжнародний Валютний Фонд",6.1328280473000003,6.1989623635899997,6.1764447849600002]
["2. Заборгованість за позиками, одержаними від органів управління іноземних держав",{"$f":"SUM(B$77:B$77)","v":0.14621677995999999},0.12184731662000001,0.12184731662000001]
["Канада",0.14621677995999999,0.12184731662000001,0.12184731662000001]
["3. Заборгованість за позиками, одержаними від іноземних комерційних банків, інших іноземних фінансових установ",{"$f":"SUM(B$79:B$84)","v":2.2785423277099999},2.2663548575000001,2.26614993967]
["Deutsche Bank AG London",1.427420651E-2,1.4515910559999999E-2,1.445719182E-2]
["UniCredit Bank Austria AG",3.5540199949999997E-2,3.6141999440000003E-2,3.5995800350000003E-2]
["ВАТ \"Газпромбанк\"",0.5,0.5,0.5]
["Державний банк розвитку КНР",5.9159999999999997E-2,5.9159999999999997E-2,5.9159999999999997E-2]
["Експортно-імпортний банк Китаю",1.53909292125,1.5260619474999999,1.5260619474999999]
["Експортно-імпортний банк Кореї",0.13047500000000001,0.13047500000000001,0.13047500000000001]
["4. Заборгованість за випущеними цінними паперами на зовнішньому ринку"]
["5. Заборгованість, не віднесена до інших категорій",{"$f":"SUM(B$87:B$87)","v":0.1094869587},0.11066762854999999,0.1102656311]
["Міжнародний Валютний Фонд",0.1094869587,0.11066762854999999,0.1102656311]

{"sheet":"DKT2","index":6,"n_rows":88,"n_cols":4,"rows_kept":88,"cut":false,"hidden":false,"merged":[[1,0,1,3],[2,0,2,3]]}
[]
[{"$f":"\"Державний та гарантований державою борг України за станом на \" & TEXT(DREPORTDATE,\"dd.MM.yyyy\")","v":"Державний та гарантований державою борг України за станом на 28.02.2017"}]
["(за ознакою умовності)"]
[null,"офіційний курс НБУ  27,053672 грн./дол.США"]
[null,null,null,{"$f":"VALVAL","v":"млрд. одиниць"}]
[null,"дол.США","грн.","%"]
["Загальна сума державного та гарантованого державою боргу",{"$f":"B$8+B$55","v":71.759644384689992},1941.3618820220699,0.99999700000000002]
["Державний борг",{"$f":"B$9+B$32","v":61.578907321999992},1665.93556081062,0.85812600000000006]
["Внутрішній борг",{"$f":"B$10+B$30","v":25.441895157029997},688.29668663974996,0.35454200000000002]
["1. Заборгованість за випущеними цінними паперами на внутрішньому ринку",{"$f":"SUM(B$11:B$29)","v":25.349013202679998},685.78388871212996,0.35324800000000001]
["ОВДП (10 - річні)",3.0058730659099999,81.319903999999994,4.1888000000000002E-2]
["ОВДП (11 - річні)",0.64253684306000003,17.382981000000001,8.9540000000000002E-3]
["ОВДП (12 - місячні)",0.14755741846000001,3.9919699999999998,2.0560000000000001E-3]
["ОВДП (12 - річні)",1.0534614302900001,28.5,1.468E-2]
["ОВДП (13 - річні)",1.3719997048599999,37.117629999999998,1.9119000000000001E-2]
["ОВДП (14 - річні)",2.0755038354600002,56.15,2.8923000000000001E-2]
["ОВДП (15 - річні)",1.7627861386100001,47.689838000000002,2.4565E-2]
["ОВДП (18 - місячні)",1.076022,29.110346252789999,1.4995E-2]
["ОВДП (2 - річні)",2.3837121901399998,64.488167734119997,3.3217999999999998E-2]
["ОВДП (3 - місячні)",3.6963559000000002E-4,0.01,5.0000000000000004E-6]
["ОВДП (3 - річні)",0.76766861812999998,20.768255,1.0697999999999999E-2]
["ОВДП (4 - річні)",0.57528558488000003,15.56358752,8.0169999999999998E-3]
["ОВДП (5 - річні)",5.5748373531600004,150.81982120521999,7.7687999999999993E-2]
["ОВДП (6 - місячні)",3.6963559000000002E-4,0.01,5.0000000000000004E-6]
["ОВДП (6 - річні)",0.84461732216999996,22.85,1.1769999999999999E-2]
["ОВДП (7 - річні)",1.65374190242,44.739790999999997,2.3046000000000001E-2]
["ОВДП (8 - річні)",1.01340025115,27.416198000000001,1.4121999999999999E-2]
["ОВДП (9 - місячні)",3.6261251340000002E-2,0.98099999999999998,5.0500000000000002E-4]
["ОВДП (9 - річні)",1.3630090214599999,36.874398999999997,1.8994E-2]
["2. Заборгованість перед банківськими та іншими фінансовими установами",{"$f":"SUM(B$31:B$31)","v":9.2881954350000004E-2},2.5127979276199999,1.294E-3]
["Національний банк України",9.2881954350000004E-2,2.5127979276199999,1.294E-3]
["Зовнішній борг",{"$f":"B$33+B$40+B$46+B$48+B$53","v":36.137012164969995},977.63887417087005,0.50358400000000003]
["1. Заборгованість за позиками, одержаними від міжнародних фінансових організацій",{"$f":"SUM(B$34:B$39)","v":13.71804922746},371.12360427924,0.191166]
["Європейське Співтовариство",2.3397270370599998,63.298207830000003,3.2605000000000002E-2]
["Європейський банк реконструкції та розвитку",0.59979524885000002,16.22666392899,8.3580000000000008E-3]
["Європейський Інвестиційний Банк",0.55606770857999999,15.04367339807,7.7489999999999998E-3]
["Міжнародний банк реконструкції та розвитку",5.0008667390400001,135.29180847371001,6.9689000000000001E-2]
["Міжнародний Валютний Фонд",5.2191072836799997,141.19601658552,7.2730000000000003E-2]
["Фонд чистих технологій (МБРР)",2.4852102500000002E-3,6.7234062950000006E-2,3.4999999999999997E-5]
["2. Заборгованість за позиками, одержаними від органів управління іноземних держав",{"$f":"SUM(B$41:B$45)","v":1.7129986181399999},46.342902751509996,2.3872000000000001E-2]
["Канада",0.30490315695999998,8.2487499999999994,4.2490000000000002E-3]
["Німеччина",0.22286831816,6.0294063787700001,3.1059999999999998E-3]
["Росія",0.60585586000000002,16.390625715719999,8.4430000000000009E-3]
["США",7.5970902699999997E-3,0.20552918832,1.06E-4]
["Японія",0.57177419274999997,15.4685914687,7.9679999999999994E-3]
["3. Заборгованість за позиками, одержаними від іноземних комерційних банків, інших іноземних фінансових установ",{"$f":"SUM(B$47:B$47)","v":5.4130479999999998E-5},1.46442838E-3,9.9999999999999995E-7]
["Chase Manhattan Bank Luxembourg S.A.",5.4130479999999998E-5,1.46442838E-3,9.9999999999999995E-7]
["4. Заборгованість за випущеними цінними паперами на зовнішньому ринку",{"$f":"SUM(B$49:B$52)","v":19.043329999999997},515.19200360774005,0.265376]
["ОЗДП 2013 року",3,81.161016000000004,4.1806000000000003E-2]
["ОЗДП 2014 року",1,27.053671999999999,1.3934999999999999E-2]
["ОЗДП 2015 року",14.043329999999999,379.92364360774002,0.19570000000000001]
["ОЗДП 2016 року",1,27.053671999999999,1.3934999999999999E-2]
["5. Заборгованість, не віднесена до інших категорій",{"$f":"SUM(B$54:B$54)","v":1.66258018889},44.978899104,2.3168999999999999E-2]
["Міжнародний Валютний Фонд",1.66258018889,44.978899104,2.3168999999999999E-2]
["Гарантований державою борг",{"$f":"B$56+B$70","v":10.180737062690001},275.42632121144999,0.141871]
["Внутрішній борг",{"$f":"B$57+B$64+B$68","v":0.70626511459999997},19.10706475512,9.8410000000000008E-3]
["1. Заборгованість за випущеними цінними паперами на внутрішньому ринку",{"$f":"SUM(B$58:B$63)","v":0.58956919416999998},15.9500116,8.2150000000000001E-3]
["Державні цінні папери",4.2878000000000001E-7,1.1600000000000001E-5,0]
["Облігації ДІУ (10 - річні)",3.6963558959999997E-2,1,5.1500000000000005E-4]
["Облігації ДІУ (5 - річні)",0.11089067688,3,1.5449999999999999E-3]
["Облігації ДІУ (7 - річні)",0.11089067688,3,1.5449999999999999E-3]
["Облігації НАК \"Нафтогаз України\" (3 - річні)",0.17742508299000001,4.8,2.4719999999999998E-3]
["Облігації Укравтодору (5 - річні)",0.15339876967999999,4.1500000000000004,2.1380000000000001E-3]
["2. Заборгованість перед банківськими та іншими фінансовими установами",{"$f":"SUM(B$65:B$67)","v":0.11666063317},3.1560985051199997,1.6260000000000001E-3]
["ВАТ \"Державний експортно-імпортний банк України\"",1.3703471000000001E-3,3.707292115E-2,1.9000000000000001E-5]
["ВАТ \"Державний ощадний банк України\"",0.11149822169,3.0164363180699998,1.554E-3]
["ПАТ АБ \"Укргазбанк\"",3.7920643800000002E-3,0.1025892659,5.3000000000000001E-5]
["3. Заборгованість, не віднесена до інших категорій",{"$f":"SUM(B$69:B$69)","v":3.5287260000000001E-5},9.5465000000000003E-4,0]
["Інші кредитори",3.5287260000000001E-5,9.5465000000000003E-4,0]
["Зовнішній борг",{"$f":"B$71+B$77+B$79+B$86+B$87","v":9.4744719480900006},256.31925645632998,0.13203000000000001]
["1. Заборгованість за позиками, одержаними від міжнародних фінансових організацій",{"$f":"SUM(B$72:B$76)","v":6.9762090607000005},188.73207173121,9.7215999999999997E-2]
["Європейське співтоватиство з атомної енергії",1.09589501E-2,0.29647984142,1.5300000000000001E-4]
["Європейський банк реконструкції та розвитку",0.29054184496000002,7.8602237756599997,4.0489999999999996E-3]
["Європейський Інвестиційний Банк",3.7054500589999997E-2,1.0024603050000001,5.1599999999999997E-4]
["Міжнародний банк реконструкції та розвитку",0.46120898009,12.47739647081,6.4270000000000004E-3]
["Міжнародний Валютний Фонд",6.1764447849600002,167.09551133831999,8.6070999999999995E-2]
["2. Заборгованість за позиками, одержаними від органів управління іноземних держав",{"$f":"SUM(B$78:B$78)","v":0.12184731662000001},3.2964173379199999,1.6980000000000001E-3]
["Канада",0.12184731662000001,3.2964173379199999,1.6980000000000001E-3]
["3. Заборгованість за позиками, одержаними від іноземних комерційних банків, інших іноземних фінансових установ",{"$f":"SUM(B$80:B$85)","v":2.26614993967},61.307677170469994,3.1579000000000003E-2]
["Deutsche Bank AG London",1.445719182E-2,0.39112012541000002,2.0100000000000001E-4]
["UniCredit Bank Austria AG",3.5995800350000003E-2,0.97381857598999999,5.0199999999999995E-4]
["ВАТ \"Газпромбанк\"",0.5,13.526835999999999,6.9680000000000002E-3]
["Державний банк розвитку КНР",5.9159999999999997E-2,1.6004952355199999,8.2399999999999997E-4]
["Експортно-імпортний банк Китаю",1.5260619474999999,41.285579379349997,2.1266E-2]
["Експортно-імпортний банк Кореї",0.13047500000000001,3.5298278542000001,1.818E-3]
["4. Заборгованість за випущеними цінними паперами на зовнішньому ринку"]
["5. Заборгованість, не віднесена до інших категорій",{"$f":"SUM(B$88:B$88)","v":0.1102656311},2.98309021673,1.537E-3]
["Міжнародний Валютний Фонд",0.1102656311,2.98309021673,1.537E-3]

{"sheet":"MKT2_UAH","index":7,"n_rows":87,"n_cols":4,"rows_kept":87,"cut":false,"hidden":false,"merged":[[1,0,1,3]]}
[]
["Державний та гарантований державою борг України за поточний рік"]
[]
[null,null,null,{"$f":"VALUAH","v":"млрд. грн"}]
[null,"2016-12-31","2017-01-31","2017-02-28"]
["Загальна сума державного та гарантованого державою боргу",{"$f":"B$7+B$54","v":1929.7611522717602},1931.01836542109,1941.3618820220699]
["Державний борг",{"$f":"B$8+B$31","v":1650.8332850501201},1651.6900447924002,1665.93556081062]
["Внутрішній борг",{"$f":"B$9+B$29","v":670.64553054187002},670.64001106030003,688.29668663974996]
["1. Заборгованість за випущеними цінними паперами на внутрішньому ринку",{"$f":"SUM(B$10:B$28)","v":668.13273261425002},668.12721313268003,685.78388871212996]
["ОВДП (10 - річні)",74.832982999999999,74.832982999999999,81.319903999999994]
["ОВДП (11 - річні)",17.382981000000001,17.382981000000001,17.382981000000001]
["ОВДП (12 - місячні)",3.4775700000000001,3.45757,3.9919699999999998]
["ОВДП (12 - річні)",28.5,28.5,28.5]
["ОВДП (13 - річні)",37.117629999999998,37.117629999999998,37.117629999999998]
["ОВДП (14 - річні)",51.25,51.25,56.15]
["ОВДП (15 - річні)",42.789838000000003,42.789838000000003,47.689838000000002]
["ОВДП (18 - місячні)",29.257961406869999,29.180679354790001,29.110346252789999]
["ОВДП (2 - річні)",64.353439528590002,64.332585217879995,64.488167734119997]
["ОВДП (3 - місячні)",0.01,0.01,0.01]
["ОВДП (3 - річні)",18.462385000000001,19.409305,20.768255]
["ОВДП (4 - річні)",15.58553728,15.574045760000001,15.56358752]
["ОВДП (5 - річні)",151.56965139879,150.95320780001001,150.81982120521999]
["ОВДП (6 - місячні)",0.21580099999999999,0.01,0.01]
["ОВДП (6 - річні)",24.1,24.1,22.85]
["ОВДП (7 - річні)",44.739790999999997,44.739790999999997,44.739790999999997]
["ОВДП (8 - річні)",27.416198000000001,27.416198000000001,27.416198000000001]
["ОВДП (9 - місячні)",0.19656699999999999,0.19600000000000001,0.98099999999999998]
["ОВДП (9 - річні)",36.874398999999997,36.874398999999997,36.874398999999997]
["2. Заборгованість перед банківськими та іншими фінансовими установами",{"$f":"SUM(B$30:B$30)","v":2.5127979276199999},2.5127979276199999,2.5127979276199999]
["Національний банк України",2.5127979276199999,2.5127979276199999,2.5127979276199999]
["Зовнішній борг",{"$f":"B$32+B$39+B$45+B$47+B$52","v":980.18775450825001},981.05003373210013,977.63887417087005]
["1. Заборгованість за позиками, одержаними від міжнародних фінансових організацій",{"$f":"SUM(B$33:B$38)","v":371.84657549031999},373.20922503414999,371.12360427924]
["Європейське Співтовариство",62.813954840000001,63.708852350000001,63.298207830000003]
["Європейський банк реконструкції та розвитку",16.072308696730001,16.53241549242,16.22666392899]
["Європейський Інвестиційний Банк",14.522377756999999,14.729275089390001,15.04367339807]
["Міжнародний банк реконструкції та розвитку",137.46050651632001,136.11812265442001,135.29180847371001]
["Міжнародний Валютний Фонд",140.90985268125999,142.05316294169,141.19601658552]
["Фонд чистих технологій (МБРР)",6.7574999009999998E-2,6.739650623E-2,6.7234062950000006E-2]
["2. Заборгованість за позиками, одержаними від органів управління іноземних держав",{"$f":"SUM(B$40:B$44)","v":45.647504163770002},46.15063435127,46.342902751510003]
["Канада",8.0323875999999998,8.2464519999999997,8.2487499999999994]
["Німеччина",5.9832793529500004,6.0685219046799999,6.0294063787700001]
["Росія",16.473740657730001,16.430226878149998,16.390625715719999]
["США",0.20657140273999999,0.20602576451999999,0.20552918832]
["Японія",14.951525150349999,15.19940780392,15.4685914687]
["3. Заборгованість за позиками, одержаними від іноземних комерційних банків, інших іноземних фінансових установ",{"$f":"SUM(B$46:B$46)","v":1.453225E-3},1.4739288000000001E-3,1.46442838E-3]
["Chase Manhattan Bank Luxembourg S.A.",1.453225E-3,1.4739288000000001E-3,1.46442838E-3]
["4. Заборгованість за випущеними цінними паперами на зовнішньому ринку",{"$f":"SUM(B$48:B$51)","v":517.80448187716001},516.43675182988011,515.19200360774005]
["ОЗДП 2013 року",81.572574000000003,81.357107999999997,81.161016000000004]
["ОЗДП 2014 року",27.190857999999999,27.119036000000001,27.053671999999999]
["ОЗДП 2015 року",381.85019187716,380.84157182988002,379.92364360774002]
["ОЗДП 2016 року",27.190857999999999,27.119036000000001,27.053671999999999]
["5. Заборгованість, не віднесена до інших категорій",{"$f":"SUM(B$53:B$53)","v":44.887739752000002},45.251948587999998,44.978899104]
["Міжнародний Валютний Фонд",44.887739752000002,45.251948587999998,44.978899104]
["Гарантований державою борг",{"$f":"B$55+B$69","v":278.92786722164004},279.32832062868999,275.42632121144999]
["Внутрішній борг",{"$f":"B$56+B$63+B$67","v":19.084475248330001},19.051656241530001,19.10706475512]
["1. Заборгованість за випущеними цінними паперами на внутрішньому ринку",{"$f":"SUM(B$57:B$62)","v":15.9500116},15.9500116,15.9500116]
["Державні цінні папери",1.1600000000000001E-5,1.1600000000000001E-5,1.1600000000000001E-5]
["Облігації ДІУ (10 - річні)",1,1,1]
["Облігації ДІУ (5 - річні)",3,3,3]
["Облігації ДІУ (7 - річні)",3,3,3]
["Облігації НАК \"Нафтогаз України\" (3 - річні)",4.8,4.8,4.8]
["Облігації Укравтодору (5 - річні)",4.1500000000000004,4.1500000000000004,4.1500000000000004]
["2. Заборгованість перед банківськими та іншими фінансовими установами",{"$f":"SUM(B$64:B$66)","v":3.13350899833},3.1006899915299999,3.1560985051200001]
["ВАТ \"Державний експортно-імпортний банк України\"",0,0,3.707292115E-2]
["ВАТ \"Державний ощадний банк України\"",3.0217123181500001,2.9981007256300001,3.0164363180699998]
["ПАТ АБ \"Укргазбанк\"",0.11179668018,0.1025892659,0.1025892659]
["3. Заборгованість, не віднесена до інших категорій",{"$f":"SUM(B$68:B$68)","v":9.5465000000000003E-4},9.5465000000000003E-4,9.5465000000000003E-4]
["Інші кредитори",9.5465000000000003E-4,9.5465000000000003E-4,9.5465000000000003E-4]
["Зовнішній борг",{"$f":"B$70+B$76+B$78+B$85+B$86","v":259.84339197331002},260.27666438716,256.31925645632998]
["1. Заборгованість за позиками, одержаними від міжнародних фінансових організацій",{"$f":"SUM(B$71:B$75)","v":190.93506704562},192.50972424922,188.73207173121]
["Європейське співтоватиство з атомної енергії",0.29585176270000002,0.29787833735000002,0.29647984142]
["Європейський банк реконструкції та розвитку",10.514548582190001,10.699776571419999,7.8602237756599997]
["Європейський Інвестиційний Банк",0.99479114000000002,1.0089637250000001,1.0024603050000001]
["Міжнародний банк реконструкції та розвитку",12.373018988069999,12.39322211466,12.47739647081]
["Міжнародний Валютний Фонд",166.75685657266001,168.10988350079,167.09551133831999]
["2. Заборгованість за позиками, одержаними від органів управління іноземних держав",{"$f":"SUM(B$77:B$77)","v":3.9757597011099999},3.3043817659200001,3.2964173379199999]
["Канада",3.9757597011099999,3.3043817659200001,3.2964173379199999]
["3. Заборгованість за позиками, одержаними від іноземних комерційних банків, інших іноземних фінансових установ",{"$f":"SUM(B$79:B$84)","v":61.955520879730003},61.461358969419997,61.307677170470001]
["Deutsche Bank AG London",0.38812792235999999,0.39365750112999998,0.39112012541000002]
["UniCredit Bank Austria AG",0.96636853003000001,0.98013618395000002,0.97381857598999999]
["ВАТ \"Газпромбанк\"",13.595428999999999,13.559518000000001,13.526835999999999]
["Державний банк розвитку КНР",1.6086111592800001,1.6043621697599999,1.6004952355199999]
["Експортно-імпортний банк Китаю",41.849257070509999,41.385328892479997,41.285579379349997]
["Експортно-імпортний банк Кореї",3.54772719755,3.5383562221,3.5298278542000001]
["4. Заборгованість за випущеними цінними паперами на зовнішньому ринку"]
["5. Заборгованість, не віднесена до інших категорій",{"$f":"SUM(B$87:B$87)","v":2.9770443468500001},3.0011994026000002,2.98309021673]
["Міжнародний Валютний Фонд",2.9770443468500001,3.0011994026000002,2.98309021673]

{"sheet":"MKT2_USD","index":8,"n_rows":87,"n_cols":4,"rows_kept":87,"cut":false,"hidden":false,"merged":[[1,0,1,3]]}
[]
["Державний та гарантований державою борг України за поточний рік"]
[]
[null,null,null,{"$f":"VALUSD","v":"млрд. дол. США"}]
[null,"2016-12-31","2017-01-31","2017-02-28"]
["Загальна сума державного та гарантованого державою боргу",{"$f":"B$7+B$54","v":70.970954733159985},71.20527313078,71.759644384690006]
["Державний борг",{"$f":"B$8+B$31","v":60.712805938389991},60.90519016959,61.578907321999992]
["Внутрішній борг",{"$f":"B$9+B$29","v":24.664375450929999},24.729493004969999,25.441895157029997]
["1. Заборгованість за випущеними цінними паперами на внутрішньому ринку",{"$f":"SUM(B$10:B$28)","v":24.57196211378},24.636834920529999,25.349013202679998]
["ОВДП (10 - річні)",2.7521376118899998,2.7594263675100001,3.0058730659099999]
["ОВДП (11 - річні)",0.63929505277999998,0.64098816051999996,0.64253684306000003]
["ОВДП (12 - місячні)",0.12789482406,0.12749605114000001,0.14755741846000001]
["ОВДП (12 - річні)",1.04814640274,1.0509223115599999,1.0534614302900001]
["ОВДП (13 - річні)",1.36507755659,1.3686928252299999,1.3719997048599999]
["ОВДП (14 - річні)",1.8848246715800001,1.8898164374599999,2.0755038354600002]
["ОВДП (15 - річні)",1.57368472887,1.57785247233,1.7627861386100001]
["ОВДП (18 - місячні)",1.076022,1.076022,1.076022]
["ОВДП (2 - річні)",2.3667307419600001,2.37222979526,2.3837121901399998]
["ОВДП (3 - місячні)",3.6777066999999999E-4,3.6874466999999998E-4,3.6963559000000002E-4]
["ОВДП (3 - річні)",0.67899236573999999,0.71570777810999997,0.76766861812999998]
["ОВДП (4 - річні)",0.57319034508,0.57428463757000003,0.57528558488000003]
["ОВДП (5 - річні)",5.5742871886499996,5.5663190904200004,5.5748373531600004]
["ОВДП (6 - місячні)",7.93652779E-3,3.6874466999999998E-4,3.6963559000000002E-4]
["ОВДП (6 - річні)",0.88632730900000001,0.88867465642999999,0.84461732216999996]
["ОВДП (7 - річні)",1.64539828055,1.6497559500100001,1.65374190242]
["ОВДП (8 - річні)",1.00828734425,1.0109576903799999,1.01340025115]
["ОВДП (9 - місячні)",7.2291576899999998E-3,7.2273955499999997E-3,3.6261251340000002E-2]
["ОВДП (9 - річні)",1.3561322338899999,1.3597238117099999,1.3630090214599999]
["2. Заборгованість перед банківськими та іншими фінансовими установами",{"$f":"SUM(B$30:B$30)","v":9.2413337149999997E-2},9.2658084439999996E-2,9.2881954350000004E-2]
["Національний банк України",9.2413337149999997E-2,9.2658084439999996E-2,9.2881954350000004E-2]
["Зовнішній борг",{"$f":"B$32+B$39+B$45+B$47+B$52","v":36.048430487459996},36.175697164619997,36.137012164969995]
["1. Заборгованість за позиками, одержаними від міжнародних фінансових організацій",{"$f":"SUM(B$33:B$38)","v":13.67542633227},13.761891279410001,13.71804922746]
["Європейське Співтовариство",2.3101130107799999,2.3492299781599999,2.3397270370599998]
["Європейський банк реконструкції та розвитку",0.59109236997000003,0.60962401070000005,0.59979524885000002]
["Європейський Інвестиційний Банк",0.53409045630999996,0.54313416927000002,0.55606770857999999]
["Міжнародний банк реконструкції та розвитку",5.0553942253799997,5.0192832316900002,5.0008667390400001]
["Міжнародний Валютний Фонд",5.1822510595800004,5.2381346793399999,5.2191072836799997]
["Фонд чистих технологій (МБРР)",2.4852102500000002E-3,2.4852102500000002E-3,2.4852102500000002E-3]
["2. Заборгованість за позиками, одержаними від органів управління іноземних держав",{"$f":"SUM(B$40:B$44)","v":1.67878130816},1.7017800467299997,1.7129986181400001]
["Канада",0.29540765501999999,0.30408352274,0.30490315695999998]
["Німеччина",0.22004746421999999,0.22377351113999999,0.22286831816]
["Росія",0.60585586000000002,0.60585586000000002,0.60585586000000002]
["США",7.5970902699999997E-3,7.5970902699999997E-3,7.5970902699999997E-3]
["Японія",0.54987323865000004,0.56047006257999998,0.57177419274999997]
["3. Заборгованість за позиками, одержаними від іноземних комерційних банків, інших іноземних фінансових установ",{"$f":"SUM(B$46:B$46)","v":5.3445349999999998E-5},5.4350340000000003E-5,5.4130479999999998E-5]
["Chase Manhattan Bank Luxembourg S.A.",5.3445349999999998E-5,5.4350340000000003E-5,5.4130479999999998E-5]
["4. Заборгованість за випущеними цінними паперами на зовнішньому ринку",{"$f":"SUM(B$48:B$51)","v":19.043329999999997},19.043329999999997,19.043330000000001]
["ОЗДП 2013 року",3,3,3]
["ОЗДП 2014 року",1,1,1]
["ОЗДП 2015 року",14.043329999999999,14.043329999999999,14.043329999999999]
["ОЗДП 2016 року",1,1,1]
["5. Заборгованість, не віднесена до інших категорій",{"$f":"SUM(B$53:B$53)","v":1.6508394016800001},1.66864148814,1.66258018889]
["Міжнародний Валютний Фонд",1.6508394016800001,1.66864148814,1.66258018889]
["Гарантований державою борг",{"$f":"B$55+B$69","v":10.258148794769999},10.30008296119,10.180737062690001]
["Внутрішній борг",{"$f":"B$56+B$63+B$67","v":0.70187102033000004},0.70251967069999999,0.70626511459999997]
["1. Заборгованість за випущеними цінними паперами на внутрішньому ринку",{"$f":"SUM(B$57:B$62)","v":0.58659464145999995},0.58814817751000004,0.58956919416999998]
["Державні цінні папери",4.2660999999999998E-7,4.2773999999999999E-7,4.2878000000000001E-7]
["Облігації ДІУ (10 - річні)",3.6777066759999998E-2,3.687446707E-2,3.6963558959999997E-2]
["Облігації ДІУ (5 - річні)",0.11033120028,0.11062340121,0.11089067688]
["Облігації ДІУ (7 - річні)",0.11033120028,0.11062340121,0.11089067688]
["Облігації НАК \"Нафтогаз України\" (3 - річні)",0.17652992045999999,0.17699744193,0.17742508299000001]
["Облігації Укравтодору (5 - річні)",0.15262482707,0.15302903835000001,0.15339876967999999]
["2. Заборгованість перед банківськими та іншими фінансовими установами",{"$f":"SUM(B$64:B$66)","v":0.11524126964},0.11433629098,0.11666063317]
["ВАТ \"Державний експортно-імпортний банк України\"",0,0,1.3703471000000001E-3]
["ВАТ \"Державний ощадний банк України\"",0.11112971566,0.11055336648,0.11149822169]
["ПАТ АБ \"Укргазбанк\"",4.11155398E-3,3.7829245000000002E-3,3.7920643800000002E-3]
["3. Заборгованість, не віднесена до інших категорій",{"$f":"SUM(B$68:B$68)","v":3.5109230000000001E-5},3.5202210000000001E-5,3.5287260000000001E-5]
["Інші кредитори",3.5109230000000001E-5,3.5202210000000001E-5,3.5287260000000001E-5]
["Зовнішній борг",{"$f":"B$70+B$76+B$78+B$85+B$86","v":9.5562777744399998},9.597563290490001,9.4744719480900006]
["1. Заборгованість за позиками, одержаними від міжнародних фінансових організацій",{"$f":"SUM(B$71:B$75)","v":7.0220317080700001},7.0986934878200003,6.9762090606999996]
["Європейське співтоватиство з атомної енергії",1.088056003E-2,1.0984104939999999E-2,1.09589501E-2]
["Європейський банк реконструкції та розвитку",0.38669425519,0.39454855886000001,0.29054184496000002]
["Європейський Інвестиційний Банк",3.658550017E-2,3.7204999650000001E-2,3.7054500589999997E-2]
["Міжнародний банк реконструкції та розвитку",0.45504334538000002,0.45699346078000003,0.46120898009]
["Міжнародний Валютний Фонд",6.1328280473000003,6.1989623635899997,6.1764447849600002]
["2. Заборгованість за позиками, одержаними від органів управління іноземних держав",{"$f":"SUM(B$77:B$77)","v":0.14621677995999999},0.12184731662000001,0.12184731662000001]
["Канада",0.14621677995999999,0.12184731662000001,0.12184731662000001]
["3. Заборгованість за позиками, одержаними від іноземних комерційних банків, інших іноземних фінансових установ",{"$f":"SUM(B$79:B$84)","v":2.2785423277099999},2.2663548575000001,2.26614993967]
["Deutsche Bank AG London",1.427420651E-2,1.4515910559999999E-2,1.445719182E-2]
["UniCredit Bank Austria AG",3.5540199949999997E-2,3.6141999440000003E-2,3.5995800350000003E-2]
["ВАТ \"Газпромбанк\"",0.5,0.5,0.5]
["Державний банк розвитку КНР",5.9159999999999997E-2,5.9159999999999997E-2,5.9159999999999997E-2]
["Експортно-імпортний банк Китаю",1.53909292125,1.5260619474999999,1.5260619474999999]
["Експортно-імпортний банк Кореї",0.13047500000000001,0.13047500000000001,0.13047500000000001]
["4. Заборгованість за випущеними цінними паперами на зовнішньому ринку"]
["5. Заборгованість, не віднесена до інших категорій",{"$f":"SUM(B$87:B$87)","v":0.1094869587},0.11066762854999999,0.1102656311]
["Міжнародний Валютний Фонд",0.1094869587,0.11066762854999999,0.1102656311]

{"sheet":"MT_ALL","index":11,"n_rows":20,"n_cols":4,"rows_kept":20,"cut":false,"hidden":true,"merged":[[1,0,1,3]]}
[]
["Державний та гарантований державою борг України за поточний рік"]
[]
[{"$f":"$A$2 & \" (\" &D4 & \")\"","v":"Державний та гарантований державою борг України за поточний рік (млрд. грн)"},null,null,{"$f":"VALUAH","v":"млрд. грн"}]
[null,"2016-12-31","2017-01-31","2017-02-28"]
["Загальна сума державного та гарантованого державою боргу",{"$f":"SUM(B7:B8)","v":1929.76115227176},1931.01836542109,1941.3618820220699]
["Внутрішній борг",689.73000579020004,689.69166730182997,707.40375139487003]
["Зовнішній борг",1240.03114648156,1241.3266981192601,1233.9581306272]
[]
[{"$f":"$A$2 & \" (\" &D10 & \")\"","v":"Державний та гарантований державою борг України за поточний рік (млрд. дол. США)"},null,null,{"$f":"VALUSD","v":"млрд. дол. США"}]
[null,"2016-12-31","2017-01-31","2017-02-28"]
["Загальна сума державного та гарантованого державою боргу",{"$f":"SUM(B13:B14)","v":70.970954733159999},71.20527313078,71.759644384690006]
["Внутрішній борг",25.366246471259998,25.432012675669998,26.148160271630001]
["Зовнішній борг",45.604708261900001,45.773260455109998,45.611484113060001]
[]
[null,null,null,"%%"]
[null,"2016-12-31","2017-01-31","2017-02-28"]
["Загальна сума державного та гарантованого державою боргу",{"$f":"SUM(B19:B20)","v":1},1,1]
["Внутрішній борг",0.35741699999999998,0.35716500000000001,0.36438500000000001]
["Зовнішній борг",0.64258300000000002,0.64283500000000005,0.63561500000000004]

{"sheet":"MTM_ALL","index":12,"n_rows":20,"n_cols":4,"rows_kept":20,"cut":false,"hidden":true,"merged":[[1,0,1,3]]}
[]
["Державний та гарантований державою борг України за поточний рік"]
[]
[null,null,null,"млрд. грн."]
[null,{"$f":"MT_ALL!B5","v":"2016-12-31"},{"$f":"MT_ALL!C5","v":"2017-01-31"},{"$f":"MT_ALL!D5","v":"2017-02-28"}]
[{"$f":"MT_ALL!A6","v":"Загальна сума державного та гарантованого державою боргу"},{"$f":"SUM(B7:B8)","v":1929.76115227176},1931.01836542109,1941.3618820220699]
[{"$f":"MT_ALL!A7","v":"Внутрішній борг"},{"$f":"MT_ALL!B7/DMLMLR","v":689.73000579020004},{"$f":"MT_ALL!C7/DMLMLR","v":689.69166730182997},{"$f":"MT_ALL!D7/DMLMLR","v":707.40375139487003}]
[{"$f":"MT_ALL!A8","v":"Зовнішній борг"},{"$f":"MT_ALL!B8/DMLMLR","v":1240.03114648156},{"$f":"MT_ALL!C8/DMLMLR","v":1241.3266981192601},{"$f":"MT_ALL!D8/DMLMLR","v":1233.9581306272}]
[]
[null,null,null,"млрд. дол.США"]
[null,{"$f":"MT_ALL!B11","v":"2016-12-31"},{"$f":"MT_ALL!C11","v":"2017-01-31"},{"$f":"MT_ALL!D11","v":"2017-02-28"}]
[{"$f":"MT_ALL!A12","v":"Загальна сума державного та гарантованого державою боргу"},{"$f":"SUM(B13:B14)","v":70.970954733159999},71.20527313078,71.759644384690006]
[{"$f":"MT_ALL!A13","v":"Внутрішній борг"},{"$f":"MT_ALL!B13/DMLMLR","v":25.366246471259998},{"$f":"MT_ALL!C13/DMLMLR","v":25.432012675669998},{"$f":"MT_ALL!D13/DMLMLR","v":26.148160271630001}]
[{"$f":"MT_ALL!A14","v":"Зовнішній борг"},{"$f":"MT_ALL!B14/DMLMLR","v":45.604708261900001},{"$f":"MT_ALL!C14/DMLMLR","v":45.773260455109998},{"$f":"MT_ALL!D14/DMLMLR","v":45.611484113060001}]
[]
[null,null,null,"%%"]
[null,{"$f":"MT_ALL!B17","v":"2016-12-31"},{"$f":"MT_ALL!C17","v":"2017-01-31"},{"$f":"MT_ALL!D17","v":"2017-02-28"}]
[{"$f":"MT_ALL!A18","v":"Загальна сума державного та гарантованого державою боргу"},{"$f":"SUM(B19:B20)","v":1},1,1]
[{"$f":"MT_ALL!A19","v":"Внутрішній борг"},{"$f":"MT_ALL!B19","v":0.35741699999999998},{"$f":"MT_ALL!C19","v":0.35716500000000001},{"$f":"MT_ALL!D19","v":0.36438500000000001}]
[{"$f":"MT_ALL!A20","v":"Зовнішній борг"},{"$f":"MT_ALL!B20","v":0.64258300000000002},{"$f":"MT_ALL!C20","v":0.64283500000000005},{"$f":"MT_ALL!D20","v":0.63561500000000004}]

{"sheet":"MK_ALL","index":13,"n_rows":20,"n_cols":4,"rows_kept":20,"cut":false,"hidden":true,"merged":[[1,0,1,3]]}
[]
["Державний та гарантований державою борг України за поточний рік"]
[]
[{"$f":"$A$2 & \" (\" &D4 & \")\"","v":"Державний та гарантований державою борг України за поточний рік (млрд. грн)"},null,null,{"$f":"VALUAH","v":"млрд. грн"}]
[null,"2016-12-31","2017-01-31","2017-02-28"]
["Загальна сума державного та гарантованого державою боргу",{"$f":"SUM(B7:B8)","v":1929.7611522717598},1931.01836542109,1941.3618820220699]
["Державний борг",1650.8332850501199,1651.6900447923999,1665.93556081062]
["Гарантований державою борг",278.92786722163999,279.32832062868999,275.42632121144999]
[]
[{"$f":"$A$2 & \" (\" &D10 & \")\"","v":"Державний та гарантований державою борг України за поточний рік (млрд. дол. США)"},null,null,{"$f":"VALUSD","v":"млрд. дол. США"}]
[null,"2016-12-31","2017-01-31","2017-02-28"]
["Загальна сума державного та гарантованого державою боргу",{"$f":"SUM(B13:B14)","v":70.970954733159999},71.20527313078,71.759644384690006]
["Державний борг",60.712805938389998,60.90519016959,61.578907321999999]
["Гарантований державою борг",10.258148794769999,10.30008296119,10.18073706269]
[]
[null,null,null,"%%"]
[null,"2016-12-31","2017-01-31","2017-02-28"]
["Загальна сума державного та гарантованого державою боргу",{"$f":"SUM(B19:B20)","v":1},1,1]
["Державний борг",0.85546,0.85534699999999997,0.85812699999999997]
["Гарантований державою борг",0.14454,0.144653,0.141873]

{"sheet":"SRATE_M","index":17,"n_rows":8,"n_cols":4,"rows_kept":8,"cut":false,"hidden":true,"merged":[[1,0,1,3],[2,0,2,3]]}
[]
[{"$f":"\"Державний та гарантований державою борг України\nза станом на \" & TEXT(DREPORTDATE,\"dd.MM.yyyy\")&\" \n(за видами відсоткових ставок)\"","v":"Державний та гарантований державою борг України\nза станом на 28.02.2017 \n(за видами відсоткових ставок)"}]
[]
[null,null,null,{"$f":"VALVAL","v":"млрд. одиниць"}]
[null,"дол.США","грн.","%"]
["Загальна сума державного та гарантованого державою боргу",{"$f":"SUM(B$7+ B$8)","v":71.759644384690006},1941.3618820220699,1]
["Борг, по якому сплата відсотків здійснюється за плаваючими процентними ставками",22.102921734340001,597.96519484202997,0.30801299999999998]
["Борг, по якому сплата відсотків здійснюється за фіксованими процентними ставками",49.656722650349998,1343.3966871800401,0.69198700000000002]

{"sheet":"SRATE","index":18,"n_rows":20,"n_cols":4,"rows_kept":20,"cut":false,"hidden":true,"merged":[[1,0,1,3],[2,0,2,3]]}
[]
[{"$f":"\"Державний та гарантований державою борг України за станом на \" & TEXT(DREPORTDATE,\"dd.MM.yyyy\")","v":"Державний та гарантований державою борг України за станом на 28.02.2017"}]
["(за видами відсоткових ставок)"]
[]
[null,null,null,{"$f":"VALVAL","v":"млрд. одиниць"}]
[null,"дол.США","грн.","%"]
["Загальна сума державного та гарантованого державою боргу",{"$f":"SUM(B$8+ B$9)","v":71.759644384690006},1941.3618820220699,1]
[{"$f":"SRATE_M!A7","v":"Борг, по якому сплата відсотків здійснюється за плаваючими процентними ставками"},{"$f":"SRATE_M!B7","v":22.102921734340001},{"$f":"SRATE_M!C7","v":597.96519484202997},{"$f":"SRATE_M!D7","v":0.30801299999999998}]
[{"$f":"SRATE_M!A8","v":"Борг, по якому сплата відсотків здійснюється за фіксованими процентними ставками"},{"$f":"SRATE_M!B8","v":49.656722650349998},{"$f":"SRATE_M!C8","v":1343.3966871800401},{"$f":"SRATE_M!D8","v":0.69198700000000002}]
[]
["В тому числі:"]
[null,null,null,{"$f":"VALVAL","v":"млрд. одиниць"}]
[null,"дол.США","грн.","%"]
["Загальна сума державного та гарантованого державою боргу",{"$f":"B$18+B$15","v":71.759644384690006},1941.3618820220699,1.0000009999999999]
["Державний борг",{"$f":"SUM(B$16:B$17)","v":61.578907322000006},1665.93556081062,1.0444659999999999]
["Борг, по якому сплата відсотків здійснюється за плаваючими процентними ставками",13.371514850720001,361.74857691448,0.186338]
["Борг, по якому сплата відсотків здійснюється за фіксованими процентними ставками",48.207392471280002,1304.18698389614,0.67179]
["Гарантований державою борг",{"$f":"SUM(B$19:B$20)","v":10.18073706269},275.42632121144999,0.26354899999999998]
["Борг, по якому сплата відсотків здійснюється за плаваючими процентними ставками",8.7314068836200001,236.21661792755,0.12167600000000001]
["Борг, по якому сплата відсотків здійснюється за фіксованими процентними ставками",1.4493301790699999,39.209703283899998,2.0197E-2]

{"sheet":"RATE_M","index":19,"n_rows":10,"n_cols":4,"rows_kept":10,"cut":false,"hidden":false,"merged":[[1,0,1,3],[2,0,2,3]]}
[]
[{"$f":"\"Державний та гарантований державою борг України за станом на \" & TEXT(DREPORTDATE,\"dd.MM.yyyy\")","v":"Державний та гарантований державою борг України за станом на 28.02.2017"}]
["(за видами відсоткових ставок)"]
[]
[null,null,null,{"$f":"VALVAL","v":"млрд. одиниць"}]
[null,"дол.США","грн.","%"]
["Загальна сума державного та гарантованого державою боргу",{"$f":"SUM(B8:B19)","v":71.759644384690006},1941.3618820220699,1]
["LIBOR",8.9345238457100002,241.71167759746001,0.12450600000000001]
["Ставка МВФ",13.16839788863,356.25351724456999,0.183507]
["Фіксована",49.656722650349998,1343.3966871800401,0.69198700000000002]

{"sheet":"RATE","index":20,"n_rows":30,"n_cols":4,"rows_kept":30,"cut":false,"hidden":true,"merged":[[1,0,1,3],[2,0,2,3]]}
[]
[{"$f":"\"Державний та гарантований державою борг України за станом на \" & TEXT(DREPORTDATE,\"dd.MM.yyyy\")","v":"Державний та гарантований державою борг України за станом на 28.02.2017"}]
["(за видами відсоткових ставок)"]
[]
[null,null,null,{"$f":"VALVAL","v":"млрд. одиниць"}]
[null,"дол.США","грн.","%"]
["Загальна сума державного та гарантованого державою боргу",{"$f":"SUM(B8:B18)","v":71.759644384690006},1941.3618820220699,1]
["LIBOR",8.9345238457100002,241.71167759746001,0.12450600000000001]
["Ставка МВФ",13.16839788863,356.25351724456999,0.183507]
["Фіксована",49.656722650349998,1343.3966871800401,0.69198700000000002]
[]
[]
[]
[]
[]
[]
[]
[]
["В тому числі:"]
[null,{"$f":"\"Державний борг України за станом на \" & TEXT(DREPORTDATE,\"dd.MM.yyyy\")","v":"Державний борг України за станом на 28.02.2017"},null,{"$f":"VALVAL","v":"млрд. одиниць"}]
[null,"дол.США","грн.","%"]
["Загальна сума державного та гарантованого державою боргу",{"$f":"B$27+B$23","v":71.759644384690006},1941.3618820220699,1]
["Державний борг",{"$f":"SUM(B$24:B$26)","v":61.578907322000006},1665.93556081062,0.85812699999999997]
["LIBOR",6.4898273781500002,175.57366122496001,9.0438000000000004E-2]
["Ставка МВФ",6.8816874725700004,186.17491568951999,9.5898999999999998E-2]
["Фіксована",48.207392471280002,1304.18698389614,0.67179]
["Гарантований державою борг",{"$f":"SUM(B$28:B$30)","v":10.18073706269},275.42632121144999,0.141873]
["LIBOR",2.44469646756,66.138016372500005,3.4068000000000001E-2]
["Ставка МВФ",6.28671041606,170.07860155505,8.7608000000000005E-2]
["Фіксована",1.4493301790699999,39.209703283899998,2.0197E-2]

{"sheet":"RATE_CMP","index":21,"n_rows":28,"n_cols":8,"rows_kept":28,"cut":false,"hidden":true,"merged":[[1,0,1,7],[4,1,4,3],[4,4,4,6],[17,1,17,3],[17,4,17,6]]}
[]
["Структура боргу за типом ставки на кінець попереднього року та звітну дату"]
[]
[null,null,null,null,null,null,null,{"$f":"VALVAL","v":"млрд. одиниць"}]
[null,"2016-12-31",null,null,"2017-02-28"]
[null,"дол.США","грн.","%","дол.США","грн.","%","Зміна структури"]
["Загальна сума державного та гарантованого державою боргу",{"$f":"SUM(B8:B15)","v":70.970954733159999},1929.76115227176,1,71.759644384690006,1941.3618820220699,1,0]
["LIBOR",9.0349672266500001,245.66851089492999,0.127305,8.9345238457100002,241.71167759746001,0.12450600000000001,-2.7989999999999998E-3]
["Ставка МВФ",13.07540546726,355.53149335276998,0.18423600000000001,13.16839788863,356.25351724456999,0.183507,-7.2900000000000005E-4]
["Фіксована",48.860582039249998,1328.56114802406,0.68845900000000004,49.656722650349998,1343.3966871800401,0.69198700000000002,3.5279999999999999E-3]
[null,null,null,null,null,null,null,{"$f":"G11-D11","v":0}]
[null,null,null,null,null,null,null,0]
[null,null,null,null,null,null,null,0]
[]
[]
[]
[null,null,null,null,null,null,null,{"$f":"VALVAL","v":"млрд. одиниць"}]
[null,"2016-12-31",null,null,"2017-02-28"]
[null,"дол.США","грн.","%","дол.США","грн.","%","Зміна структури"]
["Загальна сума державного та гарантованого державою боргу",{"$f":"B$25+B$21","v":70.970954733159999},1929.7611522717602,1,71.759644384690006,1941.3618820220699,1,0]
["Державний борг",{"$f":"SUM(B$22:B$24)","v":60.712805938390005},1650.8332850501201,0.85546000000000011,61.578907322000006,1665.93556081062,0.85812699999999997,2.6670000000000001E-3]
["LIBOR",6.5010143593700001,176.76815830205999,9.1601000000000002E-2,6.4898273781500002,175.57366122496001,9.0438000000000004E-2,-1.163E-3]
["Ставка МВФ",6.8330904612600003,185.79759243326001,9.6280000000000004E-2,6.8816874725700004,186.17491568951999,9.5898999999999998E-2,-3.8099999999999999E-4]
["Фіксована",47.378701117760002,1288.2675343148001,0.66757900000000003,48.207392471280002,1304.18698389614,0.67179,4.2110000000000003E-3]
["Гарантований державою борг",{"$f":"SUM(B$26:B$28)","v":10.258148794769999},278.92786722163999,0.14454,10.18073706269,275.42632121144999,0.141873,-2.6670000000000001E-3]
["LIBOR",2.53395286728,68.900352592869993,3.5704E-2,2.44469646756,66.138016372500005,3.4068000000000001E-2,-1.6360000000000001E-3]
["Ставка МВФ",6.2423150060000001,169.73390091951001,8.7956000000000006E-2,6.28671041606,170.07860155505,8.7608000000000005E-2,-3.48E-4]
["Фіксована",1.4818809214899999,40.293613709260001,2.0879999999999999E-2,1.4493301790699999,39.209703283899998,2.0197E-2,-6.8300000000000001E-4]

{"sheet":"CUR_M","index":24,"n_rows":13,"n_cols":4,"rows_kept":13,"cut":false,"hidden":false,"merged":[[1,0,1,3],[2,0,2,3]]}
[]
[{"$f":"\"Державний та гарантований державою борг України за станом на \" & TEXT(DREPORTDATE,\"dd.MM.yyyy\")","v":"Державний та гарантований державою борг України за станом на 28.02.2017"}]
["(в розрізі валют погашеня)"]
[]
[null,null,null,{"$f":"VALVAL","v":"млрд. одиниць"}]
[null,"дол.США","грн.","%"]
["Загальна сума державного та гарантованого державою боргу",{"$f":"SUM(B8:B26)","v":71.759644384690006},1941.3618820220699,1]
["Долар США",31.446987729050001,850.75649140973997,0.43822699999999998]
["ЄВРО",4.0074946320400002,108.41744531632,5.5846E-2]
["Канадський долар",0.30490315695999998,8.2487499999999994,4.2490000000000002E-3]
["СПЗ",13.16839788863,356.25351724456999,0.183507]
["Українська гривня",22.26008678526,602.21708658273997,0.31020300000000001]
["Японська єна",0.57177419274999997,15.4685914687,7.9679999999999994E-3]

{"sheet":"CUR","index":25,"n_rows":35,"n_cols":4,"rows_kept":35,"cut":false,"hidden":true,"merged":[[1,0,1,3],[2,0,2,3]]}
[]
[{"$f":"\"Державний та гарантований державою борг України за станом на \" & TEXT(DREPORTDATE,\"dd.MM.yyyy\")","v":"Державний та гарантований державою борг України за станом на 28.02.2017"}]
["(в розрізі валют погашеня)"]
[]
[null,null,null,{"$f":"VALVAL","v":"млрд. одиниць"}]
[null,"дол.США","грн.","%"]
["Загальна сума державного та гарантованого державою боргу",{"$f":"SUM(B8:B18)","v":71.759644384690006},1941.3618820220699,1]
["Долар США",31.446987729050001,850.75649140973997,0.43822699999999998]
["ЄВРО",4.0074946320400002,108.41744531632,5.5846E-2]
["Канадський долар",0.30490315695999998,8.2487499999999994,4.2490000000000002E-3]
["СПЗ",13.16839788863,356.25351724456999,0.183507]
["Українська гривня",22.26008678526,602.21708658273997,0.31020300000000001]
["Японська єна",0.57177419274999997,15.4685914687,7.9679999999999994E-3]
[]
[]
[]
[]
[]
[]
["В тому числі:"]
[null,{"$f":"\"Державний борг України за станом на \" & TEXT(DREPORTDATE,\"dd.MM.yyyy\")","v":"Державний борг України за станом на 28.02.2017"},null,{"$f":"VALVAL","v":"млрд. одиниць"}]
[null,"дол.США","грн.","%"]
["Загальна сума державного та гарантованого державою боргу",{"$f":"B$31+B$24","v":71.759644384690006},1941.3618820220699,1]
["Державний борг",{"$f":"SUM(B$25:B$30)","v":61.578907321999999},1665.93556081062,0.85812699999999997]
["Долар США",28.398592899560001,768.28621756620998,0.39574599999999999]
["ЄВРО",3.8681279295,104.64706425857,5.3904000000000001E-2]
["Канадський долар",0.30490315695999998,8.2487499999999994,4.2490000000000002E-3]
["СПЗ",6.8816874725700004,186.17491568951999,9.5898999999999998E-2]
["Українська гривня",21.55382167066,583.11002182762002,0.30036099999999999]
["Японська єна",0.57177419274999997,15.4685914687,7.9679999999999994E-3]
["Гарантований державою борг",{"$f":"SUM(B$32:B$35)","v":10.18073706269},275.42632121144999,0.141873]
["Долар США",3.0483948294899998,82.470273843529995,4.2480999999999998E-2]
["ЄВРО",0.13936670254,3.7703810577499999,1.9419999999999999E-3]
["СПЗ",6.28671041606,170.07860155505,8.7608000000000005E-2]
["Українська гривня",0.70626511459999997,19.10706475512,9.8420000000000001E-3]

{"sheet":"CUR_CMP","index":26,"n_rows":36,"n_cols":8,"rows_kept":36,"cut":false,"hidden":true,"merged":[[1,0,1,7],[5,1,5,3],[5,4,5,6],[21,1,21,3],[21,4,21,6]]}
[]
["Валютна структура державного боргу на кінець попереднього року та звітну дату"]
[]
[]
[null,null,null,null,null,null,null,{"$f":"VALVAL","v":"млрд. одиниць"}]
[null,"2016-12-31",null,null,"2017-02-28"]
[null,"дол.США","грн.","%","дол.США","грн.","%","Зміна структури"]
["Загальна сума державного та гарантованого державою боргу",{"$f":"SUM(B9:B18)","v":70.970954733159985},1929.76115227176,0.99999899999999997,71.759644384690006,1941.3618820220699,1,1.1655173354219173E-18]
["Долар США",31.637750017769999,860.25756817268996,0.44578400000000001,31.446987729050001,850.75649140973997,0.43822699999999998,-7.5579999999999996E-3]
["ЄВРО",3.9324516798900002,106.92673522,5.5409E-2,4.0074946320400002,108.41744531632,5.5846E-2,4.37E-4]
["Канадський долар",0.29540765501999999,8.0323875999999998,4.1619999999999999E-3,0.30490315695999998,8.2487499999999994,4.2490000000000002E-3,8.7000000000000001E-5]
["СПЗ",13.07540546726,355.53149335276998,0.18423600000000001,13.16839788863,356.25351724456999,0.183507,-7.2900000000000005E-4]
["Українська гривня",21.480066674570001,584.06144277595001,0.30265999999999998,22.26008678526,602.21708658273997,0.31020300000000001,7.5430000000000002E-3]
["Японська єна",0.54987323865000004,14.951525150349999,7.7479999999999997E-3,0.57177419274999997,15.4685914687,7.9679999999999994E-3,2.2000000000000001E-4]
[]
[]
[]
[]
[]
[]
[null,null,null,null,null,null,null,{"$f":"VALVAL","v":"млрд. одиниць"}]
[null,"2016-12-31",null,null,"2017-02-28"]
[null,"дол.США","грн.","%","дол.США","грн.","%","Зміна структури"]
["Загальна сума державного та гарантованого державою боргу",{"$f":"B$32+B$25","v":70.970954733159999},1929.7611522717602,0.99999899999999997,71.759644384690006,1941.3618820220699,1,9.9999999999999995E-7]
["Державний борг",{"$f":"SUM(B$26:B$31)","v":60.712805938390005},1650.8332850501201,0.85545899999999997,61.578907321999999,1665.93556081062,0.85812699999999997,2.6679999999999998E-3]
["Долар США",28.4531203859,773.66475606993004,0.40091199999999999,28.398592899560001,768.28621756620998,0.39574599999999999,-5.1659999999999996E-3]
["ЄВРО",3.8031185433200001,103.41005626896001,5.3587000000000003E-2,3.8681279295,104.64706425857,5.3904000000000001E-2,3.1700000000000001E-4]
["Канадський долар",0.29540765501999999,8.0323875999999998,4.1619999999999999E-3,0.30490315695999998,8.2487499999999994,4.2490000000000002E-3,8.7000000000000001E-5]
["СПЗ",6.8330904612600003,185.79759243326001,9.6280000000000004E-2,6.8816874725700004,186.17491568951999,9.5898999999999998E-2,-3.8099999999999999E-4]
["Українська гривня",20.778195654240001,564.97696752761999,0.29276999999999997,21.55382167066,583.11002182762002,0.30036099999999999,7.5909999999999997E-3]
["Японська єна",0.54987323865000004,14.951525150349999,7.7479999999999997E-3,0.57177419274999997,15.4685914687,7.9679999999999994E-3,2.2000000000000001E-4]
["Гарантований державою борг",{"$f":"SUM(B$33:B$36)","v":10.258148794769999},278.92786722164004,0.14454,10.18073706269,275.42632121144999,0.141873,-2.6670000000000001E-3]
["Долар США",3.18462963187,86.592812102760007,4.4872000000000002E-2,3.0483948294899998,82.470273843529995,4.2480999999999998E-2,-2.392E-3]
["ЄВРО",0.12933313657000001,3.5166789510399998,1.8220000000000001E-3,0.13936670254,3.7703810577499999,1.9419999999999999E-3,1.2E-4]
["СПЗ",6.2423150060000001,169.73390091951001,8.7956000000000006E-2,6.28671041606,170.07860155505,8.7608000000000005E-2,-3.48E-4]
["Українська гривня",0.70187102033000004,19.084475248330001,9.8899999999999995E-3,0.70626511459999997,19.10706475512,9.8420000000000001E-3,-4.6999999999999997E-5]

{"sheet":"CUR_M_EXT","index":27,"n_rows":13,"n_cols":14,"rows_kept":13,"cut":false,"hidden":true,"merged":[[4,1,4,6],[4,7,4,12],[1,0,1,13]]}
[]
["Валютна структура боргу на кінець попереднього року та на звітну дату"]
[]
[null,null,null,null,null,null,null,null,null,null,null,null,null,{"$f":"VALVAL","v":"млрд. одиниць"}]
[null,"2016-12-31",null,null,null,null,null,"2017-02-28"]
[null,"оріг.","курс до USD","курс до UAH","дол.США","грн.","%","оріг.","курс до USD","курс до UAH","дол.США","грн.","%","Зміна структури"]
["Загальна сума державного та гарантованого державою боргу",null,null,null,{"$f":"SUM(E8:E23)","v":70.970954733159985},1929.76115227176,0.99999899999999997,null,null,null,{"$f":"SUM(K8:K23)","v":71.759644384690006},1941.3618820220699,1,1.1655173354219173E-18]
["Долар США",31.637750017769999,1,27.190857999999999,31.637750017769999,860.25756817268996,0.44578400000000001,31.446987729050001,1,27.053671999999999,31.446987729050001,850.75649140973997,0.43822699999999998,-7.5579999999999996E-3]
["ЄВРО",3.76203162877,1.0452999999999999,28.422604,3.9324516798900002,106.92673522,5.5409E-2,3.7852975994600002,1.0587,28.641722999999999,4.0074946320400002,108.41744531632,5.5846E-2,4.37E-4]
["Канадський долар",0.4,0.73851900000000004,20.080969,0.29540765501999999,8.0323875999999998,4.1619999999999999E-3,0.4,0.76225799999999999,20.621874999999999,0.30490315695999998,8.2487499999999994,4.2490000000000002E-3,8.7000000000000001E-5]
["СПЗ",9.7263234070000006,1.3443320000000001,36.553533999999999,13.07540546726,355.53149335276998,0.18423600000000001,9.7263234070000006,1.353893,36.627768000000003,13.16839788863,356.25351724456999,0.183507,-7.2900000000000005E-4]
["Українська гривня",584.06144277595001,3.6776999999999997E-2,1,21.480066674570001,584.06144277595001,0.30265999999999998,602.21708658273997,3.6963999999999997E-2,1,22.26008678526,602.21708658273997,0.31020300000000001,7.5430000000000002E-3]
["Японська єна",64.198346000000001,8.5649999999999997E-3,0.23289599999999999,0.54987323865000004,14.951525150349999,7.7479999999999997E-3,64.198346000000001,8.9060000000000007E-3,0.24095,0.57177419274999997,15.4685914687,7.9679999999999994E-3,2.2000000000000001E-4]

{"sheet":"CUR_CMP_EXT","index":28,"n_rows":38,"n_cols":14,"rows_kept":38,"cut":false,"hidden":true,"merged":[[1,0,1,13],[4,1,4,6],[4,7,4,12],[23,1,23,6],[23,7,23,12]]}
[]
["Валютна структура боргу на кінець попереднього року та на звітну дату (розширений)"]
[]
[null,null,null,null,null,null,null,null,null,null,null,null,null,{"$f":"VALVAL","v":"млрд. одиниць"}]
[null,"2016-12-31",null,null,null,null,null,"2017-02-28"]
[null,"оріг.","курс до USD","курс до UAH","дол.США","грн.","%","оріг.","курс до USD","курс до UAH","дол.США","грн.","%","Зміна структури"]
["Загальна сума державного та гарантованого державою боргу",null,null,null,{"$f":"SUM(E8:E24)","v":70.970954733159985},1929.76115227176,0.99999899999999997,null,null,null,{"$f":"SUM(K8:K24)","v":71.759644384690006},1941.3618820220699,1,1.1655173354219173E-18]
["Долар США",31.637750017769999,1,27.190857999999999,31.637750017769999,860.25756817268996,0.44578400000000001,31.446987729050001,1,27.053671999999999,31.446987729050001,850.75649140973997,0.43822699999999998,-7.5579999999999996E-3]
["ЄВРО",3.76203162877,1.0452999999999999,28.422604,3.9324516798900002,106.92673522,5.5409E-2,3.7852975994600002,1.0587,28.641722999999999,4.0074946320400002,108.41744531632,5.5846E-2,4.37E-4]
["Канадський долар",0.4,0.73851900000000004,20.080969,0.29540765501999999,8.0323875999999998,4.1619999999999999E-3,0.4,0.76225799999999999,20.621874999999999,0.30490315695999998,8.2487499999999994,4.2490000000000002E-3,8.7000000000000001E-5]
["СПЗ",9.7263234070000006,1.3443320000000001,36.553533999999999,13.07540546726,355.53149335276998,0.18423600000000001,9.7263234070000006,1.353893,36.627768000000003,13.16839788863,356.25351724456999,0.183507,-7.2900000000000005E-4]
["Українська гривня",584.06144277595001,3.6776999999999997E-2,1,21.480066674570001,584.06144277595001,0.30265999999999998,602.21708658273997,3.6963999999999997E-2,1,22.26008678526,602.21708658273997,0.31020300000000001,7.5430000000000002E-3]
["Японська єна",64.198346000000001,8.5649999999999997E-3,0.23289599999999999,0.54987323865000004,14.951525150349999,7.7479999999999997E-3,64.198346000000001,8.9060000000000007E-3,0.24095,0.57177419274999997,15.4685914687,7.9679999999999994E-3,2.2000000000000001E-4]
[]
[]
[]
[]
[]
[]
[]
[]
[]
[null,null,null,null,null,null,null,null,null,null,null,null,null,{"$f":"VALVAL","v":"млрд. одиниць"}]
[null,"2016-12-31",null,null,null,null,null,"2017-02-28"]
[null,"оріг.","курс до USD","курс до UAH","дол.США","грн.","%","оріг.","курс до USD","курс до UAH","дол.США","грн.","%","Зміна структури"]
["Загальна сума державного та гарантованого державою боргу",{"$f":"B$34+B$27","v":693.78589382949008},7.5999020000000002,206.64785699999999,70.970954733159999,1929.7611522717602,0.99999899999999997,711.77404131825006,7.6702780000000006,207.50915099999997,71.759644384690006,1941.3618820220699,1,9.9999999999999995E-7]
["Державний борг",{"$f":"SUM(B$28:B$33)","v":666.74962729589004},4.1734930000000006,113.48086099999999,60.712805938390005,1650.8332850501201,0.85545899999999997,684.84350886285006,4.2207210000000002,114.18598799999999,61.578907321999999,1665.93556081062,0.85812699999999997,2.6679999999999998E-3]
["Долар США",28.4531203859,1,27.190857999999999,28.4531203859,773.66475606993004,0.40091199999999999,28.398592899560001,1,27.053671999999999,28.398592899560001,768.28621756620998,0.39574599999999999,-5.1659999999999996E-3]
["ЄВРО",3.6383033823700002,1.0452999999999999,28.422604,3.8031185433200001,103.41005626896001,5.3587000000000003E-2,3.6536581356700002,1.0587,28.641722999999999,3.8681279295,104.64706425857,5.3904000000000001E-2,3.1700000000000001E-4]
["Канадський долар",0.4,0.73851900000000004,20.080969,0.29540765501999999,8.0323875999999998,4.1619999999999999E-3,0.4,0.76225799999999999,20.621874999999999,0.30490315695999998,8.2487499999999994,4.2490000000000002E-3,8.7000000000000001E-5]
["СПЗ",5.0828899999999999,1.3443320000000001,36.553533999999999,6.8330904612600003,185.79759243326001,9.6280000000000004E-2,5.0828899999999999,1.353893,36.627768000000003,6.8816874725700004,186.17491568951999,9.5898999999999998E-2,-3.8099999999999999E-4]
["Українська гривня",564.97696752761999,3.6776999999999997E-2,1,20.778195654240001,564.97696752761999,0.29276999999999997,583.11002182762002,3.6963999999999997E-2,1,21.55382167066,583.11002182762002,0.30036099999999999,7.5909999999999997E-3]
["Японська єна",64.198346000000001,8.5649999999999997E-3,0.23289599999999999,0.54987323865000004,14.951525150349999,7.7479999999999997E-3,64.198346000000001,8.9060000000000007E-3,0.24095,0.57177419274999997,15.4685914687,7.9679999999999994E-3,2.2000000000000001E-4]
["Гарантований державою борг",{"$f":"SUM(B$35:B$38)","v":27.036266533599999},3.426409,93.166995999999997,10.258148794769999,278.92786722164004,0.14454,26.930532455399998,3.4495570000000004,93.323162999999994,10.18073706269,275.42632121144999,0.141873,-2.6670000000000001E-3]
["Долар США",3.18462963187,1,27.190857999999999,3.18462963187,86.592812102760007,4.4872000000000002E-2,3.0483948294899998,1,27.053671999999999,3.0483948294899998,82.470273843529995,4.2480999999999998E-2,-2.392E-3]
["ЄВРО",0.12372824640000001,1.0452999999999999,28.422604,0.12933313657000001,3.5166789510399998,1.8220000000000001E-3,0.13163946378999999,1.0587,28.641722999999999,0.13936670254,3.7703810577499999,1.9419999999999999E-3,1.2E-4]
["СПЗ",4.6434334069999998,1.3443320000000001,36.553533999999999,6.2423150060000001,169.73390091951001,8.7956000000000006E-2,4.6434334069999998,1.353893,36.627768000000003,6.28671041606,170.07860155505,8.7608000000000005E-2,-3.48E-4]
["Українська гривня",19.084475248330001,3.6776999999999997E-2,1,0.70187102033000004,19.084475248330001,9.8899999999999995E-3,19.10706475512,3.6963999999999997E-2,1,0.70626511459999997,19.10706475512,9.8420000000000001E-3,-4.6999999999999997E-5]

{"sheet":"DKT1","index":29,"n_rows":27,"n_cols":5,"rows_kept":27,"cut":false,"hidden":true,"merged":[[1,0,1,3],[2,0,2,3]]}
[]
[{"$f":"\"Державний та гарантований державою борг України за станом на \" & TEXT(DREPORTDATE,\"dd.MM.yyyy\")","v":"Державний та гарантований державою борг України за станом на 28.02.2017"}]
["(за типом кредитора)"]
[]
[null,null,null,{"$f":"VALVAL","v":"млрд. одиниць"}]
[null,"дол.США","грн.","%","FORMAT"]
["Загальна сума державного та гарантованого державою боргу",{"$f":"B$18+B$8","v":71.759644384689992},1941.3618820220699,1.0000009999999999,"3"]
["Державний борг",{"$f":"B$9+B$12","v":61.578907321999992},1665.93556081062,0.858128,"3"]
["Внутрішній борг",{"$f":"SUM(B$10:B$11)","v":25.441895157029997},688.29668663974996,0.354543,"2"]
["1. Заборгованість за випущеними цінними паперами на внутрішньому ринку",25.349013202679998,685.78388871212996,0.35324899999999998,"1"]
["2. Заборгованість перед банківськими та іншими фінансовими установами",9.2881954350000004E-2,2.5127979276199999,1.294E-3]
["Зовнішній борг",{"$f":"SUM(B$13:B$17)","v":36.137012164969995},977.63887417087005,0.50358499999999995]
["1. Заборгованість за позиками, одержаними від міжнародних фінансових організацій",13.71804922746,371.12360427924,0.191167]
["2. Заборгованість за позиками, одержаними від органів управління іноземних держав",1.7129986181400001,46.342902751510003,2.3871E-2]
["3. Заборгованість за позиками, одержаними від іноземних комерційних банків, інших іноземних фінансових установ",5.4130479999999998E-5,1.46442838E-3,9.9999999999999995E-7]
["4. Заборгованість за випущеними цінними паперами на зовнішньому ринку",19.043330000000001,515.19200360774005,0.26537699999999997]
["5. Заборгованість, не віднесена до інших категорій",1.66258018889,44.978899104,2.3168999999999999E-2]
["Гарантований державою борг",{"$f":"B$19+B$23","v":10.180737062690001},275.42632121144999,0.141873]
["Внутрішній борг",{"$f":"SUM(B$20:B$22)","v":0.70626511459999997},19.10706475512,9.8420000000000001E-3]
["1. Заборгованість за випущеними цінними паперами на внутрішньому ринку",0.58956919416999998,15.9500116,8.2159999999999993E-3]
["2. Заборгованість перед банківськими та іншими фінансовими установами",0.11666063317,3.1560985051200001,1.6260000000000001E-3]
["3. Заборгованість, не віднесена до інших категорій",3.5287260000000001E-5,9.5465000000000003E-4,0]
["Зовнішній борг",{"$f":"SUM(B$24:B$27)","v":9.4744719480900006},256.31925645632998,0.13203100000000001]
["1. Заборгованість за позиками, одержаними від міжнародних фінансових організацій",6.9762090606999996,188.73207173121,9.7215999999999997E-2]
["2. Заборгованість за позиками, одержаними від органів управління іноземних держав",0.12184731662000001,3.2964173379199999,1.6980000000000001E-3]
["3. Заборгованість за позиками, одержаними від іноземних комерційних банків, інших іноземних фінансових установ",2.26614993967,61.307677170470001,3.1579999999999997E-2]
["5. Заборгованість, не віднесена до інших категорій",0.1102656311,2.98309021673,1.537E-3]

{"sheet":"DKR","index":33,"n_rows":15,"n_cols":4,"rows_kept":15,"cut":false,"hidden":true,"merged":[[1,0,1,3],[2,0,2,3]]}
[]
[{"$f":"\"Державний та гарантований державою борг України за станом на \" & TEXT(DREPORTDATE,\"dd.MM.yyyy\")","v":"Державний та гарантований державою борг України за станом на 28.02.2017"}]
["(за типом кредитора)"]
[]
[null,null,null,{"$f":"VALVAL","v":"млрд. одиниць"}]
[null,"дол.США","грн.","%"]
["Загальна сума державного та гарантованого державою боргу",{"$f":"SUM(B8:B46)","v":71.759644384690006},1941.3618820220699,0.99999899999999986]
["Внутрішній борг за випущеними цінними паперами",25.938582396849998,701.73390031213,0.36146499999999998]
["Внутрішній борг перед банківськими та іншими фінансовими установами",0.20954258751999999,5.6688964327400004,2.9199999999999999E-3]
["Внутрішня заборгованість, не віднесена до інших категорій",3.5287260000000001E-5,9.5465000000000003E-4,0]
["Зовнішній борг за випущеними цінними паперами",19.043330000000001,515.19200360774005,0.26537699999999997]
["Зовнішній борг за позиками, одержаними від іноземних комерційних банків, інших іноземних фінансових установ",2.2662040701500001,61.309141598849997,3.1579999999999997E-2]
["Зовнішній борг за позиками, одержаними від міжнародних фінансових організацій",20.69425828816,559.85567601045,0.288383]
["Зовнішній борг за позиками, одержаними від органів управління іноземних держав",1.8348459347599999,49.639320089430001,2.5569000000000001E-2]
["Зовнішній борг, не віднесений до інших категорій",1.7728458199899999,47.961989320729998,2.4705000000000001E-2]

{"sheet":"DKR2","index":34,"n_rows":24,"n_cols":4,"rows_kept":24,"cut":false,"hidden":true,"merged":[[2,0,2,3],[3,0,3,3],[0,0,0,3],[1,0,1,3]]}
[{"$f":"\"Державний борг України за станом на \" & TEXT(DREPORTDATE,\"dd.MM.yyyy\")","v":"Державний борг України за станом на 28.02.2017"}]
[{"$f":"\"Гарантований державою борг України за станом на \" & TEXT(DREPORTDATE,\"dd.MM.yyyy\")","v":"Гарантований державою борг України за станом на 28.02.2017"}]
[{"$f":"\"Державний та гарантований державою борг України за станом на \" & TEXT(DREPORTDATE,\"dd.MM.yyyy\")","v":"Державний та гарантований державою борг України за станом на 28.02.2017"}]
["(за типом кредитора)"]
[]
[null,null,null,{"$f":"VALVAL","v":"млрд. одиниць"}]
[null,"дол.США","грн.","%"]
["Загальна сума державного та гарантованого державою боргу",{"$f":"B$17+B$9","v":71.759644384690006},1941.3618820220699,2.1064989999999999]
["Державний борг",{"$f":"SUM(B$10:B$16)","v":61.578907321999999},1665.93556081062,1.2581279999999999]
["Внутрішній борг за випущеними цінними паперами",25.349013202679998,685.78388871212996,0.35324899999999998]
["Внутрішній борг перед банківськими та іншими фінансовими установами",9.2881954350000004E-2,2.5127979276199999,1.294E-3]
["Зовнішній борг за випущеними цінними паперами",19.043330000000001,515.19200360774005,0.26537699999999997]
["Зовнішній борг за позиками, одержаними від іноземних комерційних банків, інших іноземних фінансових установ",5.4130479999999998E-5,1.46442838E-3,9.9999999999999995E-7]
["Зовнішній борг за позиками, одержаними від міжнародних фінансових організацій",13.71804922746,371.12360427924,0.191167]
["Зовнішній борг за позиками, одержаними від органів управління іноземних держав",1.7129986181400001,46.342902751510003,2.3871E-2]
["Зовнішній борг, не віднесений до інших категорій",1.66258018889,44.978899104,2.3168999999999999E-2]
["Гарантований державою борг",{"$f":"SUM(B$18:B$24)","v":10.18073706269},275.42632121144993,0.141873]
["Внутрішній борг за випущеними цінними паперами",0.58956919416999998,15.9500116,8.2159999999999993E-3]
["Внутрішній борг перед банківськими та іншими фінансовими установами",0.11666063317,3.1560985051200001,1.6260000000000001E-3]
["Внутрішня заборгованість, не віднесена до інших категорій",3.5287260000000001E-5,9.5465000000000003E-4,0]
["Зовнішній борг за позиками, одержаними від іноземних комерційних банків, інших іноземних фінансових установ",2.26614993967,61.307677170470001,3.1579999999999997E-2]
["Зовнішній борг за позиками, одержаними від міжнародних фінансових організацій",6.9762090606999996,188.73207173121,9.7215999999999997E-2]
["Зовнішній борг за позиками, одержаними від органів управління іноземних держав",0.12184731662000001,3.2964173379199999,1.6980000000000001E-3]
["Зовнішній борг, не віднесений до інших категорій",0.1102656311,2.98309021673,1.537E-3]

{"sheet":"YT_ALL","index":38,"n_rows":20,"n_cols":7,"rows_kept":20,"cut":false,"hidden":true,"merged":[[1,0,1,6]]}
[]
["Державний та гарантований державою борг України за останні 5 років"]
[]
[{"$f":"$A$2 & \" (\" &G4 & \")\"","v":"Державний та гарантований державою борг України за останні 5 років (млрд. грн)"},null,null,null,null,null,{"$f":"VALUAH","v":"млрд. грн"}]
[null,"2012-12-31","2013-12-31","2014-12-31","2015-12-31","2016-12-31","2017-02-28"]
["Загальна сума державного та гарантованого державою боргу",{"$f":"SUM(B$7+ B$8)","v":515.51083307649992},584.78657094877008,1100.8332167026401,1572.1801589904499,1929.76115227176,1941.3618820220699]
["Внутрішній борг",206.51071361043,284.08872546875,488.86690736498002,529.46057801728,689.73000579020004,707.40375139487003]
["Зовнішній борг",309.00011946606998,300.69784548002002,611.96630933766005,1042.71958097317,1240.03114648156,1233.9581306272]
[]
[{"$f":"$A$2 & \" (\" &G10 & \")\"","v":"Державний та гарантований державою борг України за останні 5 років (млрд. дол. США)"},null,null,null,null,null,{"$f":"VALUSD","v":"млрд. дол. США"}]
[null,"2012-12-31","2013-12-31","2014-12-31","2015-12-31","2016-12-31","2017-02-28"]
["Загальна сума державного та гарантованого державою боргу",{"$f":"SUM(B$13+ B$14)","v":64.495287511390003},73.16233841495,69.811922962929998,65.505686112310002,70.970954733159999,71.759644384690006]
["Внутрішній борг",25.836446091900001,35.542190100169996,31.002642687809999,22.060244326380001,25.366246471259998,26.148160271630001]
["Зовнішній борг",38.658841419490003,37.620148314780003,38.809280275120003,43.445441785930001,45.604708261900001,45.611484113060001]
[]
[null,null,null,null,null,null,"%"]
[null,"2012-12-31","2013-12-31","2014-12-31","2015-12-31","2016-12-31","2017-02-28"]
["Загальна сума державного та гарантованого державою боргу",{"$f":"SUM(B$19+ B$20)","v":1},1,1,1,1,1]
["Внутрішній борг",0.40059400000000001,0.48579899999999998,0.44408799999999998,0.33676800000000001,0.35741699999999998,0.36438500000000001]
["Зовнішній борг",0.59940599999999999,0.51420100000000002,0.55591199999999996,0.66323200000000004,0.64258300000000002,0.63561500000000004]

{"sheet":"YTM_ALL","index":41,"n_rows":20,"n_cols":7,"rows_kept":20,"cut":false,"hidden":true,"merged":[[1,0,1,6]]}
[]
["Державний та гарантований державою борг України за останні 5 років"]
[]
[null,null,null,null,null,null,"млрд. грн."]
[null,{"$f":"YT_ALL!B5","v":"2012-12-31"},{"$f":"YT_ALL!C5","v":"2013-12-31"},{"$f":"YT_ALL!D5","v":"2014-12-31"},{"$f":"YT_ALL!E5","v":"2015-12-31"},{"$f":"YT_ALL!F5","v":"2016-12-31"},{"$f":"YT_ALL!G5","v":"2017-02-28"}]
["Загальна сума державного та гарантованого державою боргу",{"$f":"SUM(B$7+ B$8)","v":515.51083307649992},584.78657094877008,1100.8332167026401,1572.1801589904499,1929.76115227176,1941.3618820220699]
[{"$f":"YT_ALL!A7","v":"Внутрішній борг"},{"$f":"YT_ALL!B7/DMLMLR","v":206.51071361043},{"$f":"YT_ALL!C7/DMLMLR","v":284.08872546875},{"$f":"YT_ALL!D7/DMLMLR","v":488.86690736498002},{"$f":"YT_ALL!E7/DMLMLR","v":529.46057801728},{"$f":"YT_ALL!F7/DMLMLR","v":689.73000579020004},{"$f":"YT_ALL!G7/DMLMLR","v":707.40375139487003}]
[{"$f":"YT_ALL!A8","v":"Зовнішній борг"},{"$f":"YT_ALL!B8/DMLMLR","v":309.00011946606998},{"$f":"YT_ALL!C8/DMLMLR","v":300.69784548002002},{"$f":"YT_ALL!D8/DMLMLR","v":611.96630933766005},{"$f":"YT_ALL!E8/DMLMLR","v":1042.71958097317},{"$f":"YT_ALL!F8/DMLMLR","v":1240.03114648156},{"$f":"YT_ALL!G8/DMLMLR","v":1233.9581306272}]
[]
[null,null,null,null,null,null,"млрд. дол.США"]
[null,{"$f":"YT_ALL!B11","v":"2012-12-31"},{"$f":"YT_ALL!C11","v":"2013-12-31"},{"$f":"YT_ALL!D11","v":"2014-12-31"},{"$f":"YT_ALL!E11","v":"2015-12-31"},{"$f":"YT_ALL!F11","v":"2016-12-31"},{"$f":"YT_ALL!G11","v":"2017-02-28"}]
["Загальна сума державного та гарантованого державою боргу",{"$f":"SUM(B$13+ B$14)","v":64.495287511390003},73.16233841495,69.811922962929998,65.505686112310002,70.970954733159999,71.759644384690006]
[{"$f":"YT_ALL!A13","v":"Внутрішній борг"},{"$f":"YT_ALL!B13/DMLMLR","v":25.836446091900001},{"$f":"YT_ALL!C13/DMLMLR","v":35.542190100169996},{"$f":"YT_ALL!D13/DMLMLR","v":31.002642687809999},{"$f":"YT_ALL!E13/DMLMLR","v":22.060244326380001},{"$f":"YT_ALL!F13/DMLMLR","v":25.366246471259998},{"$f":"YT_ALL!G13/DMLMLR","v":26.148160271630001}]
[{"$f":"YT_ALL!A14","v":"Зовнішній борг"},{"$f":"YT_ALL!B14/DMLMLR","v":38.658841419490003},{"$f":"YT_ALL!C14/DMLMLR","v":37.620148314780003},{"$f":"YT_ALL!D14/DMLMLR","v":38.809280275120003},{"$f":"YT_ALL!E14/DMLMLR","v":43.445441785930001},{"$f":"YT_ALL!F14/DMLMLR","v":45.604708261900001},{"$f":"YT_ALL!G14/DMLMLR","v":45.611484113060001}]
[]
[null,null,null,null,null,null,"%"]
[null,{"$f":"YT_ALL!B17","v":"2012-12-31"},{"$f":"YT_ALL!C17","v":"2013-12-31"},{"$f":"YT_ALL!D17","v":"2014-12-31"},{"$f":"YT_ALL!E17","v":"2015-12-31"},{"$f":"YT_ALL!F17","v":"2016-12-31"},{"$f":"YT_ALL!G17","v":"2017-02-28"}]
["Загальна сума державного та гарантованого державою боргу",{"$f":"SUM(B$19+ B$20)","v":1},1,1,1,1,1]
[{"$f":"YT_ALL!A19","v":"Внутрішній борг"},{"$f":"YT_ALL!B19","v":0.40059400000000001},{"$f":"YT_ALL!C19","v":0.48579899999999998},{"$f":"YT_ALL!D19","v":0.44408799999999998},{"$f":"YT_ALL!E19","v":0.33676800000000001},{"$f":"YT_ALL!F19","v":0.35741699999999998},{"$f":"YT_ALL!G19","v":0.36438500000000001}]
[{"$f":"YT_ALL!A20","v":"Зовнішній борг"},{"$f":"YT_ALL!B20","v":0.59940599999999999},{"$f":"YT_ALL!C20","v":0.51420100000000002},{"$f":"YT_ALL!D20","v":0.55591199999999996},{"$f":"YT_ALL!E20","v":0.66323200000000004},{"$f":"YT_ALL!F20","v":0.64258300000000002},{"$f":"YT_ALL!G20","v":0.63561500000000004}]

{"sheet":"YKM_ALL","index":44,"n_rows":20,"n_cols":7,"rows_kept":20,"cut":false,"hidden":true,"merged":[[1,0,1,6]]}
[]
["Державний та гарантований державою борг України за останні 5 років"]
[]
[null,null,null,null,null,null,"млрд. грн."]
[null,{"$f":"YT_ALL!B5","v":"2012-12-31"},{"$f":"YT_ALL!C5","v":"2013-12-31"},{"$f":"YT_ALL!D5","v":"2014-12-31"},{"$f":"YT_ALL!E5","v":"2015-12-31"},{"$f":"YT_ALL!F5","v":"2016-12-31"},{"$f":"YT_ALL!G5","v":"2017-02-28"}]
["Загальна сума державного та гарантованого державою боргу",{"$f":"SUM(B$7+ B$8)","v":515.51083307650003},584.78657094876996,1100.8332167026401,1572.1801589904499,1929.7611522717598,1941.3618820220699]
[{"$f":"YK_ALL!A7","v":"Державний борг"},{"$f":"YK_ALL!B7/DMLMLR","v":399.21823411787},{"$f":"YK_ALL!C7/DMLMLR","v":480.21862943662001},{"$f":"YK_ALL!D7/DMLMLR","v":947.03046914465006},{"$f":"YK_ALL!E7/DMLMLR","v":1334.2716012912799},{"$f":"YK_ALL!F7/DMLMLR","v":1650.8332850501199},{"$f":"YK_ALL!G7/DMLMLR","v":1665.93556081062}]
[{"$f":"YK_ALL!A8","v":"Гарантований державою борг"},{"$f":"YK_ALL!B8/DMLMLR","v":116.29259895862999},{"$f":"YK_ALL!C8/DMLMLR","v":104.56794151215},{"$f":"YK_ALL!D8/DMLMLR","v":153.80274755798999},{"$f":"YK_ALL!E8/DMLMLR","v":237.90855769916999},{"$f":"YK_ALL!F8/DMLMLR","v":278.92786722163999},{"$f":"YK_ALL!G8/DMLMLR","v":275.42632121144999}]
[]
[null,null,null,null,null,null,"млрд. дол.США"]
[null,{"$f":"YT_ALL!B11","v":"2012-12-31"},{"$f":"YT_ALL!C11","v":"2013-12-31"},{"$f":"YT_ALL!D11","v":"2014-12-31"},{"$f":"YT_ALL!E11","v":"2015-12-31"},{"$f":"YT_ALL!F11","v":"2016-12-31"},{"$f":"YT_ALL!G11","v":"2017-02-28"}]
["Загальна сума державного та гарантованого державою боргу",{"$f":"SUM(B$13+ B$14)","v":64.495287511390003},73.16233841495,69.811922962929998,65.505686112310002,70.970954733159999,71.759644384690006]
[{"$f":"YK_ALL!A13","v":"Державний борг"},{"$f":"YK_ALL!B13/DMLMLR","v":49.945981999040001},{"$f":"YK_ALL!C13/DMLMLR","v":60.079898590879999},{"$f":"YK_ALL!D13/DMLMLR","v":60.058160629950002},{"$f":"YK_ALL!E13/DMLMLR","v":55.593105028709999},{"$f":"YK_ALL!F13/DMLMLR","v":60.712805938389998},{"$f":"YK_ALL!G13/DMLMLR","v":61.578907321999999}]
[{"$f":"YK_ALL!A14","v":"Гарантований державою борг"},{"$f":"YK_ALL!B14/DMLMLR","v":14.549305512349999},{"$f":"YK_ALL!C14/DMLMLR","v":13.082439824070001},{"$f":"YK_ALL!D14/DMLMLR","v":9.7537623329799992},{"$f":"YK_ALL!E14/DMLMLR","v":9.9125810835999992},{"$f":"YK_ALL!F14/DMLMLR","v":10.258148794769999},{"$f":"YK_ALL!G14/DMLMLR","v":10.18073706269}]
[]
[null,null,null,null,null,null,"%"]
[null,{"$f":"YT_ALL!B17","v":"2012-12-31"},{"$f":"YT_ALL!C17","v":"2013-12-31"},{"$f":"YT_ALL!D17","v":"2014-12-31"},{"$f":"YT_ALL!E17","v":"2015-12-31"},{"$f":"YT_ALL!F17","v":"2016-12-31"},{"$f":"YT_ALL!G17","v":"2017-02-28"}]
["Загальна сума державного та гарантованого державою боргу",{"$f":"SUM(B$19+ B$20)","v":1},1,1,1,1,1]
[{"$f":"YK_ALL!A19","v":"Державний борг"},{"$f":"YK_ALL!B19","v":0.77441300000000002},{"$f":"YK_ALL!C19","v":0.82118599999999997},{"$f":"YK_ALL!D19","v":0.86028499999999997},{"$f":"YK_ALL!E19","v":0.84867599999999999},{"$f":"YK_ALL!F19","v":0.85546},{"$f":"YK_ALL!G19","v":0.85812699999999997}]
[{"$f":"YK_ALL!A20","v":"Гарантований державою борг"},{"$f":"YK_ALL!B20","v":0.22558700000000001},{"$f":"YK_ALL!C20","v":0.178814},{"$f":"YK_ALL!D20","v":0.13971500000000001},{"$f":"YK_ALL!E20","v":0.15132399999999999},{"$f":"YK_ALL!F20","v":0.14454},{"$f":"YK_ALL!G20","v":0.141873}]

{"sheet":"YK_ALL","index":45,"n_rows":20,"n_cols":7,"rows_kept":20,"cut":false,"hidden":true,"merged":[[1,0,1,6]]}
[]
["Державний та гарантований державою борг України за останні 5 років"]
[]
[null,null,null,null,null,null,{"$f":"VALUAH","v":"млрд. грн"}]
[null,"2012-12-31","2013-12-31","2014-12-31","2015-12-31","2016-12-31","2017-02-28"]
["Загальна сума державного та гарантованого державою боргу",{"$f":"SUM(B$7+ B$8)","v":515.51083307650003},584.78657094876996,1100.8332167026401,1572.1801589904499,1929.7611522717598,1941.3618820220699]
["Державний борг",399.21823411787,480.21862943662001,947.03046914465006,1334.2716012912799,1650.8332850501199,1665.93556081062]
["Гарантований державою борг",116.29259895862999,104.56794151215,153.80274755798999,237.90855769916999,278.92786722163999,275.42632121144999]
[]
[null,null,null,null,null,null,{"$f":"VALUSD","v":"млрд. дол. США"}]
[null,"2012-12-31","2013-12-31","2014-12-31","2015-12-31","2016-12-31","2017-02-28"]
["Загальна сума державного та гарантованого державою боргу",{"$f":"SUM(B$13+ B$14)","v":64.495287511390003},73.16233841495,69.811922962929998,65.505686112310002,70.970954733159999,71.759644384690006]
["Державний борг",49.945981999040001,60.079898590879999,60.058160629950002,55.593105028709999,60.712805938389998,61.578907321999999]
["Гарантований державою борг",14.549305512349999,13.082439824070001,9.7537623329799992,9.9125810835999992,10.258148794769999,10.18073706269]
[]
[null,null,null,null,null,null,"%"]
[null,"2012-12-31","2013-12-31","2014-12-31","2015-12-31","2016-12-31","2017-02-28"]
["Загальна сума державного та гарантованого державою боргу",{"$f":"SUM(B$19+ B$20)","v":1},1,1,1,1,1]
["Державний борг",0.77441300000000002,0.82118599999999997,0.86028499999999997,0.84867599999999999,0.85546,0.85812699999999997]
["Гарантований державою борг",0.22558700000000001,0.178814,0.13971500000000001,0.15132399999999999,0.14454,0.141873]

{"sheet":"YKT2_UAH","index":46,"n_rows":113,"n_cols":7,"rows_kept":113,"cut":false,"hidden":false,"merged":[[1,0,1,6]]}
[]
["Державний та гарантований державою борг України за останні 5 років"]
[]
[null,null,null,null,null,null,{"$f":"VALUAH","v":"млрд. грн"}]
[null,"2012-12-31","2013-12-31","2014-12-31","2015-12-31","2016-12-31","2017-02-28"]
["Загальна сума державного та гарантованого державою боргу",{"$f":"B$7+B$65","v":515.51083307650003},584.78657094876996,1100.8332167026401,1572.1801589904501,1929.7611522717602,1941.3618820220699]
["Державний борг",{"$f":"B$8+B$33","v":399.21823411787},480.21862943661995,947.03046914465006,1334.2716012912801,1650.8332850501201,1665.93556081062]
["Внутрішній борг",{"$f":"B$9+B$31","v":190.29929770604002},256.95957565805998,461.00362280239005,508.00112311179004,670.64553054187002,688.29668663974996]
["1. Заборгованість за випущеними цінними паперами на внутрішньому ринку",{"$f":"SUM(B$10:B$30)","v":187.25748968850002},254.050020163,458.22631982981005,505.35607266169006,668.13273261425002,685.78388871212996]
["Казначейські зобов'язання",0.82623241349999998,1.5986,8.8426000000000005E-2,9.8638000000000003E-2,0,0]
["ОВДП (1 - місячні)",0,2.3609777950000002,0,0,0,0]
["ОВДП (10 - річні)",15.412189,15.742189,50.254465000000003,60.558463000000003,74.832982999999999,81.319903999999994]
["ОВДП (11 - річні)",3.8499810000000001,3.8499810000000001,3.8499810000000001,17.382981000000001,17.382981000000001,17.382981000000001]
["ОВДП (12 - місячні)",14.392811129,2.9587167999999999,7.3378894800000003,8.2837102117200008,3.4775700000000001,3.9919699999999998]
["ОВДП (12 - річні)",1.5,1.5,1.5,12.5,28.5,28.5]
["ОВДП (13 - річні)",0,0,2.6176300000000001,13.11763,37.117629999999998,37.117629999999998]
["ОВДП (14 - річні)",0,0,3.25,3.25,51.25,56.15]
["ОВДП (15 - річні)",0,0,15.848839999999999,15.848839999999999,42.789838000000003,47.689838000000002]
["ОВДП (18 - місячні)",5.7090358229999998,2.8034248549999998,0.76931632000000005,1.04892516,29.257961406869999,29.110346252789999]
["ОВДП (2 - річні)",11.078361601999999,20.370806241,40.90737357439,21.910342335999999,64.353439528590002,64.488167734119997]
["ОВДП (3 - місячні)",0,0,0,0,0.01,0.01]
["ОВДП (3 - річні)",28.454277421,34.656496490999999,46.585054805570003,43.377236129330001,18.462385000000001,20.768255]
["ОВДП (4 - річні)",1.5982689999999999,6.5181646999999998,2.9221828599999999,15.04510672,15.58553728,15.56358752]
["ОВДП (5 - річні)",32.665693300000001,75.317385281,131.37977278984999,149.03381210463999,151.56965139879,150.81982120521999]
["ОВДП (6 - місячні)",0,0.55379,0.17,0,0.21580099999999999,0.01]
["ОВДП (6 - річні)",9.5,9.5,27.1,27.1,24.1,22.85]
["ОВДП (7 - річні)",33.095041999999999,47.143891000000004,54.624791000000002,48.624791000000002,44.739790999999997,44.739790999999997]
["ОВДП (8 - річні)",14.301197999999999,14.301197999999999,31.301197999999999,31.301197999999999,27.416198000000001,27.416198000000001]
["ОВДП (9 - місячні)",0,0,0.84499999999999997,0,0.19656699999999999,0.98099999999999998]
["ОВДП (9 - річні)",14.874399,14.874399,36.874398999999997,36.874398999999997,36.874398999999997,36.874398999999997]
["2. Заборгованість перед банківськими та іншими фінансовими установами",{"$f":"SUM(B$32:B$32)","v":3.0418080175400002},2.9095554950600002,2.7773029725799998,2.6450504500999998,2.5127979276199999,2.5127979276199999]
["Національний банк України",3.0418080175400002,2.9095554950600002,2.7773029725799998,2.6450504500999998,2.5127979276199999,2.5127979276199999]
["Зовнішній борг",{"$f":"B$34+B$41+B$49+B$51+B$63","v":208.91893641183},223.25905377855997,486.02684634226,826.27047817949006,980.18775450825001,977.63887417087005]
["1. Заборгованість за позиками, одержаними від міжнародних фінансових організацій",{"$f":"SUM(B$35:B$40)","v":80.097203051979989},61.90365008709,169.08990330626,337.44929111162003,371.84657549031999,371.12360427924]
["Європейське Співтовариство",0,0,26.156754880000001,57.953115089999997,62.813954840000001,63.298207830000003]
["Європейський банк реконструкції та розвитку",4.2667356563999999,4.7666457536099998,9.3689811106899992,13.990699070510001,16.072308696730001,16.22666392899]
["Європейський Інвестиційний Банк",3.2033002879999999,4.2831345544100001,7.6529919443500001,12.53014511808,14.522377756999999,15.04367339807]
["Міжнародний банк реконструкції та розвитку",24.233517043199999,24.539548446560001,68.318982284140006,124.74712580344,137.46050651632001,135.29180847371001]
["Міжнародний Валютний Фонд",48.393650064379997,28.314321332510001,57.585097236880003,128.20769715962001,140.90985268125999,141.19601658552]
["Фонд чистих технологій (МБРР)",0,0,7.0958502E-3,2.0508869969999999E-2,6.7574999009999998E-2,6.7234062950000006E-2]
["2. Заборгованість за позиками, одержаними від органів управління іноземних держав",{"$f":"SUM(B$42:B$48)","v":9.0995013746799991},7.2789285748699992,16.372261708800004,32.70852715345,45.647504163770002,46.342902751510003]
["Італія",8.4649745979999996E-2,0,0,0,0,0]
["Канада",0,0,2.7121072000000002,6.9140144000000001,8.0323875999999998,8.2487499999999994]
["Німеччина",0.48192545176000001,0.10648884857,0.13463035600000001,5.4281877029999999,5.9832793529500004,6.0294063787700001]
["Росія",6.4052373889799998,5.6239216389799997,9.5534720563400004,14.540944745859999,16.473740657730001,16.390625715719999]
["США",0.26486239851999999,9.4891391320000004E-2,0.16473260006000001,0.216533956,0.20657140273999999,0.20552918832]
["Франція",2.220053566E-2,0,0,0,0,0]
["Японія",1.84062585378,1.4536266959999999,3.8073194963999999,5.6088463485900002,14.951525150349999,15.4685914687]
["3. Заборгованість за позиками, одержаними від іноземних комерційних банків, інших іноземних фінансових установ",{"$f":"SUM(B$50:B$50)","v":5.3875717000000003E-4},5.6454460000000004E-4,9.8336319999999997E-4,1.34076761E-3,1.453225E-3,1.46442838E-3]
["Chase Manhattan Bank Luxembourg S.A.",5.3875717000000003E-4,5.6454460000000004E-4,9.8336319999999997E-4,1.34076761E-3,1.453225E-3,1.46442838E-3]
["4. Заборгованість за випущеними цінними паперами на зовнішньому ринку",{"$f":"SUM(B$52:B$62)","v":104.63620320000001},138.90906799999999,272.50934659999996,415.26993272281004,517.80448187716001,515.19200360774005]
["ОЗДП 2003 року",7.9930000000000003,0,0,0,0,0]
["ОЗДП 2005 року",6.3223032000000003,6.6249180000000001,11.539744799999999,0,0,0]
["ОЗДП 2006 року",7.9930000000000003,7.9930000000000003,15.768556,0,0,0]
["ОЗДП 2007 року",5.5951000000000004,5.5951000000000004,11.0379892,0,0,0]
["ОЗДП 2010 року",15.986000000000001,15.986000000000001,31.537112,0,0,0]
["ОЗДП 2011 року",21.98075,21.98075,43.363529,0,0,0]
["ОЗДП 2012 року",38.76605,46.759050000000002,76.477496599999995,0,0,0]
["ОЗДП 2013 року",0,33.97025,67.016362999999998,72.002001000000007,81.572574000000003,81.161016000000004]
["ОЗДП 2014 року",0,0,15.768556,24.000667,27.190857999999999,27.053671999999999]
["ОЗДП 2015 року",0,0,0,319.26726472281001,381.85019187716,379.92364360774002]
["ОЗДП 2016 року",0,0,0,0,27.190857999999999,27.053671999999999]
["5. Заборгованість, не віднесена до інших категорій",{"$f":"SUM(B$64:B$64)","v":15.085490028000001},15.166842572,28.054351363999999,40.841386424,44.887739752000002,44.978899104]
["Міжнародний Валютний Фонд",15.085490028000001,15.166842572,28.054351363999999,40.841386424,44.887739752000002,44.978899104]
["Гарантований державою борг",{"$f":"B$66+B$86","v":116.29259895863001},104.56794151215001,153.80274755798999,237.90855769916999,278.92786722164004,275.42632121144999]
["Внутрішній борг",{"$f":"B$67+B$80+B$84","v":16.211415904390002},27.129149810690006,27.86328456259,21.459454905489999,19.084475248330001,19.10706475512]
["1. Заборгованість за випущеними цінними паперами на внутрішньому ринку",{"$f":"SUM(B$68:B$79)","v":9.9712047243900006},21.135767983260003,21.567011600000001,16.400011599999999,15.9500116,15.9500116]
["Векселі Укравтодору",1.5677871243899999,0.99985038325999998,0,0,0,0]
["Державні цінні папери",1.1600000000000001E-5,1.1600000000000001E-5,1.1600000000000001E-5,1.1600000000000001E-5,1.1600000000000001E-5,1.1600000000000001E-5]
["Облігації ДІУ (10 - річні)",0,0,1,1,1,1]
["Облігації ДІУ (5 - річні)",1.8174999999999999,1.8,3,3,3,3]
["Облігації ДІУ (7 - річні)",0.4,1.4,3.2,3.2,3,3]
["Облігації ДП КАЗ \"Авіант\" (5 - річні)",0.57890600000000003,0.57890600000000003,0,0,0,0]
["Облігації НАК \"Нафтогаз України\" (3 - річні)",0,4.8,4.8,4.8,4.8,4.8]
["Облігації Укравтодору (12 - місячні)",0,1.55,0,0,0,0]
["Облігації Укравтодору (3 - річні)",4,4.25,4.25,0.25,0,0]
["Облігації Укравтодору (5 - річні)",0,4.1500000000000004,4.1500000000000004,4.1500000000000004,4.1500000000000004,4.1500000000000004]
["Облігації ХДАВП (5 - річні)",0.88,0.88,0.44,0,0,0]
["Облігації ХДАВП (6 - річні)",0.72699999999999998,0.72699999999999998,0.72699999999999998,0,0,0]
["2. Заборгованість перед банківськими та іншими фінансовими установами",{"$f":"SUM(B$81:B$83)","v":6.2392565300000005},5.9924271774300006,6.2953183125900001,5.0584886554899997,3.13350899833,3.1560985051200001]
["ВАТ \"Державний експортно-імпортний банк України\"",2.1,2.1,2.1,1.05,0,3.707292115E-2]
["ВАТ \"Державний ощадний банк України\"",4.1392565299999999,3.8924271774300001,4.0098623181499997,3.8598623181499998,3.0217123181500001,3.0164363180699998]
["ПАТ АБ \"Укргазбанк\"",0,0,0.18545599443999999,0.14862633734,0.11179668018,0.1025892659]
["3. Заборгованість, не віднесена до інших категорій",{"$f":"SUM(B$85:B$85)","v":9.5465000000000003E-4},9.5465000000000003E-4,9.5465000000000003E-4,9.5465000000000003E-4,9.5465000000000003E-4,9.5465000000000003E-4]
["Інші кредитори",9.5465000000000003E-4,9.5465000000000003E-4,9.5465000000000003E-4,9.5465000000000003E-4,9.5465000000000003E-4,9.5465000000000003E-4]
["Зовнішній борг",{"$f":"B$87+B$93+B$95+B$108+B$112","v":100.08118305424},77.438791701460005,125.93946299539999,216.44910279368,259.84339197331002,256.31925645632998]
["1. Заборгованість за позиками, одержаними від міжнародних фінансових організацій",{"$f":"SUM(B$88:B$92)","v":40.557833932560001},16.22562155316,40.11055668046,140.83380311662,190.93506704562,188.73207173121]
["Європейське співтоватиство з атомної енергії",0.37945768590000001,0.31837813165000001,0.45145045025000002,0.45663837269000002,0.29585176270000002,0.29647984142]
["Європейський банк реконструкції та розвитку",0.90424261813999995,0.78219066155999994,1.3925072565700001,3.0501432933200001,10.514548582190001,7.8602237756599997]
["Європейський Інвестиційний Банк",0,0,0,0,0.99479114000000002,1.0024603050000001]
["Міжнародний банк реконструкції та розвитку",1.4836298022700001,1.94824073307,5.8077372910499996,9.4189829975699997,12.373018988069999,12.47739647081]
["Міжнародний Валютний Фонд",37.790503826250003,13.17681202688,32.458861682589998,127.90803845304001,166.75685657266001,167.09551133831999]
["2. Заборгованість за позиками, одержаними від органів управління іноземних держав",{"$f":"SUM(B$94:B$94)","v":1.9809336450799999},1.9809336450799999,3.8427124724100001,4.6790669948200003,3.9757597011099999,3.2964173379199999]
["Канада",1.9809336450799999,1.9809336450799999,3.8427124724100001,4.6790669948200003,3.9757597011099999,3.2964173379199999]
["3. Заборгованість за позиками, одержаними від іноземних комерційних банків, інших іноземних фінансових установ",{"$f":"SUM(B$96:B$107)","v":29.341600836519998},31.026026400319999,51.616024108979992,68.227550551150003,61.955520879730003,61.307677170470001]
["Aquasafety Invest plc",0.35123906314999997,0.18402549264000001,0,0,0,0]
["Citibank, N.A. London",1.5729139271999999,1.2361506707800001,1.4354757070399999,0.97860044465999996,0,0]
["Credit Suisse First Boston International",1.19895,1.19895,0,0,0,0]
["Credit Suisse International",2.0142359999999999,1.6113888000000001,2.3842056671999998,2.4192672335999998,0,0]
["Deutsche Bank AG London",0.34255715198999998,0.22837143999000001,0.22526511275,0,0.38812792235999999,0.39112012541000002]
["UniCredit Bank Austria AG",0.7165276921,0.65697103136000001,0.98087830241999996,1.1144829759399999,0.96636853003000001,0.97381857598999999]
["VTB Capital PLC",3.5233143999999998,2.34887627732,2.3169265369800001,0,0,0]
["ВАТ \"Газпромбанк\"",0,3.9965000000000002,7.8842780000000001,12.0003335,13.595428999999999,13.526835999999999]
["Державний банк розвитку КНР",0.46304125208000002,0.67940500000000004,1.34032726,1.7299680773599999,1.6086111592800001,1.6004952355199999]
["Експортно-імпортний банк Китаю",11.9895,12.40612629274,24.47475255725,37.252008746640001,41.849257070509999,41.285579379349997]
["Експортно-імпортний банк Кореї",2.0857733500000002,1.8250516812499999,3.0861035161500001,3.91435878353,3.54772719755,3.5298278542000001]
["Сбербанк Росії",5.0835480000000004,4.6542097142400003,7.4878114491899996,8.8185307894200005,0,0]
["4. Заборгованість за випущеними цінними паперами на зовнішньому ринку",{"$f":"SUM(B$109:B$111)","v":27.200314880999997},27.200314880999997,28.509549247999999,0,0,0]
["Облігації ДП \"ФІНІНПРО\" (5 - річні)",4.3961499999999996,4.3961499999999996,8.6727057999999992,0,0,0]
["Облігації ДП \"ФІНІНПРО\" (7 - річні)",10.055194,10.055194,19.836843448,0,0,0]
["Облігації НАК \"Нафтогаз\" (5 - річні)",12.748970881,12.748970881,0,0,0,0]
["5. Заборгованість, не віднесена до інших категорій",{"$f":"SUM(B$113:B$113)","v":1.00049975908},1.0058952218999999,1.8606204855499999,2.7086821310899998,2.9770443468500001,2.98309021673]
["Міжнародний Валютний Фонд",1.00049975908,1.0058952218999999,1.8606204855499999,2.7086821310899998,2.9770443468500001,2.98309021673]

{"sheet":"YKT2_USD","index":47,"n_rows":113,"n_cols":7,"rows_kept":113,"cut":false,"hidden":false,"merged":[[1,0,1,6]]}
[]
["Державний та гарантований державою борг України за останні 5 років"]
[]
[null,null,null,null,null,null,{"$f":"VALUSD","v":"млрд. дол. США"}]
[null,"2012-12-31","2013-12-31","2014-12-31","2015-12-31","2016-12-31","2017-02-28"]
["Загальна сума державного та гарантованого державою боргу",{"$f":"B$7+B$65","v":64.495287511390018},73.16233841495,69.811922962929998,65.505686112310002,70.970954733159985,71.759644384690006]
["Державний борг",{"$f":"B$8+B$33","v":49.945981999040008},60.079898590880006,60.058160629949995,55.593105028709999,60.712805938389991,61.578907321999992]
["Внутрішній борг",{"$f":"B$9+B$31","v":23.808244427200005},32.148076524250001,29.235627080109996,21.166125221089995,24.664375450929999,25.441895157029997]
["1. Заборгованість за випущеними цінними паперами на внутрішньому ринку",{"$f":"SUM(B$10:B$30)","v":23.427685435890005},31.784063576040001,29.059497891579998,21.055917848519996,24.57196211378,25.349013202679998]
["Казначейські зобов'язання",0.1033695,0.2,5.6077423999999999E-3,4.10980245E-3,0,0]
["ОВДП (1 - місячні)",0,0.29538068246999999,0,0,0,0]
["ОВДП (10 - річні)",1.9282108094799999,1.96949693484,3.1870048849599999,2.5231991677200001,2.7521376118899998,3.0058730659099999]
["ОВДП (11 - річні)",0.48166908544999998,0.48166908544999998,0.24415558406999999,0.72427074632999999,0.63929505277999998,0.64253684306000003]
["ОВДП (12 - місячні)",1.80067698349,0.37016349306000002,0.46534948921000002,0.34514499999999998,0.12789482406,0.14755741846000001]
["ОВДП (12 - річні)",0.18766420617999999,0.18766420617999999,9.5126021690000007E-2,0.52081885891000002,1.04814640274,1.0534614302900001]
["ОВДП (13 - річні)",0,0,0.1660031521,0.54655272705000002,1.36507755659,1.3719997048599999]
["ОВДП (14 - річні)",0,0,0.20610638032,0.13541290332,1.8848246715800001,2.0755038354600002]
["ОВДП (15 - річні)",0,0,1.0050913983500001,0.66034998110999998,1.57368472887,1.7627861386100001]
["ОВДП (18 - місячні)",0.71425445052000003,0.35073500000000002,4.8788000630000002E-2,4.3704000389999997E-2,1.076022,1.076022]
["ОВДП (2 - річні)",1.3860079572099999,2.5485807883199998,2.5942371371499999,0.91290555954999997,2.3667307419600001,2.3837121901399998]
["ОВДП (3 - місячні)",0,0,0,0,3.6777066999999999E-4,3.6963559000000002E-4]
["ОВДП (3 - річні)",3.5598995898000001,4.3358559353399997,2.9543006224399999,1.8073346098800001,0.67899236573999999,0.76766861812999998]
["ОВДП (4 - річні)",0.19995858877,0.81548413612000004,0.18531708674,0.62686202513,0.57319034508,0.57528558488000003]
["ОВДП (5 - річні)",4.0867876016400002,9.4229182135399991,8.3317567436799997,6.2095695967499998,5.5742871886499996,5.5748373531600004]
["ОВДП (6 - місячні)",0,6.9284373829999996E-2,1.0780949119999999E-2,0,7.93652779E-3,3.6963559000000002E-4]
["ОВДП (6 - річні)",1.1885399724600001,1.1885399724600001,1.7186101251499999,1.1291352861099999,0.88632730900000001,0.84461732216999996]
["ОВДП (7 - річні)",4.1405031902899996,5.8981472538300004,3.4641593688699999,2.0259766530699999,1.64539828055,1.65374190242]
["ОВДП (8 - річні)",1.78921531342,1.78921531342,1.98503895984,1.3041803379700001,1.00828734425,1.01340025115]
["ОВДП (9 - місячні)",0,0,5.3587658890000001E-2,0,7.2291576899999998E-3,3.6261251340000002E-2]
["ОВДП (9 - річні)",1.8609281871800001,1.8609281871800001,2.3384765859700001,1.5363905927799999,1.3561322338899999,1.3630090214599999]
["2. Заборгованість перед банківськими та іншими фінансовими установами",{"$f":"SUM(B$32:B$32)","v":0.38055899130999998},0.36401294821000002,0.17612918853000001,0.11020737257,9.2413337149999997E-2,9.2881954350000004E-2]
["Національний банк України",0.38055899130999998,0.36401294821000002,0.17612918853000001,0.11020737257,9.2413337149999997E-2,9.2881954350000004E-2]
["Зовнішній борг",{"$f":"B$34+B$41+B$49+B$51+B$63","v":26.137737571840002},27.931822066630001,30.822533549839999,34.42697980762,36.048430487459996,36.137012164969995]
["1. Заборгованість за позиками, одержаними від міжнародних фінансових організацій",{"$f":"SUM(B$35:B$40)","v":10.02091868534},7.7447329021800009,10.72323320578,14.05999637889,13.67542633227,13.71804922746]
["Європейське Співтовариство",0,0,1.65879202128,2.4146460216999999,2.3101130107799999,2.3397270370599998]
["Європейський банк реконструкції та розвитку",0.53380903995999995,0.59635252767000002,0.59415593354999996,0.58292959401,0.59109236997000003,0.59979524885000002]
["Європейський Інвестиційний Банк",0.40076320380000002,0.53586069740999998,0.48533245177000001,0.52207487058000002,0.53409045630999996,0.55606770857999999]
["Міжнародний банк реконструкції та розвитку",3.03184249258,3.0701299194999998,4.33260866018,5.1976524570500002,5.0553942253799997,5.0008667390400001]
["Міжнародний Валютний Фонд",6.0545039489999999,3.5423897576000001,3.6518941389999999,5.3418389230500001,5.1822510595800004,5.2191072836799997]
["Фонд чистих технологій (МБРР)",0,0,4.4999999999999999E-4,8.5451250000000004E-4,2.4852102500000002E-3,2.4852102500000002E-3]
["2. Заборгованість за позиками, одержаними від органів управління іноземних держав",{"$f":"SUM(B$42:B$48)","v":1.1384338014099999},0.9106629018900001,1.0382854149,1.3628174230800001,1.67878130816,1.7129986181400001]
["Італія",1.059048492E-2,0,0,0,0,0]
["Канада",0,0,0.17199464554999999,0.28807592722000003,0.29540765501999999,0.30490315695999998]
["Німеччина",6.0293438230000003E-2,1.3322763479999999E-2,8.5379001099999997E-3,0.22616820202999999,0.22004746421999999,0.22286831816]
["Росія",0.80135586000000003,0.70360586000000003,0.60585586000000002,0.60585586000000002,0.60585586000000002,0.60585586000000002]
["США",3.3136794509999998E-2,1.1871811750000001E-2,1.044690459E-2,9.0219974299999995E-3,7.5970902699999997E-3,7.5970902699999997E-3]
["Франція",2.7774972700000001E-3,0,0,0,0,0]
["Японія",0.23027972648,0.18186246666,0.24145010465,0.23369543640000001,0.54987323865000004,0.57177419274999997]
["3. Заборгованість за позиками, одержаними від іноземних комерційних банків, інших іноземних фінансових установ",{"$f":"SUM(B$50:B$50)","v":6.7403619999999994E-5},7.0629879999999998E-5,6.2362290000000004E-5,5.5863760000000003E-5,5.3445349999999998E-5,5.4130479999999998E-5]
["Chase Manhattan Bank Luxembourg S.A.",6.7403619999999994E-5,7.0629879999999998E-5,6.2362290000000004E-5,5.5863760000000003E-5,5.3445349999999998E-5,5.4130479999999998E-5]
["4. Заборгованість за випущеними цінними паперами на зовнішньому ринку",{"$f":"SUM(B$52:B$62)","v":13.09098000751},17.378839984990002,17.28182000939,17.302433000000001,19.043329999999997,19.043330000000001]
["ОЗДП 2003 року",1,0,0,0,0,0]
["ОЗДП 2005 року",0.79098000750999997,0.82883998499,0.73182000939000003,0,0,0]
["ОЗДП 2006 року",1,1,1,0,0,0]
["ОЗДП 2007 року",0.7,0.7,0.7,0,0,0]
["ОЗДП 2010 року",2,2,2,0,0,0]
["ОЗДП 2011 року",2.75,2.75,2.75,0,0,0]
["ОЗДП 2012 року",4.8499999999999996,5.85,4.8499999999999996,0,0,0]
["ОЗДП 2013 року",0,4.25,4.25,3,3,3]
["ОЗДП 2014 року",0,0,1,1,1,1]
["ОЗДП 2015 року",0,0,0,13.302433000000001,14.043329999999999,14.043329999999999]
["ОЗДП 2016 року",0,0,0,0,1,1]
["5. Заборгованість, не віднесена до інших категорій",{"$f":"SUM(B$64:B$64)","v":1.8873376739600001},1.8975156476899999,1.7791325574800001,1.7016771418900001,1.6508394016800001,1.66258018889]
["Міжнародний Валютний Фонд",1.8873376739600001,1.8975156476899999,1.7791325574800001,1.7016771418900001,1.6508394016800001,1.66258018889]
["Гарантований державою борг",{"$f":"B$66+B$86","v":14.549305512350003},13.082439824070001,9.7537623329799992,9.912581083600001,10.258148794769999,10.180737062690001]
["Внутрішній борг",{"$f":"B$67+B$80+B$84","v":2.0282016647000001},3.3941135759200001,1.7670156076999999,0.89411910529000005,0.70187102033000004,0.70626511459999997]
["1. Заборгованість за випущеними цінними паперами на внутрішньому ринку",{"$f":"SUM(B$68:B$79)","v":1.2474921463700002},2.6442847472600004,1.36772267545,0.68331482616000006,0.58659464145999995,0.58956919416999998]
["Векселі Укравтодору",0.19614501741000001,0.12509075229,0,0,0,0]
["Державні цінні папери",1.45127E-6,1.45127E-6,7.3564000000000004E-7,4.8332000000000002E-7,4.2660999999999998E-7,4.2878000000000001E-7]
["Облігації ДІУ (10 - річні)",0,0,6.3417347789999995E-2,4.166550871E-2,3.6777066759999998E-2,3.6963558959999997E-2]
["Облігації ДІУ (5 - річні)",0.22738646333000001,0.22519704759,0.19025204337000001,0.12499652612999999,0.11033120028,0.11089067688]
["Облігації ДІУ (7 - річні)",5.0043788360000001E-2,0.17515325914999999,0.20293551297000001,0.13332962782999999,0.11033120028,0.11089067688]
["Облігації ДП КАЗ \"Авіант\" (5 - річні)",7.2426623300000006E-2,7.2426623300000006E-2,0,0,0,0]
["Облігації НАК \"Нафтогаз України\" (3 - річні)",0,0.60052545978000005,0.30440326938000001,0.19999444182000001,0.17652992045999999,0.17742508299000001]
["Облігації Укравтодору (12 - місячні)",0,0.19391967971999999,0,0,0,0]
["Облігації Укравтодору (3 - річні)",0.50043788314000004,0.53171525084000004,0.26952372811000003,1.041637718E-2,0,0]
["Облігації Укравтодору (5 - річні)",0,0.51920430376000004,0.26318199332999997,0.17291186116999999,0.15262482707,0.15339876967999999]
["Облігації ХДАВП (5 - річні)",0.1100963343,0.1100963343,2.7903633019999999E-2,0,0,0]
["Облігації ХДАВП (6 - річні)",9.0954585259999998E-2,9.0954585259999998E-2,4.6104411839999998E-2,0,0,0]
["2. Заборгованість перед банківськими та іншими фінансовими установами",{"$f":"SUM(B$81:B$83)","v":0.78059008257000007},0.74970939290000005,0.39923239088000001,0.21076450314999998,0.11524126964,0.11666063317]
["ВАТ \"Державний експортно-імпортний банк України\"",0.26272988865000002,0.26272988865000002,0.13317643035999999,4.3748784149999997E-2,0,1.3703471000000001E-3]
["ВАТ \"Державний ощадний банк України\"",0.51786019392000004,0.48697950424999997,0.25429483322000002,0.16082312704999999,0.11112971566,0.11149822169]
["ПАТ АБ \"Укргазбанк\"",0,0,1.17611273E-2,6.1925919499999996E-3,4.11155398E-3,3.7920643800000002E-3]
["3. Заборгованість, не віднесена до інших категорій",{"$f":"SUM(B$85:B$85)","v":1.1943576E-4},1.1943576E-4,6.0541370000000001E-5,3.9775979999999999E-5,3.5109230000000001E-5,3.5287260000000001E-5]
["Інші кредитори",1.1943576E-4,1.1943576E-4,6.0541370000000001E-5,3.9775979999999999E-5,3.5109230000000001E-5,3.5287260000000001E-5]
["Зовнішній борг",{"$f":"B$87+B$93+B$95+B$108+B$112","v":12.521103847650002},9.6883262481500001,7.9867467252799997,9.0184619783100004,9.5562777744399998,9.4744719480900006]
["1. Заборгованість за позиками, одержаними від міжнародних фінансових організацій",{"$f":"SUM(B$88:B$92)","v":5.0741691395699995},2.0299789257,2.5437051230600001,5.8679120508100002,7.0220317080700001,6.9762090606999996]
["Європейське співтоватиство з атомної енергії",4.7473750269999997E-2,3.9832119559999997E-2,2.8629790209999999E-2,1.90260701E-2,1.088056003E-2,1.09589501E-2]
["Європейський банк реконструкції та розвитку",0.11312931542,9.785945972E-2,8.8309116990000006E-2,0.12708577197000001,0.38669425519,0.29054184496000002]
["Європейський Інвестиційний Банк",0,0,0,0,3.658550017E-2,3.7054500589999997E-2]
["Міжнародний банк реконструкції та розвитку",0.18561613940999999,0.24374336708,0.36831129565999998,0.39244671814999998,0.45504334538000002,0.46120898009]
["Міжнародний Валютний Фонд",4.7279499344699998,1.6485439793400001,2.0584549202,5.32935349059,6.1328280473000003,6.1764447849600002]
["2. Заборгованість за позиками, одержаними від органів управління іноземних держав",{"$f":"SUM(B$94:B$94)","v":0.24783356000000001},0.24783356000000001,0.24369463331999999,0.19495570664,0.14621677995999999,0.12184731662000001]
["Канада",0.24783356000000001,0.24783356000000001,0.24369463331999999,0.19495570664,0.14621677995999999,0.12184731662000001]
["3. Заборгованість за позиками, одержаними від іноземних комерційних банків, інших іноземних фінансових установ",{"$f":"SUM(B$96:B$107)","v":3.6709121527000006},3.8816497435699997,3.2733513524600002,2.8427356019299999,2.2785423277099999,2.26614993967]
["Aquasafety Invest plc",4.3943333309999999E-2,2.3023332000000001E-2,0,0,0,0]
["Citibank, N.A. London",0.19678642902999999,0.15465415623000001,9.1034062159999998E-2,4.0773885349999997E-2,0,0]
["Credit Suisse First Boston International",0.15,0.15,0,0,0,0]
["Credit Suisse International",0.252,0.2016,0.1512,0.1008,0,0]
["Deutsche Bank AG London",4.2857144E-2,2.8571429999999998E-2,1.4285716E-2,0,1.427420651E-2,1.445719182E-2]
["UniCredit Bank Austria AG",8.9644400360000001E-2,8.2193298060000003E-2,6.2204700440000003E-2,4.6435500140000002E-2,3.5540199949999997E-2,3.5995800350000003E-2]
["VTB Capital PLC",0.44080000000000003,0.293866668,0.146933336,0,0,0]
["ВАТ \"Газпромбанк\"",0,0.5,0.5,0.5,0.5,0.5]
["Державний банк розвитку КНР",5.7930846000000001E-2,8.5000000000000006E-2,8.5000000000000006E-2,7.2080000000000005E-2,5.9159999999999997E-2,5.9159999999999997E-2]
["Експортно-імпортний банк Китаю",1.5,1.552123895,1.552123895,1.552123895,1.53909292125,1.5260619474999999]
["Експортно-імпортний банк Кореї",0.26095000000000002,0.22833125000000001,0.19571250000000001,0.16309375000000001,0.13047500000000001,0.13047500000000001]
["Сбербанк Росії",0.63600000000000001,0.58228571427999998,0.47485714286000003,0.36742857144000002,0,0]
["4. Заборгованість за випущеними цінними паперами на зовнішньому ринку",{"$f":"SUM(B$109:B$111)","v":3.4030170000000002},3.4030170000000002,1.8080000000000001,0,0,0]
["Облігації ДП \"ФІНІНПРО\" (5 - річні)",0.55000000000000004,0.55000000000000004,0.55000000000000004,0,0,0]
["Облігації ДП \"ФІНІНПРО\" (7 - річні)",1.258,1.258,1.258,0,0,0]
["Облігації НАК \"Нафтогаз\" (5 - річні)",1.5950169999999999,1.5950169999999999,0,0,0,0]
["5. Заборгованість, не віднесена до інших категорій",{"$f":"SUM(B$113:B$113)","v":0.12517199538000001},0.12584701887999999,0.11799561644000001,0.11285861893,0.1094869587,0.1102656311]
["Міжнародний Валютний Фонд",0.12517199538000001,0.12584701887999999,0.11799561644000001,0.11285861893,0.1094869587,0.1102656311]

{"sheet":"KIND_CMP","index":49,"n_rows":9,"n_cols":9,"rows_kept":9,"cut":false,"hidden":true,"merged":[[4,1,4,3],[4,4,4,6],[1,0,1,8],[0,1,0,4]]}
[null,{"$f":"\"Державний та гарантований державою борг України за станом на \" & TEXT(DREPORTDATE,\"dd.MM.yyyy\")","v":"Державний та гарантований державою борг України за станом на 28.02.2017"}]
["Структура боргу за ознакою умовності\nна кінець попереднього року та на звітну дату"]
[]
[null,null,null,null,null,null,null,"тис.одиниць",{"$f":"VALVAL","v":"млрд. одиниць"}]
[null,"2016-12-31",null,null,"2017-02-28"]
[null,"дол.США","грн.","%","дол.США","грн.","%","%","Зміна структури"]
["Загальна сума державного та гарантованого державою боргу",{"$f":"SUM(B$8+ B$9)","v":70.970954733159999},1929.7611522717598,1,71.759644384690006,1941.3618820220699,1,null,{"$f":"SUM(I$8+ I$9)","v":0}]
["Державний борг",60.712805938389998,1650.8332850501199,0.85546,61.578907321999999,1665.93556081062,0.85812699999999997,2.6670000000000001E-3,-21.4]
["Гарантований державою борг",10.258148794769999,278.92786722163999,0.14454,10.18073706269,275.42632121144999,0.141873,-2.6670000000000001E-3,21.4]

{"sheet":"DTR","index":51,"n_rows":9,"n_cols":5,"rows_kept":9,"cut":false,"hidden":true,"merged":[[1,0,1,4]]}
[]
["Структура державного та гарантованого державою боргу\nв розрізі термінів погашення"]
[]
[null,null,null,{"$f":"VALVAL","v":"млрд. одиниць"}]
[null,"дол.США","грн.","%","FORMAT"]
["Загальна сума державного та гарантованого державою боргу",{"$f":"SUM(B$7+ B$8+ B$9)","v":71.759644384690006},1941.3618820220699,1,"3"]
["2017.02.28-2017.12.31",3.3150434198599998,89.684097345940003,4.6196000000000001E-2,"1"]
["2018-2022",31.71438644697,857.99060861679004,0.44195299999999998,"1"]
["2022-31.12.2060",36.730214517859999,993.68717605934,0.51185099999999994,"1"]

{"sheet":"DEBT_TERM","index":54,"n_rows":61,"n_cols":10,"rows_kept":61,"cut":false,"hidden":true,"merged":[[2,0,2,4],[4,0,4,4],[3,0,3,7]]}
[]
[]
["Державний та гарантований державою борг України"]
[{"$f":"\" за станом на \" & TEXT(DREPORTDATE,\"dd.MM.yyyy\")","v":" за станом на 28.02.2017"}]
["(в розрізі середнього терміну обігу та середньої ставки)"]
[]
[]
[" ","Середня ставка,\n %","Середній термін обігу, років","Середній термін до погашення, років",{"$f":" \"Сума боргу \" & VALVAL","v":"Сума боргу млрд. одиниць"},"IS_CHART_DATA","IS_OVDP","FORMAT"]
["Державний та гарантований державою борг України",26.219000000000001,10.96,8.09,1941361882.02,0,0,3,{"$f":"IF(A9=\"\",\"\",A9 & \"; \" &B9 & \"%; \"&C9 &\"р.\")","v":"Державний та гарантований державою борг України; 26,219%; 10,96р."},{"$f":"E9","v":1941361882.02}]
["    Державний борг",26.895,10.7,7.86,1665935560.8099999,0,0,2,"    Державний борг; 26,895%; 10,7р.",1665935560.8099999]
["      Державний внутрішній борг",55.569000000000003,7.87,5.63,688296686.63999999,1,0,0,"      Державний внутрішній борг; 55,569%; 7,87р.",688296686.63999999]
["         в т.ч. ОВДП",55.755000000000003,7.77,5.58,685783888.71000004,0,0,0,"         в т.ч. ОВДП; 55,755%; 7,77р.",685783888.71000004]
["            ОВДП (1 - місячні)",0,0,0,0,0,1,0,"            ОВДП (1 - місячні); 0%; 0р.",0]
["            ОВДП (10 - річні)",16.39,9.93,7.18,78889904,0,1,0,"            ОВДП (10 - річні); 16,39%; 9,93р.",78889904]
["            ОВДП (11 - річні)",11.221,10.99,8.11,17382981,0,1,0,"            ОВДП (11 - річні); 11,221%; 10,99р.",17382981]
["            ОВДП (12 - місячні)",2.847,0.91,0.39,3991970,0,1,0,"            ОВДП (12 - місячні); 2,847%; 0,91р.",3991970]
["            ОВДП (12 - річні)",8.1820000000000004,12.14,11.16,28500000,0,1,0,"            ОВДП (12 - річні); 8,182%; 12,14р.",28500000]
["            ОВДП (13 - річні)",8.7260000000000009,13.1,12.48,37117630,0,1,0,"            ОВДП (13 - річні); 8,726%; 13,1р.",37117630]
["            ОВДП (14 - річні)",8.0180000000000007,14.02,13.75,56150000,0,1,0,"            ОВДП (14 - річні); 8,018%; 14,02р.",56150000]
["            ОВДП (15 - річні)",8.1050000000000004,13.58,12.73,47689838,0,1,0,"            ОВДП (15 - річні); 8,105%; 13,58р.",47689838]
["            ОВДП (18 - місячні)",77.87,1.48,0.72,29110346.25,0,1,0,"            ОВДП (18 - місячні); 77,87%; 1,48р.",29110346.25]
["            ОВДП (2 - річні)",110.324,1.98,1.27,64488167.729999997,0,1,0,"            ОВДП (2 - річні); 110,324%; 1,98р.",64488167.729999997]
["            ОВДП (3 - місячні)",0,0.25,0.02,10000,0,1,0,"            ОВДП (3 - місячні); 0%; 0,25р.",10000]
["            ОВДП (3 - річні)",501.18099999999998,2.9,1.39,20768255,0,1,0,"            ОВДП (3 - річні); 501,181%; 2,9р.",20768255]
["            ОВДП (4 - річні)",14.504,4.32,2.34,11230000,0,1,0,"            ОВДП (4 - річні); 14,504%; 4,32р.",11230000]
["            ОВДП (5 - річні)",28.297999999999998,4.99,2.77,84750220.900000006,0,1,0,"            ОВДП (5 - річні); 28,298%; 4,99р.",84750220.900000006]
["            ОВДП (6 - місячні)",0,0.5,0.27,10000,0,1,0,"            ОВДП (6 - місячні); 0%; 0,5р.",10000]
["            ОВДП (6 - річні)",14.3,6.42,3.74,17600000,0,1,0,"            ОВДП (6 - річні); 14,3%; 6,42р.",17600000]
["            ОВДП (7 - річні)",11.411,6.98,4.34,13580900,0,1,0,"            ОВДП (7 - річні); 11,411%; 6,98р.",13580900]
["            ОВДП (8 - річні)",12.244,8.14,3.83,26316198,0,1,0,"            ОВДП (8 - річні); 12,244%; 8,14р.",26316198]
["            ОВДП (9 - місячні)",0,0.65,0.46,981000,0,1,0,"            ОВДП (9 - місячні); 0%; 0,65р.",981000]
["            ОВДП (9 - річні)",11.669,9.06,4.67,35774399,0,1,0,"            ОВДП (9 - річні); 11,669%; 9,06р.",35774399]
["            Казначейські зобов'язання",0,0,0,0,0,1,0,"            Казначейські зобов'язання; 0%; 0р.",0]
["            ОВДП (1 - місячні)",0,0,0,0,0,1,0,"            ОВДП (1 - місячні); 0%; 0р.",0]
["            ОВДП (10 - річні)",9.4649999999999999,10.029999999999999,4.76,2430000,0,1,0,"            ОВДП (10 - річні); 9,465%; 10,03р.",2430000]
["            ОВДП (12 - місячні)",0,0,0,0,0,1,0,"            ОВДП (12 - місячні); 0%; 0р.",0]
["            ОВДП (18 - місячні)",0,0,0,0,0,1,0,"            ОВДП (18 - місячні); 0%; 0р.",0]
["            ОВДП (2 - річні)",0,0,0,0,0,1,0,"            ОВДП (2 - річні); 0%; 0р.",0]
["            ОВДП (3 - місячні)",0,0,0,0,0,1,0,"            ОВДП (3 - місячні); 0%; 0р.",0]
["            ОВДП (3 - річні)",0,0,0,0,0,1,0,"            ОВДП (3 - річні); 0%; 0р.",0]
["            ОВДП (4 - річні)",744.28,3.97,0.21,4333587.5199999996,0,1,0,"            ОВДП (4 - річні); 744,28%; 3,97р.",4333587.5199999996]
["            ОВДП (5 - річні)",73.513999999999996,4.9000000000000004,1.04,66069600.310000002,0,1,0,"            ОВДП (5 - річні); 73,514%; 4,9р.",66069600.310000002]
["            ОВДП (6 - місячні)",0,0,0,0,0,1,0,"            ОВДП (6 - місячні); 0%; 0р.",0]
["            ОВДП (6 - річні)",9.5,6.25,0.78,5250000,0,1,0,"            ОВДП (6 - річні); 9,5%; 6,25р.",5250000]
["            ОВДП (7 - річні)",117.744,6.98,2.56,31158891,0,1,0,"            ОВДП (7 - річні); 117,744%; 6,98р.",31158891]
["            ОВДП (8 - річні)",9.5,7.92,2.21,1100000,0,1,0,"            ОВДП (8 - річні); 9,5%; 7,92р.",1100000]
["            ОВДП (9 - місячні)",0,0,0,0,0,1,0,"            ОВДП (9 - місячні); 0%; 0р.",0]
["            ОВДП (9 - річні)",9.5,8.93,3.22,1100000,0,1,0,"            ОВДП (9 - річні); 9,5%; 8,93р.",1100000]
["      Державний зовнішній борг",6.7080000000000002,12.69,9.44,977638874.16999996,1,0,0,"      Державний зовнішній борг; 6,708%; 12,69р.",977638874.16999996]
["         в т.ч. ОЗДП",6.367,7.21,5.55,515192003.61000001,0,0,0,"         в т.ч. ОЗДП; 6,367%; 7,21р.",515192003.61000001]
["   Гарантований борг",22.13,12.56,9.43,275426321.20999998,0,0,2,"   Гарантований борг; 22,13%; 12,56р.",275426321.20999998]
["      Гарантований внутрішній борг",140.839,6.21,2.27,19107064.760000002,1,0,0,"      Гарантований внутрішній борг; 140,839%; 6,21р.",19107064.760000002]
["      Гарантований зовнішній борг",13.281000000000001,13.03,9.9700000000000006,256319256.46000001,1,0,0,"      Гарантований зовнішній борг; 13,281%; 13,03р.",256319256.46000001]
["         в т.ч. ОЗДП",null,null,null,null,null,null,null,null,0]
[null,null,null,null,null,null,null,null,null,0]
[null,null,null,null,null,null,null,null,null,0]
[null,null,null,null,null,null,null,null,null,0]
[null,null,null,null,null,null,null,null,null,0]
[null,null,null,null,null,null,null,null,null,0]
[null,null,null,null,null,null,null,null,null,0]
[null,null,null,null,null,null,null,null,null,0]

{"sheet":"K_ALL","index":55,"n_rows":2,"n_cols":1,"rows_kept":2,"cut":false,"hidden":true,"merged":[[1,0,1,3]]}
[]
["Державний та гарантований державою борг України за станом на ReportDate \n(за ознакою умовності)"]

{"sheet":"T_ALL","index":56,"n_rows":2,"n_cols":1,"rows_kept":2,"cut":false,"hidden":true,"merged":[[1,0,1,3]]}
[]
["Державний та гарантований державою борг України за станом на ReportDate \n(за типом боргу)"]

{"sheet":"YKT2_PRC","index":57,"n_rows":4,"n_cols":7,"rows_kept":4,"cut":false,"hidden":true,"merged":[[1,0,1,6]]}
[]
["Державний та гарантований державою борг України за останні 5 років"]
[]
[null,null,null,null,null,null,"%"]

{"sheet":"TBL1","index":58,"n_rows":0,"n_cols":0,"rows_kept":0,"cut":false,"hidden":true,"merged":[]}

{"sheet":"DTK2","index":59,"n_rows":88,"n_cols":4,"rows_kept":88,"cut":false,"hidden":false,"merged":[[1,0,1,3],[2,0,2,3]]}
[]
[{"$f":"\"Державний та гарантований державою борг України за станом на \" & TEXT(DREPORTDATE,\"dd.MM.yyyy\")","v":"Державний та гарантований державою борг України за станом на 28.02.2017"}]
["(за типом кредитора)"]
[]
[null,null,null,{"$f":"VALVAL","v":"млрд. одиниць"}]
[null,"дол.США","грн.","%"]
["Загальна сума державного та гарантованого державою боргу",{"$f":"B$8+B$46","v":71.759644384689992},1941.3618820220699,0.99999700000000002]
["Внутрішній борг",{"$f":"B$9+B$32","v":26.148160271629997},707.40375139486991,0.36438300000000001]
["Державний борг",{"$f":"B$10+B$30","v":25.441895157029997},688.29668663974996,0.35454200000000002]
["1. Заборгованість за випущеними цінними паперами на внутрішньому ринку",{"$f":"SUM(B$11:B$29)","v":25.349013202679998},685.78388871212996,0.35324800000000001]
["ОВДП (10 - річні)",3.0058730659099999,81.319903999999994,4.1888000000000002E-2]
["ОВДП (11 - річні)",0.64253684306000003,17.382981000000001,8.9540000000000002E-3]
["ОВДП (12 - місячні)",0.14755741846000001,3.9919699999999998,2.0560000000000001E-3]
["ОВДП (12 - річні)",1.0534614302900001,28.5,1.468E-2]
["ОВДП (13 - річні)",1.3719997048599999,37.117629999999998,1.9119000000000001E-2]
["ОВДП (14 - річні)",2.0755038354600002,56.15,2.8923000000000001E-2]
["ОВДП (15 - річні)",1.7627861386100001,47.689838000000002,2.4565E-2]
["ОВДП (18 - місячні)",1.076022,29.110346252789999,1.4995E-2]
["ОВДП (2 - річні)",2.3837121901399998,64.488167734119997,3.3217999999999998E-2]
["ОВДП (3 - місячні)",3.6963559000000002E-4,0.01,5.0000000000000004E-6]
["ОВДП (3 - річні)",0.76766861812999998,20.768255,1.0697999999999999E-2]
["ОВДП (4 - річні)",0.57528558488000003,15.56358752,8.0169999999999998E-3]
["ОВДП (5 - річні)",5.5748373531600004,150.81982120521999,7.7687999999999993E-2]
["ОВДП (6 - місячні)",3.6963559000000002E-4,0.01,5.0000000000000004E-6]
["ОВДП (6 - річні)",0.84461732216999996,22.85,1.1769999999999999E-2]
["ОВДП (7 - річні)",1.65374190242,44.739790999999997,2.3046000000000001E-2]
["ОВДП (8 - річні)",1.01340025115,27.416198000000001,1.4121999999999999E-2]
["ОВДП (9 - місячні)",3.6261251340000002E-2,0.98099999999999998,5.0500000000000002E-4]
["ОВДП (9 - річні)",1.3630090214599999,36.874398999999997,1.8994E-2]
["2. Заборгованість перед банківськими та іншими фінансовими установами",{"$f":"SUM(B$31:B$31)","v":9.2881954350000004E-2},2.5127979276199999,1.294E-3]
["Національний банк України",9.2881954350000004E-2,2.5127979276199999,1.294E-3]
["Гарантований державою борг",{"$f":"B$33+B$40+B$44","v":0.70626511459999997},19.10706475512,9.8410000000000008E-3]
["1. Заборгованість за випущеними цінними паперами на внутрішньому ринку",{"$f":"SUM(B$34:B$39)","v":0.58956919416999998},15.9500116,8.2150000000000001E-3]
["Державні цінні папери",4.2878000000000001E-7,1.1600000000000001E-5,0]
["Облігації ДІУ (10 - річні)",3.6963558959999997E-2,1,5.1500000000000005E-4]
["Облігації ДІУ (5 - річні)",0.11089067688,3,1.5449999999999999E-3]
["Облігації ДІУ (7 - річні)",0.11089067688,3,1.5449999999999999E-3]
["Облігації НАК \"Нафтогаз України\" (3 - річні)",0.17742508299000001,4.8,2.4719999999999998E-3]
["Облігації Укравтодору (5 - річні)",0.15339876967999999,4.1500000000000004,2.1380000000000001E-3]
["2. Заборгованість перед банківськими та іншими фінансовими установами",{"$f":"SUM(B$41:B$43)","v":0.11666063317},3.1560985051199997,1.6260000000000001E-3]
["ВАТ \"Державний експортно-імпортний банк України\"",1.3703471000000001E-3,3.707292115E-2,1.9000000000000001E-5]
["ВАТ \"Державний ощадний банк України\"",0.11149822169,3.0164363180699998,1.554E-3]
["ПАТ АБ \"Укргазбанк\"",3.7920643800000002E-3,0.1025892659,5.3000000000000001E-5]
["3. Заборгованість, не віднесена до інших категорій",{"$f":"SUM(B$45:B$45)","v":3.5287260000000001E-5},9.5465000000000003E-4,0]
["Інші кредитори",3.5287260000000001E-5,9.5465000000000003E-4,0]
["Зовнішній борг",{"$f":"B$47+B$70","v":45.611484113059994},1233.9581306272,0.63561400000000001]
["Державний борг",{"$f":"B$48+B$55+B$61+B$63+B$68","v":36.137012164969995},977.63887417087005,0.50358400000000003]
["1. Заборгованість за позиками, одержаними від міжнародних фінансових організацій",{"$f":"SUM(B$49:B$54)","v":13.71804922746},371.12360427924,0.191166]
["Європейське Співтовариство",2.3397270370599998,63.298207830000003,3.2605000000000002E-2]
["Європейський банк реконструкції та розвитку",0.59979524885000002,16.22666392899,8.3580000000000008E-3]
["Європейський Інвестиційний Банк",0.55606770857999999,15.04367339807,7.7489999999999998E-3]
["Міжнародний банк реконструкції та розвитку",5.0008667390400001,135.29180847371001,6.9689000000000001E-2]
["Міжнародний Валютний Фонд",5.2191072836799997,141.19601658552,7.2730000000000003E-2]
["Фонд чистих технологій (МБРР)",2.4852102500000002E-3,6.7234062950000006E-2,3.4999999999999997E-5]
["2. Заборгованість за позиками, одержаними від органів управління іноземних держав",{"$f":"SUM(B$56:B$60)","v":1.7129986181399999},46.342902751509996,2.3872000000000001E-2]
["Канада",0.30490315695999998,8.2487499999999994,4.2490000000000002E-3]
["Німеччина",0.22286831816,6.0294063787700001,3.1059999999999998E-3]
["Росія",0.60585586000000002,16.390625715719999,8.4430000000000009E-3]
["США",7.5970902699999997E-3,0.20552918832,1.06E-4]
["Японія",0.57177419274999997,15.4685914687,7.9679999999999994E-3]
["3. Заборгованість за позиками, одержаними від іноземних комерційних банків, інших іноземних фінансових установ",{"$f":"SUM(B$62:B$62)","v":5.4130479999999998E-5},1.46442838E-3,9.9999999999999995E-7]
["Chase Manhattan Bank Luxembourg S.A.",5.4130479999999998E-5,1.46442838E-3,9.9999999999999995E-7]
["4. Заборгованість за випущеними цінними паперами на зовнішньому ринку",{"$f":"SUM(B$64:B$67)","v":19.043329999999997},515.19200360774005,0.265376]
["ОЗДП 2013 року",3,81.161016000000004,4.1806000000000003E-2]
["ОЗДП 2014 року",1,27.053671999999999,1.3934999999999999E-2]
["ОЗДП 2015 року",14.043329999999999,379.92364360774002,0.19570000000000001]
["ОЗДП 2016 року",1,27.053671999999999,1.3934999999999999E-2]
["5. Заборгованість, не віднесена до інших категорій",{"$f":"SUM(B$69:B$69)","v":1.66258018889},44.978899104,2.3168999999999999E-2]
["Міжнародний Валютний Фонд",1.66258018889,44.978899104,2.3168999999999999E-2]
["Гарантований державою борг",{"$f":"B$71+B$77+B$79+B$86+B$87","v":9.4744719480900006},256.31925645632998,0.13203000000000001]
["1. Заборгованість за позиками, одержаними від міжнародних фінансових організацій",{"$f":"SUM(B$72:B$76)","v":6.9762090607000005},188.73207173121,9.7215999999999997E-2]
["Європейське співтоватиство з атомної енергії",1.09589501E-2,0.29647984142,1.5300000000000001E-4]
["Європейський банк реконструкції та розвитку",0.29054184496000002,7.8602237756599997,4.0489999999999996E-3]
["Європейський Інвестиційний Банк",3.7054500589999997E-2,1.0024603050000001,5.1599999999999997E-4]
["Міжнародний банк реконструкції та розвитку",0.46120898009,12.47739647081,6.4270000000000004E-3]
["Міжнародний Валютний Фонд",6.1764447849600002,167.09551133831999,8.6070999999999995E-2]
["2. Заборгованість за позиками, одержаними від органів управління іноземних держав",{"$f":"SUM(B$78:B$78)","v":0.12184731662000001},3.2964173379199999,1.6980000000000001E-3]
["Канада",0.12184731662000001,3.2964173379199999,1.6980000000000001E-3]
["3. Заборгованість за позиками, одержаними від іноземних комерційних банків, інших іноземних фінансових установ",{"$f":"SUM(B$80:B$85)","v":2.26614993967},61.307677170469994,3.1579000000000003E-2]
["Deutsche Bank AG London",1.445719182E-2,0.39112012541000002,2.0100000000000001E-4]
["UniCredit Bank Austria AG",3.5995800350000003E-2,0.97381857598999999,5.0199999999999995E-4]
["ВАТ \"Газпромбанк\"",0.5,13.526835999999999,6.9680000000000002E-3]
["Державний банк розвитку КНР",5.9159999999999997E-2,1.6004952355199999,8.2399999999999997E-4]
["Експортно-імпортний банк Китаю",1.5260619474999999,41.285579379349997,2.1266E-2]
["Експортно-імпортний банк Кореї",0.13047500000000001,3.5298278542000001,1.818E-3]
["4. Заборгованість за випущеними цінними паперами на зовнішньому ринку"]
["5. Заборгованість, не віднесена до інших категорій",{"$f":"SUM(B$88:B$88)","v":0.1102656311},2.98309021673,1.537E-3]
["Міжнародний Валютний Фонд",0.1102656311,2.98309021673,1.537E-3]

{"sheet":"DATA","index":60,"n_rows":12,"n_cols":7,"rows_kept":12,"cut":false,"hidden":false,"merged":[]}
["STOP"]
[]
["Дата отчета","2017-02-28",{"$f":"DREPORTDATE","v":"2017-02-28"}]
["Единицы измерения",1000000000,{"$f":"IF($B$4=1,\"дол. США\",IF($B$4=1000,\"тис. дол. США\",IF($B$4=1000000,\"млн. дол. США\",IF($B$4=1000000000,\"млрд. дол. США\"))))","v":"млрд. дол. США"},{"$f":"IF($B$4=1,\"грн\",IF($B$4=1000,\"тис. грн\",IF($B$4=1000000,\"млн. грн\",IF($B$4=1000000000,\"млрд. грн\"))))","v":"млрд. грн"},{"$f":"IF($B$4=1,\"одиниць\",IF($B$4=1000,\"тис. одиниць\",IF($B$4=1000000,\"млн. одиниць\",IF($B$4=1000000000,\"млрд. одиниць\"))))","v":"млрд. одиниць"},{"$f":"1000000000/DDELIMER","v":1},{"$f":"IF($B$4=1,1000000000,IF($B$4=1000,1000000,IF($B$4=1000000,1000,IF($B$4=1000000000,1))))","v":1}]
["Сессия","01d4da5a-f9d6-4885-9f54-78ef96eb0164"]
[]
[]
["SHORT"]
[]
[]
[]
[1000000000]

{"sheet":"AVGRATE_DETAIL","index":61,"n_rows":0,"n_cols":0,"rows_kept":0,"cut":false,"hidden":true,"merged":[]}