Workbook
Name AMOUNT_OF_DEBT: DATA!$E$31
Name AVERAGE_CIRCULATION: DATA!$C$31
Name AVERAGE_RATE: DATA!$B$31
Name AVERAGE_TO_REPAYMENT: DATA!$D$31
Name AVGDTERM: DEBT_TERM!$A$8
Name BY_AVERAGE_TERM: DATA!$C$15
Name BY_CREDITOR_TYPE: DATA!$D$16
Name BY_INTEREST_RATE: DATA!$F$16
Name BY_REPAYMENT_CURR: DATA!$E$16
Name CHANGE_OF_STRUCTURE: DATA!$B$22
Name CK_05: 'DKT2'!$A$7
Name CK_05C6: DKR!$A$11
Name CK_05G6: DKR!$A$7
Name CKMDEUR: MKT2_EUR!$A$6
Name CKMDUAH: MKT2_EUR!$A$6
Name CKMDUAH: MKT2_UAH!$A$6
Name CKMDUSD: MKT2_FCUR!$A$6
Name CKMPERC: MK_ALL!$A$18
Name CKMUAH: MK_ALL!$A$6
Name CKMUSD: MK_ALL!$A$12
Name CKPERC: MK_ALL!#REF!
Name CKPERC: MK_ALL!#REF!
Name CKPERC: MK_ALL!#REF!
Name CKUAH: MK_ALL!#REF!
Name CKUAH: MK_ALL!#REF!
Name CKUAH: MK_ALL!#REF!
Name CKUSD: MK_ALL!#REF!
Name CKUSD: MK_ALL!#REF!
Name CKUSD: MK_ALL!#REF!
Name CUR_CMP1: CUR_M_EXT!$A$7
Name CUR_CMPD4: CUR_M_EXT!$B$5
Name CUR_CMPD5: CUR_M_EXT!$H$5
Name CUR_CMPEXT: CUR_CMP_EXT!$A$7
Name CUR_CMPEXTD4: CUR_CMP_EXT!$B$5
Name CUR_CMPEXTD5: CUR_CMP_EXT!$H$5
Name CUR_CMPEXTKD4: CUR_CMP_EXT!$B$24
Name CUR_CMPEXTKD5: CUR_CMP_EXT!$H$24
Name CUR_CMPEXTKIND: CUR_CMP_EXT!$A$26
Name CUR_CMPS1: CUR_CMP!$A$8
Name CUR_CMPS1D4: CUR_CMP!$B$6
Name CUR_CMPS1D5: CUR_CMP!$E$6
Name CUR_CMPS2: CUR_CMP!$A$24
Name CUR_CMPS2D4: CUR_CMP!$B$22
Name CUR_CMPS2D5: CUR_CMP!$E$22
Name CURNAME: CUR_M!$A$7
Name CURNAMECUR: CUR!$A$7
Name CURNAMEKIND: CUR!$A$23
Name DDELIMER: DATA!$B$5
Name DEBT_AS_OF_CURR_YEAR: DATA!$B$28
Name DEBT_AS_OF_DATE: DATA!$B$16
Name DEBT_AS_OF_DATE_BY_AVARAGE_TERM: DATA!$C$16
Name DEBT_BY_CONVENTIONAKITY: DATA!$B$21
Name DEBT_BY_RATE_TYPE: DATA!$B$27
Name DEBT_BY_REPAYMENT: DATA!$B$17
Name DEBT_CURR_STRUCT: DATA!$B$23
Name DEBT_LAST_5_YEARS: DATA!$B$15
Name DEBT_LAST_5_YEARS_PERCENT: DATA!$F$15
Name DEBT_LAST_5_YEARS_UAH: DATA!$E$15
Name DEBT_LAST_5_YEARS_USD: DATA!$D$15
Name DEBT_STATE: DATA!$C$29

Sheet MTK2_UAH
A2: =DEBT_AS_OF_CURR_YEAR -> Державний та гарантований державою борг України за поточний рік
J4: =VALUAH -> млрд. грн
B5: 46022 | C5: 46053 | D5: 46081 | E5: 46112 | F5: 46142 | G5: 46173 | H5: 46203 | I5: 46234 | J5: 46265
A6: =DEBT_TOTAL -> Загальна сума державного та гарантованого державою боргу | B6: =B$37+B$7 -> 9042.677 | C6: =C$37+C$7 -> 9212.5998 | D6: =D$37+D$7 -> 9211.1934 | E6: =E$37+E$7 -> 9233.0279 | F6: =F$37+F$7 -> 9345.5105 | G6: =G$37+G$7 -> 9316.873 | H6: =H$37+H$7 -> 9490.8753 | I6: =I$37+I$7 -> 9572.4498 | J6: =J$37+J$7 -> 9602.8931
A7: Внутрішній борг | B7: =B$8+B$23 -> 2031.502 | C7: =C$8+C$23 -> 2055.3735 | D7: =D$8+D$23 -> 2072.3018 | E7: =E$8+E$23 -> 2077.0597 | F7: =F$8+F$23 -> 2068.3419 | G7: =G$8+G$23 -> 2053.6188 | H7: =H$8+H$23 -> 2044.2039 | I7: =I$8+I$23 -> 2074.6809 | J7: =J$8+J$23 -> 2065.1785
A8: Державний борг | B8: =B$9+B$21 -> 1967.2076 | C8: =C$9+C$21 -> 1992.6492 | D8: =D$9+D$21 -> 2009.6169 | E8: =E$9+E$21 -> 2013.889 | F8: =F$9+F$21 -> 2003.7288 | G8: =G$9+G$21 -> 1988.8952 | H8: =H$9+H$21 -> 1979.5199 | I8: =I$9+I$21 -> 2011.1022 | J8: =J$9+J$21 -> 2003.3651
A9: 1. Заборгованість за випущеними цінними паперами на внутрішньому ринку | B9: =SUM(B$10:B$20) -> 1965.8851 | C9: =SUM(C$10:C$20) -> 1991.3266 | D9: =SUM(D$10:D$20) -> 2008.2944 | E9: =SUM(E$10:E$20) -> 2012.5995 | F9: =SUM(F$10:F$20) -> 2002.4394 | G9: =SUM(G$10:G$20) -> 1987.6057 | H9: =SUM(H$10:H$20) -> 1978.2635 | I9: =SUM(I$10:I$20) -> 2009.8458 | J9: =SUM(J$10:J$20) -> 2002.1087
A10: ОВДП 2014 | B10: 4.25 | C10: 4.25 | D10: 4.25 | E10: 4.25 | F10: 4.25 | G10: 4.25 | H10: 4.25 | I10: 4.25 | J10: 4.25
A11: ОВДП 2015 | B11: 23.9 | C11: 23.9 | D11: 23.9 | E11: 21.4 | F11: 18.9 | G11: 17.2 | H11: 15.2 | I11: 15.2 | J11: 15.2
A12: ОВДП 2016 | B12: 110.26 | C12: 106.941 | D12: 106.941 | E12: 106.941 | F12: 106.941 | G12: 106.941 | H12: 106.941 | I12: 106.941 | J12: 106.941
A13: ОВДП 2017 | B13: 285.26691 | C13: 285.26691 | D13: 285.26691 | E13: 285.26691 | F13: 285.26691 | G13: 285.26691 | H13: 285.26691 | I13: 285.26691 | J13: 285.26691
A14: ОВДП 2020 | B14: 10.714916 | C14: 10.714916 | D14: 10.714916 | E14: 10.714916 | F14: 10.714916 | G14: 10.714916 | H14: 10.714916 | I14: 10.714916 | J14: 10.714916
A15: ОВДП 2021 | B15: 39.165811 | C15: 39.165811 | D15: 39.165811 | E15: 39.165811 | F15: 39.165811 | G15: 28.217123 | H15: 28.217123 | I15: 28.217123 | J15: 28.217123
A16: ОВДП 2022 | B16: 430.1335 | C16: 430.1335 | D16: 430.1335 | E16: 430.1335 | F16: 430.1335 | G16: 430.01295 | H16: 430.01295 | I16: 430.01295 | J16: 430.01295
A17: ОВДП 2023 | B17: 95.211152 | C17: 78.782505 | D17: 75.261842 | E17: 75.261842 | F17: 75.261842 | G17: 75.261842 | H17: 59.482035 | I17: 55.274584 | J17: 41.383263
A18: ОВДП 2024 | B18: 381.66208 | C18: 363.20119 | D18: 338.67131 | E18: 319.65551 | F18: 303.37284 | G18: 285.01632 | H18: 274.30578 | I18: 260.15231 | J18: 254.21695
A19: ОВДП 2025 | B19: 585.32071 | C19: 587.50756 | D19: 568.24117 | E19: 568.84808 | F19: 551.83722 | G19: 552.07764 | H19: 533.01228 | I19: 513.88243 | J19: 492.98722
A20: ОВДП 2026 | B20: 0 | C20: 61.463252 | D20: 125.74794 | E20: 150.96194 | F20: 176.59535 | G20: 192.64703 | H20: 230.86053 | I20: 299.93359 | J20: 332.9184
A21: 2. Заборгованість перед банківськими та іншими фінансовими установами | B21: =SUM(B$22:B$22) -> 1.3225252 | C21: =SUM(C$22:C$22) -> 1.3225252 | D21: =SUM(D$22:D$22) -> 1.3225252 | E21: =SUM(E$22:E$22) -> 1.2894621 | F21: =SUM(F$22:F$22) -> 1.2894621 | G21: =SUM(G$22:G$22) -> 1.2894621 | H21: =SUM(H$22:H$22) -> 1.256399 | I21: =SUM(I$22:I$22) -> 1.256399 | J21: =SUM(J$22:J$22) -> 1.256399
A22: Національний банк України | B22: 1.3225252 | C22: 1.3225252 | D22: 1.3225252 | E22: 1.2894621 | F22: 1.2894621 | G22: 1.2894621 | H22: 1.256399 | I22: 1.256399 | J22: 1.256399
A23: Гарантований державою борг | B23: =B$24+B$27+B$35 -> 64.294409 | C23: =C$24+C$27+C$35 -> 62.72434 | D23: =D$24+D$27+D$35 -> 62.684864 | E23: =E$24+E$27+E$35 -> 63.170745 | F23: =F$24+F$27+F$35 -> 64.613034 | G23: =G$24+G$27+G$35 -> 64.723576 | H23: =H$24+H$27+H$35 -> 64.683993 | I23: =I$24+I$27+I$35 -> 63.578746 | J23: =J$24+J$27+J$35 -> 61.813395
A24: 1. Заборгованість за випущеними цінними паперами на внутрішньому ринку | B24: =SUM(B$25:B$26) -> 2.4750116 | C24: =SUM(C$25:C$26) -> 2.4750116 | D24: =SUM(D$25:D$26) -> 2.4750116 | E24: =SUM(E$25:E$26) -> 2.4750116 | F24: =SUM(F$25:F$26) -> 2.4750116 | G24: =SUM(G$25:G$26) -> 2.4750116 | H24: =SUM(H$25:H$26) -> 2.4750116 | I24: =SUM(I$25:I$26) -> 2.4750116 | J24: =SUM(J$25:J$26) -> 2.4750116
A25: Державні цінні папери | B25: 1.16e-05 | C25: 1.16e-05 | D25: 1.16e-05 | E25: 1.16e-05 | F25: 1.16e-05 | G25: 1.16e-05 | H25: 1.16e-05 | I25: 1.16e-05 | J25: 1.16e-05
A26: Облігації ДІУ (10 - річні) | B26: 2.475 | C26: 2.475 | D26: 2.475 | E26: 2.475 | F26: 2.475 | G26: 2.475 | H26: 2.475 | I26: 2.475 | J26: 2.475
A27: 2. Заборгованість перед банківськими та іншими фінансовими установами | B27: =SUM(B$28:B$34) -> 61.818443 | C27: =SUM(C$28:C$34) -> 60.248374 | D27: =SUM(D$28:D$34) -> 60.208898 | E27: =SUM(E$28:E$34) -> 60.694779 | F27: =SUM(F$28:F$34) -> 62.137067 | G27: =SUM(G$28:G$34) -> 62.247609 | H27: =SUM(H$28:H$34) -> 62.208027 | I27: =SUM(I$28:I$34) -> 61.10278 | J27: =SUM(J$28:J$34) -> 59.337429
A28: АБ "УКРГАЗБАНК" | B28: 1.5222508 | C28: 1.4493169 | D28: 1.3964207 | E28: 1.4561805 | F28: 1.4910627 | G28: 1.522927 | H28: 1.4415608 | I28: 1.4029685 | J28: 1.3816128
A29: АТ "БАНК КРЕДИТ ДНІПРО" | B29: 0.12245365 | C29: 0.10831098 | D29: 0.093617551 | E29: 0.07907521 | F29: 0.063674002 | G29: 0.047954077 | H29: 0.032390079 | I29: 0.016138635 | J29: 0
A30: АТ "Державний експортно-імпортний банк України" | B30: 10.229765 | C30: 10.103243 | D30: 10.184452 | E30: 9.9761539 | F30: 9.2930399 | G30: 8.9526348 | H30: 8.4628119 | I30: 7.9543772 | J30: 7.7134575
A31: АТ "Державний ощадний банк України" | B31: 14.832616 | C31: 14.360995 | D31: 14.120003 | E31: 14.061395 | F31: 14.193047 | G31: 14.0319 | H31: 13.916137 | I31: 14.026443 | J31: 13.565014
A32: АТ "ПУМБ" | B32: 0.094195108 | C32: 0.083316136 | D32: 0.072013497 | E32: 0.06082708 | F32: 0.048979997 | G32: 0.036887747 | H32: 0.024915441 | I32: 0.01241433 | J32: 0
A33: АТ "ТАСКОМБАНК" | B33: 0.13187315 | C33: 0.11664259 | D33: 0.1008189 | E33: 0.085157915 | F33: 0.068571998 | G33: 0.051642848 | H33: 0.034881621 | I33: 0.017380065 | J33: 0
A34: Портфельні гарантії | B34: 34.885289 | C34: 34.026549 | D34: 34.241573 | E34: 34.975989 | F34: 36.978691 | G34: 37.603663 | H34: 38.29533 | I34: 37.673058 | J34: 36.677344
A35: 3. Заборгованість, не віднесена до інших категорій | B35: =SUM(B$36:B$36) -> 0.00095465 | C35: =SUM(C$36:C$36) -> 0.00095465 | D35: =SUM(D$36:D$36) -> 0.00095465 | E35: =SUM(E$36:E$36) -> 0.00095465 | F35: =SUM(F$36:F$36) -> 0.00095465 | G35: =SUM(G$36:G$36) -> 0.00095465 | H35: =SUM(H$36:H$36) -> 0.00095465 | I35: =SUM(I$36:I$36) -> 0.00095465 | J35: =SUM(J$36:J$36) -> 0.00095465
A36: Інші кредитори | B36: 0.00095465 | C36: 0.00095465 | D36: 0.00095465 | E36: 0.00095465 | F36: 0.00095465 | G36: 0.00095465 | H36: 0.00095465 | I36: 0.00095465 | J36: 0.00095465
A37: Зовнішній борг | B37: =B$38+B$77 -> 7011.175 | C37: =C$38+C$77 -> 7157.2263 | D37: =D$38+D$77 -> 7138.8916 | E37: =E$38+E$77 -> 7155.9682 | F37: =F$38+F$77 -> 7277.1686 | G37: =G$38+G$77 -> 7263.2543 | H37: =H$38+H$77 -> 7446.6714 | I37: =I$38+I$77 -> 7497.7688 | J37: =J$38+J$77 -> 7537.7145
A38: Державний борг | B38: =B$39+B$50+B$61+B$63+B$70+B$73+B$75 -> 6798.7864 | C38: =C$39+C$50+C$61+C$63+C$70+C$73+C$75 -> 6941.1095 | D38: =D$39+D$50+D$61+D$63+D$70+D$73+D$75 -> 6931.0257 | E38: =E$39+E$50+E$61+E$63+E$70+E$73+E$75 -> 6959.1774 | F38: =F$39+F$50+F$61+F$63+F$70+F$73+F$75 -> 7082.4209 | G38: =G$39+G$50+G$61+G$63+G$70+G$73+G$75 -> 7066.926 | H38: =H$39+H$50+H$61+H$63+H$70+H$73+H$75 -> 7249.2726 | I38: =I$39+I$50+I$61+I$63+I$70+I$73+I$75 -> 7300.3888 | J38: =J$39+J$50+J$61+J$63+J$70+J$73+J$75 -> 7341.7156
A39: 1. Заборгованість за позиками, одержаними від міжнародних фінансових організацій | B39: =SUM(B$40:B$49) -> 5234.26 | C39: =SUM(C$40:C$49) -> 5351.3958 | D39: =SUM(D$40:D$49) -> 5335.6329 | E39: =SUM(E$40:E$49) -> 5351.7873 | F39: =SUM(F$40:F$49) -> 5454.1406 | G39: =SUM(G$40:G$49) -> 5433.445 | H39: =SUM(H$40:H$49) -> 5606.2886 | I39: =SUM(I$40:I$49) -> 5657.5761 | J39: =SUM(J$40:J$49) -> 5695.6404
A40: NEFCO | B40: 0.48614261 | C40: 0.49965532 | D40: 0.49753061 | E40: 0.45992535 | F40: 0.47151666 | G40: 0.47020029 | H40: 0.4677376 | I40: 0.46872304 | J40: 0.47425999
A41: Банк розвитку Ради Європи | B41: 22.867781 | C41: 23.503409 | D41: 23.403464 | E41: 23.076844 | F41: 23.65844 | G41: 24.878299 | H41: 24.747998 | I41: 24.800137 | J41: 26.571689
A42: Європейський банк реконструкції та розвитку | B42: 2.6723083 | C42: 2.759503 | D42: 2.7611334 | E42: 2.7598691 | F42: 2.7718799 | G42: 2.8042889 | H42: 2.7479411 | I42: 2.9262825 | J42: 2.9608503
...

Sheet MTK2_FCUR
A2: =DEBT_AS_OF_CURR_YEAR -> Державний та гарантований державою борг України за поточний рік
J4: =VALUSD -> млрд. дол. США
B5: 46022 | C5: 46053 | D5: 46081 | E5: 46112 | F5: 46142 | G5: 46173 | H5: 46203 | I5: 46234 | J5: 46265
A6: =DEBT_TOTAL -> Загальна сума державного та гарантованого державою боргу | B6: =B$37+B$7 -> 213.33207 | C6: =C$37+C$7 -> 215.00503 | D6: =D$37+D$7 -> 213.1821 | E6: =E$37+E$7 -> 210.82138 | F6: =F$37+F$7 -> 212.00287 | G6: =G$37+G$7 -> 210.47803 | H6: =H$37+H$7 -> 211.6241 | I6: =I$37+I$7 -> 214.18901 | J6: =J$37+J$7 -> 215.55074
A7: Внутрішній борг | B7: =B$8+B$23 -> 47.926573 | C7: =C$8+C$23 -> 47.968613 | D7: =D$8+D$23 -> 47.960956 | E7: =E$8+E$23 -> 47.426327 | F7: =F$8+F$23 -> 46.920328 | G7: =G$8+G$23 -> 46.393422 | H7: =H$8+H$23 -> 45.580918 | I7: =I$8+I$23 -> 46.422168 | J7: =J$8+J$23 -> 46.3559
A8: Державний борг | B8: =B$9+B$21 -> 46.409759 | C8: =C$9+C$21 -> 46.504743 | D8: =D$9+D$21 -> 46.510189 | E8: =E$9+E$21 -> 45.983924 | F8: =F$9+F$21 -> 45.454581 | G8: =G$9+G$21 -> 44.931248 | H8: =H$9+H$21 -> 44.138618 | I8: =I$9+I$21 -> 44.999557 | J8: =J$9+J$21 -> 44.968409
A9: 1. Заборгованість за випущеними цінними паперами на внутрішньому ринку | B9: =SUM(B$10:B$20) -> 46.378559 | C9: =SUM(C$10:C$20) -> 46.473877 | D9: =SUM(D$10:D$20) -> 46.479581 | E9: =SUM(E$10:E$20) -> 45.954482 | F9: =SUM(F$10:F$20) -> 45.42533 | G9: =SUM(G$10:G$20) -> 44.902118 | H9: =SUM(H$10:H$20) -> 44.110603 | I9: =SUM(I$10:I$20) -> 44.971444 | J9: =SUM(J$10:J$20) -> 44.940208
A10: ОВДП 2014 | B10: 0.1002647 | C10: 0.099187132 | D10: 0.098361187 | E10: 0.097041934 | F10: 0.096411234 | G10: 0.096012 | H10: 0.094764961 | I10: 0.09509617 | J10: 0.095397358
A11: ОВДП 2015 | B11: 0.56384148 | C11: 0.55778176 | D11: 0.55313703 | E11: 0.48863468 | F11: 0.42874643 | G11: 0.38856621 | H11: 0.33892409 | I11: 0.34010866 | J11: 0.34118585
A12: ОВДП 2016 | B12: 2.6012201 | C12: 2.4958049 | D12: 2.475022 | E12: 2.4418262 | F12: 2.4259561 | G12: 2.4159104 | H12: 2.3845316 | I12: 2.3928657 | J12: 2.4004444
A13: ОВДП 2017 | B13: 6.7299296 | C13: 6.6576015 | D13: 6.6021627 | E13: 6.5136123 | F13: 6.4712787 | G13: 6.4444815 | H13: 6.3607782 | I13: 6.3830095 | J13: 6.4032257
A14: ОВДП 2020 | B14: 0.25278302 | C14: 0.2500663 | D14: 0.24798397 | E14: 0.24465792 | F14: 0.24306783 | G14: 0.2420613 | H14: 0.23891732 | I14: 0.23975235 | J14: 0.24051169
A15: ОВДП 2021 | B15: 0.92398782 | C15: 0.91405752 | D15: 0.90644604 | E15: 0.89428848 | F15: 0.88847627 | G15: 0.63745469 | H15: 0.62917519 | I15: 0.6313742 | J15: 0.63337388
A16: ОВДП 2022 | B16: 10.147578 | C16: 10.03852 | D16: 9.9549274 | E16: 9.8214086 | F16: 9.7575768 | G16: 9.7144479 | H16: 9.588273 | I16: 9.6217847 | J16: 9.6522587
A17: ОВДП 2023 | B17: 2.2461923 | C17: 1.8386378 | D17: 1.7418457 | E17: 1.7184835 | F17: 1.7073146 | G17: 1.7002447 | H17: 1.3263089 | I17: 1.2368003 | J17: 0.92890681
A18: ОВДП 2024 | B18: 9.0040548 | C18: 8.4764435 | D18: 7.838144 | E18: 7.2988209 | F18: 6.8820118 | G18: 6.4388204 | H18: 6.1163709 | I18: 5.8210561 | J18: 5.7062648
A19: ОВДП 2025 | B19: 13.808707 | C19: 13.711339 | D19: 13.151265 | E19: 12.988734 | F19: 12.518425 | G19: 12.472018 | H19: 11.884915 | I19: 11.498412 | J19: 11.065807
A20: ОВДП 2026 | B20: 0 | C20: 1.4344385 | D20: 2.9102863 | E20: 3.4469737 | F20: 4.0060648 | G20: 4.3521005 | H20: 5.1476444 | I20: 6.7111848 | J20: 7.4728319
A21: 2. Заборгованість перед банківськими та іншими фінансовими установами | B21: =SUM(B$22:B$22) -> 0.03120061 | C21: =SUM(C$22:C$22) -> 0.03086529 | D21: =SUM(D$22:D$22) -> 0.030608271 | E21: =SUM(E$22:E$22) -> 0.029442799 | F21: =SUM(F$22:F$22) -> 0.029251443 | G21: =SUM(G$22:G$22) -> 0.029130314 | H21: =SUM(H$22:H$22) -> 0.028014729 | I21: =SUM(I$22:I$22) -> 0.028112642 | J21: =SUM(J$22:J$22) -> 0.02820168
A22: Національний банк України | B22: 0.03120061 | C22: 0.03086529 | D22: 0.030608271 | E22: 0.029442799 | F22: 0.029251443 | G22: 0.029130314 | H22: 0.028014729 | I22: 0.028112642 | J22: 0.02820168
A23: Гарантований державою борг | B23: =B$24+B$27+B$35 -> 1.516814 | C23: =C$24+C$27+C$35 -> 1.46387 | D23: =D$24+D$27+D$35 -> 1.4507665 | E23: =E$24+E$27+E$35 -> 1.4424026 | F23: =F$24+F$27+F$35 -> 1.4657464 | G23: =G$24+G$27+G$35 -> 1.4621741 | H23: =H$24+H$27+H$35 -> 1.4423003 | I23: =I$24+I$27+I$35 -> 1.4226107 | J23: =J$24+J$27+J$35 -> 1.3874905
A24: 1. Заборгованість за випущеними цінними паперами на внутрішньому ринку | B24: =SUM(B$25:B$26) -> 0.058389716 | C24: =SUM(C$25:C$26) -> 0.057762189 | D24: =SUM(D$25:D$26) -> 0.057281195 | E24: =SUM(E$25:E$26) -> 0.05651292 | F24: =SUM(F$25:F$26) -> 0.056145629 | G24: =SUM(G$25:G$26) -> 0.055913133 | H24: =SUM(H$25:H$26) -> 0.055186912 | I24: =SUM(I$25:I$26) -> 0.055379794 | J24: =SUM(J$25:J$26) -> 0.055555192
A25: Державні цінні папери | B25: 2.7366e-07 | C25: 2.7072e-07 | D25: 2.6847e-07 | E25: 2.6487e-07 | F25: 2.6315e-07 | G25: 2.6206e-07 | H25: 2.5865e-07 | I25: 2.5956e-07 | J25: 2.6038e-07
A26: Облігації ДІУ (10 - річні) | B26: 0.058389442 | C26: 0.057761918 | D26: 0.057280927 | E26: 0.056512655 | F26: 0.056145365 | G26: 0.055912871 | H26: 0.055186654 | I26: 0.055379534 | J26: 0.055554932
A27: 2. Заборгованість перед банківськими та іншими фінансовими установами | B27: =SUM(B$28:B$34) -> 1.4584018 | C27: =SUM(C$28:C$34) -> 1.4060855 | D27: =SUM(D$28:D$34) -> 1.3934632 | E27: =SUM(E$28:E$34) -> 1.3858679 | F27: =SUM(F$28:F$34) -> 1.4095791 | G27: =SUM(G$28:G$34) -> 1.4062394 | H27: =SUM(H$28:H$34) -> 1.3870921 | I27: =SUM(I$28:I$34) -> 1.3672095 | J27: =SUM(J$28:J$34) -> 1.3319139
A28: АБ "УКРГАЗБАНК" | B28: 0.035912474 | C28: 0.033824374 | D28: 0.032318494 | E28: 0.033249547 | F28: 0.033824751 | G28: 0.034404534 | H28: 0.032143401 | I28: 0.031392219 | J28: 0.031012284
A29: АТ "БАНК КРЕДИТ ДНІПРО" | B29: 0.0028888889 | C29: 0.0025277778 | D29: 0.0021666667 | E29: 0.0018055556 | F29: 0.0014444445 | G29: 0.0010833334 | H29: 0.00072222226 | I29: 0.00036111115 | J29: 0
A30: АТ "Державний експортно-імпортний банк України" | B30: 0.24133749 | C30: 0.23579098 | D30: 0.235707 | E30: 0.22778947 | F30: 0.21081258 | G30: 0.2022495 | H30: 0.18870071 | I30: 0.17798372 | J30: 0.17313964
A31: АТ "Державний ощадний банк України" | B31: 0.34992654 | C31: 0.33515904 | D31: 0.32679065 | E31: 0.3210694 | F31: 0.32196922 | G31: 0.31699548 | H31: 0.31029698 | I31: 0.31384964 | J31: 0.30448624
A32: АТ "ПУМБ" | B32: 0.0022222222 | C32: 0.0019444444 | D32: 0.0016666666 | E32: 0.0013888888 | F32: 0.001111111 | G32: 0.00083333326 | H32: 0.00055555548 | I32: 0.0002777777 | J32: 0
A33: АТ "ТАСКОМБАНК" | B33: 0.0031111111 | C33: 0.0027222222 | D33: 0.0023333333 | E33: 0.0019444444 | F33: 0.0015555555 | G33: 0.0011666666 | H33: 0.00077777774 | I33: 0.00038888885 | J33: 0
A34: Портфельні гарантії | B34: 0.82300305 | C34: 0.79411667 | D34: 0.79248041 | E34: 0.79862062 | F34: 0.83886147 | G34: 0.84950656 | H34: 0.85389541 | I34: 0.84295614 | J34: 0.82327571
A35: 3. Заборгованість, не віднесена до інших категорій | B35: =SUM(B$36:B$36) -> 2.252181e-05 | C35: =SUM(C$36:C$36) -> 2.227976e-05 | D35: =SUM(D$36:D$36) -> 2.209424e-05 | E35: =SUM(E$36:E$36) -> 2.17979e-05 | F35: =SUM(F$36:F$36) -> 2.165623e-05 | G35: =SUM(G$36:G$36) -> 2.156655e-05 | H35: =SUM(H$36:H$36) -> 2.128644e-05 | I35: =SUM(I$36:I$36) -> 2.136084e-05 | J35: =SUM(J$36:J$36) -> 2.142849e-05
A36: Інші кредитори | B36: 2.252181e-05 | C36: 2.227976e-05 | D36: 2.209424e-05 | E36: 2.17979e-05 | F36: 2.165623e-05 | G36: 2.156655e-05 | H36: 2.128644e-05 | I36: 2.136084e-05 | J36: 2.142849e-05
A37: Зовнішній борг | B37: =B$38+B$77 -> 165.40549 | C37: =C$38+C$77 -> 167.03641 | D37: =D$38+D$77 -> 165.22114 | E37: =E$38+E$77 -> 163.39506 | F37: =F$38+F$77 -> 165.08254 | G37: =G$38+G$77 -> 164.08461 | H37: =H$38+H$77 -> 166.04318 | I37: =I$38+I$77 -> 167.76685 | J37: =J$38+J$77 -> 169.19484
A38: Державний борг | B38: =B$39+B$50+B$61+B$63+B$70+B$73+B$75 -> 160.39489 | C38: =C$39+C$50+C$61+C$63+C$70+C$73+C$75 -> 161.99265 | D38: =D$39+D$50+D$61+D$63+D$70+D$73+D$75 -> 160.41033 | E38: =E$39+E$50+E$61+E$63+E$70+E$73+E$75 -> 158.90165 | F38: =F$39+F$50+F$61+F$63+F$70+F$73+F$75 -> 160.66469 | G38: =G$39+G$50+G$61+G$63+G$70+G$73+G$75 -> 159.64934 | H38: =H$39+H$50+H$61+H$63+H$70+H$73+H$75 -> 161.64165 | I38: =I$39+I$50+I$61+I$63+I$70+I$73+I$75 -> 163.35036 | J38: =J$39+J$50+J$61+J$63+J$70+J$73+J$75 -> 164.79536
A39: 1. Заборгованість за позиками, одержаними від міжнародних фінансових організацій | B39: =SUM(B$40:B$49) -> 123.48506 | C39: =SUM(C$40:C$49) -> 124.89167 | D39: =SUM(D$40:D$49) -> 123.48687 | E39: =SUM(E$40:E$49) -> 122.19948 | F39: =SUM(F$40:F$49) -> 123.72716 | G39: =SUM(G$40:G$49) -> 122.74728 | H39: =SUM(H$40:H$49) -> 125.00699 | I39: =SUM(I$40:I$49) -> 126.59149 | J39: =SUM(J$40:J$49) -> 127.84684
A40: NEFCO | B40: 0.011468928 | C40: 0.01166103 | D40: 0.011514753 | E40: 0.010501658 | F40: 0.010696354 | G40: 0.010622323 | H40: 0.010429444 | I40: 0.010487945 | J40: 0.010645447
A41: Банк розвитку Ради Європи | B41: 0.53948969 | C41: 0.54852605 | D41: 0.5416453 | E41: 0.52692272 | F41: 0.53669162 | G41: 0.56202711 | H41: 0.55182188 | I41: 0.5549172 | J41: 0.59643975
A42: Європейський банк реконструкції та розвитку | B42: 0.063044279 | C42: 0.064401691 | D42: 0.063903143 | E42: 0.063017185 | F42: 0.062880084 | G42: 0.063351856 | H42: 0.061272596 | I42: 0.065477238 | J42: 0.066460539
...

Sheet MKT2_UAH
A2: =IF(REPORT_LANG="UKR","Державний та гарантований державою борг України за поточний рік","State debt and State guaranteed debt of Ukraine for the current year") -> Державний та гарантований державою борг України за поточний рік
J4: =VALUAH -> млрд. грн
B5: 46022 | C5: 46053 | D5: 46081 | E5: 46112 | F5: 46142 | G5: 46173 | H5: 46203 | I5: 46234 | J5: 46265
A6: =IF(REPORT_LANG="UKR","Загальна сума державного та гарантованого державою боргу","Total amount of state debt and state guaranteed debt") -> Загальна сума державного та гарантованого державою боргу | B6: =B$7+B$62 -> 9042.677 | C6: =C$7+C$62 -> 9212.5998 | D6: =D$7+D$62 -> 9211.1934 | E6: =E$7+E$62 -> 9233.0279 | F6: =F$7+F$62 -> 9345.5105 | G6: =G$7+G$62 -> 9316.873 | H6: =H$7+H$62 -> 9490.8753 | I6: =I$7+I$62 -> 9572.4498 | J6: =J$7+J$62 -> 9602.8931
A7: Державний борг | B7: =B$8+B$23 -> 8765.994 | C7: =C$8+C$23 -> 8933.7586 | D7: =D$8+D$23 -> 8940.6426 | E7: =E$8+E$23 -> 8973.0664 | F7: =F$8+F$23 -> 9086.1498 | G7: =G$8+G$23 -> 9055.8212 | H7: =H$8+H$23 -> 9228.7925 | I7: =I$8+I$23 -> 9311.491 | J7: =J$8+J$23 -> 9345.0807
A8: Внутрішній борг | B8: =B$9+B$21 -> 1967.2076 | C8: =C$9+C$21 -> 1992.6492 | D8: =D$9+D$21 -> 2009.6169 | E8: =E$9+E$21 -> 2013.889 | F8: =F$9+F$21 -> 2003.7288 | G8: =G$9+G$21 -> 1988.8952 | H8: =H$9+H$21 -> 1979.5199 | I8: =I$9+I$21 -> 2011.1022 | J8: =J$9+J$21 -> 2003.3651
A9: 1. Заборгованість за випущеними цінними паперами на внутрішньому ринку | B9: =SUM(B$10:B$20) -> 1965.8851 | C9: =SUM(C$10:C$20) -> 1991.3266 | D9: =SUM(D$10:D$20) -> 2008.2944 | E9: =SUM(E$10:E$20) -> 2012.5995 | F9: =SUM(F$10:F$20) -> 2002.4394 | G9: =SUM(G$10:G$20) -> 1987.6057 | H9: =SUM(H$10:H$20) -> 1978.2635 | I9: =SUM(I$10:I$20) -> 2009.8458 | J9: =SUM(J$10:J$20) -> 2002.1087
A10: ОВДП 2014 | B10: 4.25 | C10: 4.25 | D10: 4.25 | E10: 4.25 | F10: 4.25 | G10: 4.25 | H10: 4.25 | I10: 4.25 | J10: 4.25
A11: ОВДП 2015 | B11: 23.9 | C11: 23.9 | D11: 23.9 | E11: 21.4 | F11: 18.9 | G11: 17.2 | H11: 15.2 | I11: 15.2 | J11: 15.2
A12: ОВДП 2016 | B12: 110.26 | C12: 106.941 | D12: 106.941 | E12: 106.941 | F12: 106.941 | G12: 106.941 | H12: 106.941 | I12: 106.941 | J12: 106.941
A13: ОВДП 2017 | B13: 285.26691 | C13: 285.26691 | D13: 285.26691 | E13: 285.26691 | F13: 285.26691 | G13: 285.26691 | H13: 285.26691 | I13: 285.26691 | J13: 285.26691
A14: ОВДП 2020 | B14: 10.714916 | C14: 10.714916 | D14: 10.714916 | E14: 10.714916 | F14: 10.714916 | G14: 10.714916 | H14: 10.714916 | I14: 10.714916 | J14: 10.714916
A15: ОВДП 2021 | B15: 39.165811 | C15: 39.165811 | D15: 39.165811 | E15: 39.165811 | F15: 39.165811 | G15: 28.217123 | H15: 28.217123 | I15: 28.217123 | J15: 28.217123
A16: ОВДП 2022 | B16: 430.1335 | C16: 430.1335 | D16: 430.1335 | E16: 430.1335 | F16: 430.1335 | G16: 430.01295 | H16: 430.01295 | I16: 430.01295 | J16: 430.01295
A17: ОВДП 2023 | B17: 95.211152 | C17: 78.782505 | D17: 75.261842 | E17: 75.261842 | F17: 75.261842 | G17: 75.261842 | H17: 59.482035 | I17: 55.274584 | J17: 41.383263
A18: ОВДП 2024 | B18: 381.66208 | C18: 363.20119 | D18: 338.67131 | E18: 319.65551 | F18: 303.37284 | G18: 285.01632 | H18: 274.30578 | I18: 260.15231 | J18: 254.21695
A19: ОВДП 2025 | B19: 585.32071 | C19: 587.50756 | D19: 568.24117 | E19: 568.84808 | F19: 551.83722 | G19: 552.07764 | H19: 533.01228 | I19: 513.88243 | J19: 492.98722
A20: ОВДП 2026 | B20: 0 | C20: 61.463252 | D20: 125.74794 | E20: 150.96194 | F20: 176.59535 | G20: 192.64703 | H20: 230.86053 | I20: 299.93359 | J20: 332.9184
A21: 2. Заборгованість перед банківськими та іншими фінансовими установами | B21: =SUM(B$22:B$22) -> 1.3225252 | C21: =SUM(C$22:C$22) -> 1.3225252 | D21: =SUM(D$22:D$22) -> 1.3225252 | E21: =SUM(E$22:E$22) -> 1.2894621 | F21: =SUM(F$22:F$22) -> 1.2894621 | G21: =SUM(G$22:G$22) -> 1.2894621 | H21: =SUM(H$22:H$22) -> 1.256399 | I21: =SUM(I$22:I$22) -> 1.256399 | J21: =SUM(J$22:J$22) -> 1.256399
A22: Національний банк України | B22: 1.3225252 | C22: 1.3225252 | D22: 1.3225252 | E22: 1.2894621 | F22: 1.2894621 | G22: 1.2894621 | H22: 1.256399 | I22: 1.256399 | J22: 1.256399
A23: Зовнішній борг | B23: =B$24+B$35+B$46+B$48+B$55+B$58+B$60 -> 6798.7864 | C23: =C$24+C$35+C$46+C$48+C$55+C$58+C$60 -> 6941.1095 | D23: =D$24+D$35+D$46+D$48+D$55+D$58+D$60 -> 6931.0257 | E23: =E$24+E$35+E$46+E$48+E$55+E$58+E$60 -> 6959.1774 | F23: =F$24+F$35+F$46+F$48+F$55+F$58+F$60 -> 7082.4209 | G23: =G$24+G$35+G$46+G$48+G$55+G$58+G$60 -> 7066.926 | H23: =H$24+H$35+H$46+H$48+H$55+H$58+H$60 -> 7249.2726 | I23: =I$24+I$35+I$46+I$48+I$55+I$58+I$60 -> 7300.3888 | J23: =J$24+J$35+J$46+J$48+J$55+J$58+J$60 -> 7341.7156
A24: 1. Заборгованість за позиками, одержаними від міжнародних фінансових організацій | B24: =SUM(B$25:B$34) -> 5234.26 | C24: =SUM(C$25:C$34) -> 5351.3958 | D24: =SUM(D$25:D$34) -> 5335.6329 | E24: =SUM(E$25:E$34) -> 5351.7873 | F24: =SUM(F$25:F$34) -> 5454.1406 | G24: =SUM(G$25:G$34) -> 5433.445 | H24: =SUM(H$25:H$34) -> 5606.2886 | I24: =SUM(I$25:I$34) -> 5657.5761 | J24: =SUM(J$25:J$34) -> 5695.6404
A25: NEFCO | B25: 0.48614261 | C25: 0.49965532 | D25: 0.49753061 | E25: 0.45992535 | F25: 0.47151666 | G25: 0.47020029 | H25: 0.4677376 | I25: 0.46872304 | J25: 0.47425999
A26: Банк розвитку Ради Європи | B26: 22.867781 | C26: 23.503409 | D26: 23.403464 | E26: 23.076844 | F26: 23.65844 | G26: 24.878299 | H26: 24.747998 | I26: 24.800137 | J26: 26.571689
A27: Європейський банк реконструкції та розвитку | B27: 2.6723083 | C27: 2.759503 | D27: 2.7611334 | E27: 2.7598691 | F27: 2.7718799 | G27: 2.8042889 | H27: 2.7479411 | I27: 2.9262825 | J27: 2.9608503
A28: Європейський Інвестиційний Банк | B28: 142.48458 | C28: 146.44505 | D28: 145.23637 | E28: 143.09707 | F28: 146.57849 | G28: 142.75865 | H28: 142.08096 | I28: 143.29375 | J28: 144.39068
A29: Європейський Союз | B29: 2601.1832 | C29: 2673.4851 | D29: 2662.1165 | E29: 2624.9638 | F29: 2688.5407 | G29: 2681.0349 | H29: 2791.9691 | I29: 2797.8513 | J29: 2830.9019
A30: Європейський Союз ERA* | B30: 903.1852 | C30: 928.28993 | D30: 924.34252 | E30: 911.44234 | F30: 934.41304 | G30: 923.12659 | H30: 918.29167 | I30: 920.22636 | J30: 931.09685
A31: Міжнародна асоціація розвитку | B31: 283.18043 | C31: 287.05993 | D31: 288.85731 | E31: 291.81545 | F31: 294.61257 | G31: 295.76189 | H31: 298.75878 | I31: 297.99131 | J31: 293.68852
A32: Міжнародний банк реконструкції та розвитку | B32: 698.98623 | C32: 706.14146 | D32: 707.00849 | E32: 714.41402 | F32: 719.3889 | G32: 721.54214 | H32: 791.52521 | I32: 810.13502 | J32: 809.07588
A33: Міжнародний Валютний Фонд | B33: 574.79563 | C33: 578.84228 | D33: 576.98911 | E33: 635.27729 | F33: 639.19517 | G33: 636.53938 | H33: 631.30845 | I33: 655.61588 | J33: 652.22599
A34: Фонд чистих технологій (МБРР) | B34: 4.4185232 | C34: 4.369492 | D34: 4.4205297 | E34: 4.4806253 | F34: 4.5099366 | G34: 4.5286896 | H34: 4.3907687 | I34: 4.2672666 | J34: 4.253794
A35: 2.1. Заборгованість за позиками, одержаними від органів управління іноземних держав (крім неврегульованої від органів управління держави-агресора та/або такої, що оскаржується) | B35: =SUM(B$36:B$45) -> 342.93998 | C35: =SUM(C$36:C$45) -> 351.42368 | D35: =SUM(D$36:D$45) -> 350.39061 | E35: =SUM(E$36:E$45) -> 348.65249 | F35: =SUM(F$36:F$45) -> 356.43267 | G35: =SUM(G$36:G$45) -> 354.92074 | H35: =SUM(H$36:H$45) -> 352.46536 | I35: =SUM(I$36:I$45) -> 354.93523 | J35: =SUM(J$36:J$45) -> 358.82974
A36: Великобританія | B36: 1.0879674 | C36: 1.12521 | D36: 1.1132123 | E36: 1.1021122 | F36: 1.1322063 | G36: 1.1286653 | H36: 1.1285075 | I36: 1.1375804 | J36: 1.1509588
A37: Італія | B37: 9.9713 | C37: 10.24846 | D37: 10.20488 | E37: 10.06246 | F37: 10.31606 | G37: 10.28726 | H37: 10.23338 | I37: 10.25494 | J37: 10.37608
A38: Канада | B38: 225.41874 | C38: 230.6763 | D38: 230.20135 | E38: 229.55796 | F38: 234.841 | G38: 233.12087 | H38: 230.73405 | I38: 232.34197 | J38: 234.62137
A39: Нідерланди | B39: 9.9713 | C39: 10.24846 | D39: 10.20488 | E39: 10.06246 | F39: 10.31606 | G39: 10.28726 | H39: 10.23338 | I39: 10.25494 | J39: 10.37608
A40: Німеччина | B40: 28.228916 | C40: 29.01356 | D40: 28.942409 | E40: 28.538487 | F40: 29.25773 | G40: 29.208802 | H40: 29.05582 | I40: 29.127098 | J40: 29.509837
A41: Польща | B41: 5.587075 | C41: 5.742372 | D41: 5.7179535 | E41: 5.6259962 | F41: 5.9601243 | G41: 5.9458789 | H41: 6.1703669 | I41: 6.2279984 | J41: 6.3015688
A42: Республіка Корея | B42: 4.23878 | C42: 4.28483 | D42: 4.32081 | E42: 4.37955 | F42: 4.4082 | G42: 4.42653 | H42: 4.48478 | I42: 4.46916 | J42: 4.45505
...

Sheet MKT2_FCUR
A2: =IF(REPORT_LANG="UKR","Державний та гарантований державою борг України за поточний рік","State debt and State guaranteed debt of Ukraine for the current year") -> Державний та гарантований державою борг України за поточний рік
J4: =VALUSD -> млрд. дол. США
B5: 46022 | C5: 46053 | D5: 46081 | E5: 46112 | F5: 46142 | G5: 46173 | H5: 46203 | I5: 46234 | J5: 46265
A6: =IF(REPORT_LANG="UKR","Загальна сума державного та гарантованого державою боргу","Total amount of state debt and state guaranteed debt") -> Загальна сума державного та гарантованого державою боргу | B6: =B$7+B$62 -> 213.33207 | C6: =C$7+C$62 -> 215.00503 | D6: =D$7+D$62 -> 213.1821 | E6: =E$7+E$62 -> 210.82138 | F6: =F$7+F$62 -> 212.00287 | G6: =G$7+G$62 -> 210.47803 | H6: =H$7+H$62 -> 211.6241 | I6: =I$7+I$62 -> 214.18901 | J6: =J$7+J$62 -> 215.55074
A7: Державний борг | B7: =B$8+B$23 -> 206.80465 | C7: =C$8+C$23 -> 208.49739 | D7: =D$8+D$23 -> 206.92052 | E7: =E$8+E$23 -> 204.88558 | F7: =F$8+F$23 -> 206.11927 | G7: =G$8+G$23 -> 204.58059 | H7: =H$8+H$23 -> 205.78027 | I7: =I$8+I$23 -> 208.34991 | J7: =J$8+J$23 -> 209.76377
A8: Внутрішній борг | B8: =B$9+B$21 -> 46.409759 | C8: =C$9+C$21 -> 46.504743 | D8: =D$9+D$21 -> 46.510189 | E8: =E$9+E$21 -> 45.983924 | F8: =F$9+F$21 -> 45.454581 | G8: =G$9+G$21 -> 44.931248 | H8: =H$9+H$21 -> 44.138618 | I8: =I$9+I$21 -> 44.999557 | J8: =J$9+J$21 -> 44.968409
A9: 1. Заборгованість за випущеними цінними паперами на внутрішньому ринку | B9: =SUM(B$10:B$20) -> 46.378559 | C9: =SUM(C$10:C$20) -> 46.473877 | D9: =SUM(D$10:D$20) -> 46.479581 | E9: =SUM(E$10:E$20) -> 45.954482 | F9: =SUM(F$10:F$20) -> 45.42533 | G9: =SUM(G$10:G$20) -> 44.902118 | H9: =SUM(H$10:H$20) -> 44.110603 | I9: =SUM(I$10:I$20) -> 44.971444 | J9: =SUM(J$10:J$20) -> 44.940208
A10: ОВДП 2014 | B10: 0.1002647 | C10: 0.099187132 | D10: 0.098361187 | E10: 0.097041934 | F10: 0.096411234 | G10: 0.096012 | H10: 0.094764961 | I10: 0.09509617 | J10: 0.095397358
A11: ОВДП 2015 | B11: 0.56384148 | C11: 0.55778176 | D11: 0.55313703 | E11: 0.48863468 | F11: 0.42874643 | G11: 0.38856621 | H11: 0.33892409 | I11: 0.34010866 | J11: 0.34118585
A12: ОВДП 2016 | B12: 2.6012201 | C12: 2.4958049 | D12: 2.475022 | E12: 2.4418262 | F12: 2.4259561 | G12: 2.4159104 | H12: 2.3845316 | I12: 2.3928657 | J12: 2.4004444
A13: ОВДП 2017 | B13: 6.7299296 | C13: 6.6576015 | D13: 6.6021627 | E13: 6.5136123 | F13: 6.4712787 | G13: 6.4444815 | H13: 6.3607782 | I13: 6.3830095 | J13: 6.4032257
A14: ОВДП 2020 | B14: 0.25278302 | C14: 0.2500663 | D14: 0.24798397 | E14: 0.24465792 | F14: 0.24306783 | G14: 0.2420613 | H14: 0.23891732 | I14: 0.23975235 | J14: 0.24051169
A15: ОВДП 2021 | B15: 0.92398782 | C15: 0.91405752 | D15: 0.90644604 | E15: 0.89428848 | F15: 0.88847627 | G15: 0.63745469 | H15: 0.62917519 | I15: 0.6313742 | J15: 0.63337388
A16: ОВДП 2022 | B16: 10.147578 | C16: 10.03852 | D16: 9.9549274 | E16: 9.8214086 | F16: 9.7575768 | G16: 9.7144479 | H16: 9.588273 | I16: 9.6217847 | J16: 9.6522587
A17: ОВДП 2023 | B17: 2.2461923 | C17: 1.8386378 | D17: 1.7418457 | E17: 1.7184835 | F17: 1.7073146 | G17: 1.7002447 | H17: 1.3263089 | I17: 1.2368003 | J17: 0.92890681
A18: ОВДП 2024 | B18: 9.0040548 | C18: 8.4764435 | D18: 7.838144 | E18: 7.2988209 | F18: 6.8820118 | G18: 6.4388204 | H18: 6.1163709 | I18: 5.8210561 | J18: 5.7062648
A19: ОВДП 2025 | B19: 13.808707 | C19: 13.711339 | D19: 13.151265 | E19: 12.988734 | F19: 12.518425 | G19: 12.472018 | H19: 11.884915 | I19: 11.498412 | J19: 11.065807
A20: ОВДП 2026 | B20: 0 | C20: 1.4344385 | D20: 2.9102863 | E20: 3.4469737 | F20: 4.0060648 | G20: 4.3521005 | H20: 5.1476444 | I20: 6.7111848 | J20: 7.4728319
A21: 2. Заборгованість перед банківськими та іншими фінансовими установами | B21: =SUM(B$22:B$22) -> 0.03120061 | C21: =SUM(C$22:C$22) -> 0.03086529 | D21: =SUM(D$22:D$22) -> 0.030608271 | E21: =SUM(E$22:E$22) -> 0.029442799 | F21: =SUM(F$22:F$22) -> 0.029251443 | G21: =SUM(G$22:G$22) -> 0.029130314 | H21: =SUM(H$22:H$22) -> 0.028014729 | I21: =SUM(I$22:I$22) -> 0.028112642 | J21: =SUM(J$22:J$22) -> 0.02820168
A22: Національний банк України | B22: 0.03120061 | C22: 0.03086529 | D22: 0.030608271 | E22: 0.029442799 | F22: 0.029251443 | G22: 0.029130314 | H22: 0.028014729 | I22: 0.028112642 | J22: 0.02820168
A23: Зовнішній борг | B23: =B$24+B$35+B$46+B$48+B$55+B$58+B$60 -> 160.39489 | C23: =C$24+C$35+C$46+C$48+C$55+C$58+C$60 -> 161.99265 | D23: =D$24+D$35+D$46+D$48+D$55+D$58+D$60 -> 160.41033 | E23: =E$24+E$35+E$46+E$48+E$55+E$58+E$60 -> 158.90165 | F23: =F$24+F$35+F$46+F$48+F$55+F$58+F$60 -> 160.66469 | G23: =G$24+G$35+G$46+G$48+G$55+G$58+G$60 -> 159.64934 | H23: =H$24+H$35+H$46+H$48+H$55+H$58+H$60 -> 161.64165 | I23: =I$24+I$35+I$46+I$48+I$55+I$58+I$60 -> 163.35036 | J23: =J$24+J$35+J$46+J$48+J$55+J$58+J$60 -> 164.79536
A24: 1. Заборгованість за позиками, одержаними від міжнародних фінансових організацій | B24: =SUM(B$25:B$34) -> 123.48506 | C24: =SUM(C$25:C$34) -> 124.89167 | D24: =SUM(D$25:D$34) -> 123.48687 | E24: =SUM(E$25:E$34) -> 122.19948 | F24: =SUM(F$25:F$34) -> 123.72716 | G24: =SUM(G$25:G$34) -> 122.74728 | H24: =SUM(H$25:H$34) -> 125.00699 | I24: =SUM(I$25:I$34) -> 126.59149 | J24: =SUM(J$25:J$34) -> 127.84684
A25: NEFCO | B25: 0.011468928 | C25: 0.01166103 | D25: 0.011514753 | E25: 0.010501658 | F25: 0.010696354 | G25: 0.010622323 | H25: 0.010429444 | I25: 0.010487945 | J25: 0.010645447
A26: Банк розвитку Ради Європи | B26: 0.53948969 | C26: 0.54852605 | D26: 0.5416453 | E26: 0.52692272 | F26: 0.53669162 | G26: 0.56202711 | H26: 0.55182188 | I26: 0.5549172 | J26: 0.59643975
A27: Європейський банк реконструкції та розвитку | B27: 0.063044279 | C27: 0.064401691 | D27: 0.063903143 | E27: 0.063017185 | F27: 0.062880084 | G27: 0.063351856 | H27: 0.061272596 | I27: 0.065477238 | J27: 0.066460539
A28: Європейський Інвестиційний Банк | B28: 3.3614525 | C28: 3.4177563 | D28: 3.3613226 | E28: 3.2673921 | F28: 3.3251325 | G28: 3.2250692 | H28: 3.1680697 | I28: 3.2062793 | J28: 3.2410563
A29: Європейський Союз | B29: 61.366317 | C29: 62.394193 | D29: 61.611515 | E29: 59.936839 | F29: 60.989535 | G29: 60.567418 | H29: 62.254317 | I29: 62.603517 | J29: 63.543662
A30: Європейський Союз ERA* | B30: 21.307669 | C30: 21.664569 | D30: 21.392807 | E30: 20.811324 | F30: 21.197156 | G30: 20.854407 | H30: 20.475735 | I30: 20.590589 | J30: 20.899807
A31: Міжнародна асоціація розвитку | B31: 6.6807061 | C31: 6.6994475 | D31: 6.6852583 | E31: 6.6631378 | F31: 6.683285 | G31: 6.6815742 | H31: 6.6616151 | I31: 6.6677252 | J31: 6.5922608
A32: Міжнародний банк реконструкції та розвитку | B32: 16.490269 | C32: 16.480034 | D32: 16.362869 | E32: 16.312498 | F32: 16.319334 | G32: 16.300401 | H32: 17.649142 | I32: 18.127232 | J32: 18.160871
A33: Міжнародний Валютний Фонд | B33: 13.560403 | C33: 13.509107 | D33: 13.353726 | E33: 14.505538 | F33: 14.50014 | G33: 14.380099 | H33: 14.076687 | I33: 14.669779 | J33: 14.64015
A34: Фонд чистих технологій (МБРР) | B34: 0.10424045 | C34: 0.10197585 | D34: 0.10230789 | E34: 0.10230789 | F34: 0.10230789 | G34: 0.10230789 | H34: 0.097903769 | I34: 0.095482519 | J34: 0.095482519
A35: 2.1. Заборгованість за позиками, одержаними від органів управління іноземних держав (крім неврегульованої від органів управління держави-агресора та/або такої, що оскаржується) | B35: =SUM(B$36:B$45) -> 8.0905349 | C35: =SUM(C$36:C$45) -> 8.2015782 | D35: =SUM(D$36:D$45) -> 8.1093732 | E35: =SUM(E$36:E$45) -> 7.9609204 | F35: =SUM(F$36:F$45) -> 8.0856737 | G35: =SUM(G$36:G$45) -> 8.0180353 | H35: =SUM(H$36:H$45) -> 7.8591449 | I35: =SUM(I$36:I$45) -> 7.9418779 | J35: =SUM(J$36:J$45) -> 8.0544492
A36: Великобританія | B36: 0.025666995 | C36: 0.026260318 | D36: 0.025763972 | E36: 0.025164963 | F36: 0.025684095 | G36: 0.025497745 | H36: 0.025163051 | I36: 0.02545401 | J36: 0.025834923
A37: Італія | B37: 0.23523986 | C37: 0.23918008 | D37: 0.23617979 | E37: 0.22976014 | F37: 0.23401978 | G37: 0.2324001 | H37: 0.2281802 | I37: 0.22946012 | J37: 0.23290603
A38: Канада | B38: 5.3180098 | C38: 5.3835577 | D38: 5.327736 | E38: 5.2415878 | F38: 5.3273671 | G38: 5.2664473 | H38: 5.1448244 | I38: 5.198784 | J38: 5.2664139
A39: Нідерланди | B39: 0.23523986 | C39: 0.23918008 | D39: 0.23617979 | E39: 0.22976014 | F39: 0.23401978 | G39: 0.2324001 | H39: 0.2281802 | I39: 0.22946012 | J39: 0.23290603
A40: Німеччина | B40: 0.66596793 | C40: 0.67712278 | D40: 0.66983757 | E40: 0.65163057 | F40: 0.6637115 | G40: 0.65985777 | H40: 0.64787614 | I40: 0.6517354 | J40: 0.66239069
A41: Польща | B41: 0.13180856 | C41: 0.13401633 | D41: 0.13233522 | E41: 0.1284606 | F41: 0.1352054 | G41: 0.1343237 | H41: 0.13758461 | I41: 0.13935501 | J41: 0.14144777
A42: Республіка Корея | B42: 0.1 | C42: 0.1 | D42: 0.1 | E42: 0.1 | F42: 0.1 | G42: 0.1 | H42: 0.1 | I42: 0.1 | J42: 0.1
...

Sheet MKT2_EUR
A2: =IF(REPORT_LANG="UKR","Державний та гарантований державою борг України за поточний рік","State debt and State guaranteed debt of Ukraine for the current year") -> Державний та гарантований державою борг України за поточний рік
J4: =VALEUR -> млрд. євро
B5: 46022 | C5: 46053 | D5: 46081 | E5: 46112 | F5: 46142 | G5: 46173 | H5: 46203 | I5: 46234 | J5: 46265
A6: =IF(REPORT_LANG="UKR","Загальна сума державного та гарантованого державою боргу","Total amount of state debt and state guaranteed debt") -> Загальна сума державного та гарантованого державою боргу | B6: =B$7+B$62 -> 181.37408 | C6: =C$7+C$62 -> 179.78506 | D6: =D$7+D$62 -> 180.52527 | E6: =E$7+E$62 -> 183.51433 | F6: =F$7+F$62 -> 181.18372 | G6: =G$7+G$62 -> 181.1342 | H6: =H$7+H$62 -> 185.48857 | I6: =I$7+I$62 -> 186.68953 | J6: =J$7+J$62 -> 185.09674
A7: Державний борг | B7: =B$8+B$23 -> 175.8245 | C7: =C$8+C$23 -> 174.34344 | D7: =D$8+D$23 -> 175.22289 | E7: =E$8+E$23 -> 178.34737 | F7: =F$8+F$23 -> 176.15543 | G7: =G$8+G$23 -> 176.05895 | H7: =H$8+H$23 -> 180.36646 | I7: =I$8+I$23 -> 181.60011 | J7: =J$8+J$23 -> 180.12738
A8: Внутрішній борг | B8: =B$9+B$21 -> 39.457395 | C8: =C$9+C$21 -> 38.886802 | D8: =D$9+D$21 -> 39.38541 | E8: =E$9+E$21 -> 40.027766 | F8: =F$9+F$21 -> 38.846785 | G8: =G$9+G$21 -> 38.667151 | H8: =H$9+H$21 -> 38.687509 | I8: =I$9+I$21 -> 39.222115 | J8: =J$9+J$21 -> 38.615067
A9: 1. Заборгованість за випущеними цінними паперами на внутрішньому ринку | B9: =SUM(B$10:B$20) -> 39.430868 | C9: =SUM(C$10:C$20) -> 38.860993 | D9: =SUM(D$10:D$20) -> 39.359491 | E9: =SUM(E$10:E$20) -> 40.002137 | F9: =SUM(F$10:F$20) -> 38.821786 | G9: =SUM(G$10:G$20) -> 38.642082 | H9: =SUM(H$10:H$20) -> 38.662954 | I9: =SUM(I$10:I$20) -> 39.197612 | J9: =SUM(J$10:J$20) -> 38.59085
A10: ОВДП 2014 | B10: 0.085244652 | C10: 0.08293929 | D10: 0.083293483 | E10: 0.084472385 | F10: 0.082395798 | G10: 0.082626472 | H10: 0.08306151 | I10: 0.082886882 | J10: 0.081919183
A11: ОВДП 2015 | B11: 0.47937581 | C11: 0.46641154 | D11: 0.46840335 | E11: 0.42534331 | F11: 0.36641896 | G11: 0.33439419 | H11: 0.29706705 | I11: 0.2964425 | J11: 0.29298155
A12: ОВДП 2016 | B12: 2.2115471 | C12: 2.0869672 | D12: 2.0958796 | E12: 2.1255438 | F12: 2.0732915 | G12: 2.0790959 | H12: 2.0900425 | I12: 2.0856484 | J12: 2.0612986
A13: ОВДП 2017 | B13: 5.7217596 | C13: 5.56702 | D13: 5.590794 | E13: 5.6699238 | F13: 5.5305399 | G13: 5.5460231 | H13: 5.5752236 | I13: 5.5635022 | J13: 5.4985487
A14: ОВДП 2020 | B14: 0.21491513 | C14: 0.20910295 | D14: 0.20999592 | E14: 0.21296812 | F14: 0.20773272 | G14: 0.20831428 | H14: 0.20941108 | I14: 0.20897082 | J14: 0.2065311
A15: ОВДП 2021 | B15: 0.78557081 | C15: 0.76432578 | D15: 0.76758984 | E15: 0.778454 | F15: 0.75931724 | G15: 0.54858384 | H15: 0.5514722 | I15: 0.55031279 | J15: 0.54388792
A16: ОВДП 2022 | B16: 8.6274307 | C16: 8.3941099 | D16: 8.429957 | E16: 8.5492713 | F16: 8.3391043 | G16: 8.3601066 | H16: 8.4041236 | I16: 8.3864548 | J16: 8.2885435
A17: ОВДП 2023 | B17: 1.9097039 | C17: 1.5374506 | D17: 1.4750167 | E17: 1.4958935 | F17: 1.4591199 | G17: 1.4632048 | H17: 1.16251 | I17: 1.0780089 | J17: 0.79766661
A18: ОВДП 2024 | B18: 7.655212 | C18: 7.0879175 | D18: 6.6374384 | E18: 6.3534267 | F18: 5.8815641 | G18: 5.5411512 | H18: 5.3610006 | I18: 5.0736973 | J18: 4.9000576
A19: ОВДП 2025 | B19: 11.740108 | C19: 11.465285 | D19: 11.136656 | E19: 11.306342 | F19: 10.698604 | G19: 10.73323 | H19: 10.417131 | I19: 10.022144 | J19: 9.5023789
A20: ОВДП 2026 | B20: 0 | C20: 1.1994632 | D20: 2.4644668 | E20: 3.0004977 | F20: 3.4236976 | G20: 3.7453517 | H20: 4.5119116 | I20: 5.8495435 | J20: 6.417036
A21: 2. Заборгованість перед банківськими та іншими фінансовими установами | B21: =SUM(B$22:B$22) -> 0.026526636 | C21: =SUM(C$22:C$22) -> 0.025809248 | D21: =SUM(D$22:D$22) -> 0.025919466 | E21: =SUM(E$22:E$22) -> 0.025629162 | F21: =SUM(F$22:F$22) -> 0.02499912 | G21: =SUM(G$22:G$22) -> 0.025069107 | H21: =SUM(H$22:H$22) -> 0.024554917 | I21: =SUM(I$22:I$22) -> 0.024503292 | J21: =SUM(J$22:J$22) -> 0.024217218
A22: Національний банк України | B22: 0.026526636 | C22: 0.025809248 | D22: 0.025919466 | E22: 0.025629162 | F22: 0.02499912 | G22: 0.025069107 | H22: 0.024554917 | I22: 0.024503292 | J22: 0.024217218
A23: Зовнішній борг | B23: =B$24+B$35+B$46+B$48+B$55+B$58+B$60 -> 136.3671 | C23: =C$24+C$35+C$46+C$48+C$55+C$58+C$60 -> 135.45663 | D23: =D$24+D$35+D$46+D$48+D$55+D$58+D$60 -> 135.83748 | E23: =E$24+E$35+E$46+E$48+E$55+E$58+E$60 -> 138.3196 | F23: =F$24+F$35+F$46+F$48+F$55+F$58+F$60 -> 137.30864 | G23: =G$24+G$35+G$46+G$48+G$55+G$58+G$60 -> 137.3918 | H23: =H$24+H$35+H$46+H$48+H$55+H$58+H$60 -> 141.67895 | I23: =I$24+I$35+I$46+I$48+I$55+I$58+I$60 -> 142.37799 | J23: =J$24+J$35+J$46+J$48+J$55+J$58+J$60 -> 141.51232
A24: 1. Заборгованість за позиками, одержаними від міжнародних фінансових організацій | B24: =SUM(B$25:B$34) -> 104.98651 | C24: =SUM(C$25:C$34) -> 104.43317 | D24: =SUM(D$25:D$34) -> 104.57022 | E24: =SUM(E$25:E$34) -> 106.37135 | F24: =SUM(F$25:F$34) -> 105.74077 | G24: =SUM(G$25:G$34) -> 105.63445 | H24: =SUM(H$25:H$34) -> 109.56866 | I24: =SUM(I$25:I$34) -> 110.33855 | J24: =SUM(J$25:J$34) -> 109.78405
A25: NEFCO | B25: 0.0097508371 | C25: 0.0097508371 | D25: 0.0097508371 | E25: 0.0091414098 | F25: 0.0091414098 | G25: 0.0091414098 | H25: 0.0091414098 | I25: 0.0091414098 | J25: 0.0091414098
A26: Банк розвитку Ради Європи | B26: 0.45867201 | C26: 0.45867201 | D26: 0.45867201 | E26: 0.45867201 | F26: 0.45867201 | G26: 0.48367201 | H26: 0.48367201 | I26: 0.48367201 | J26: 0.51217201
A27: Європейський банк реконструкції та розвитку | B27: 0.053599998 | C27: 0.053852051 | D27: 0.054113981 | E27: 0.054854759 | F27: 0.053739119 | G27: 0.054519647 | H27: 0.053705445 | I27: 0.05707069 | J27: 0.05707069
A28: Європейський Інвестиційний Банк | B28: 2.8578937 | C28: 2.8578937 | D28: 2.8464101 | E28: 2.8441767 | F28: 2.8417534 | G28: 2.7754456 | H28: 2.7768139 | I28: 2.7946288 | J28: 2.7831451
A29: Європейський Союз | B29: 52.173401 | C29: 52.173401 | D29: 52.173401 | E29: 52.173401 | F29: 52.123401 | G29: 52.123401 | H29: 54.565923 | I29: 54.565923 | J29: 54.565923
A30: Європейський Союз ERA* | B30: 18.115696 | C30: 18.115696 | D30: 18.115696 | E30: 18.115696 | F30: 18.115696 | G30: 17.946987 | H30: 17.946987 | I30: 17.946987 | J30: 17.946987
A31: Міжнародна асоціація розвитку | B31: 5.67991 | C31: 5.6020111 | D31: 5.6611603 | E31: 5.8000817 | F31: 5.7117266 | G31: 5.7500615 | H31: 5.8389072 | I31: 5.8116636 | J31: 5.6608761
A32: Міжнародний банк реконструкції та розвитку | B32: 14.019962 | C32: 13.78044 | D32: 13.856282 | E32: 14.19959 | F32: 13.94697 | G32: 14.027878 | H32: 15.469478 | I32: 15.799898 | J32: 15.59502
A33: Міжнародний Валютний Фонд | B33: 11.529001 | C33: 11.296181 | D33: 11.308102 | E33: 12.62668 | F33: 12.392234 | G33: 12.375295 | H33: 12.33822 | I33: 12.786343 | J33: 12.571722
A34: Фонд чистих технологій (МБРР) | B34: 0.088624817 | C34: 0.085271192 | D34: 0.086635603 | E34: 0.089056261 | F34: 0.087435252 | G34: 0.088044622 | H34: 0.085812677 | I34: 0.083223628 | J34: 0.081992312
A35: 2.1. Заборгованість за позиками, одержаними від органів управління іноземних держав (крім неврегульованої від органів управління держави-агресора та/або такої, що оскаржується) | B35: =SUM(B$36:B$45) -> 6.8785409 | C35: =SUM(C$36:C$45) -> 6.8580778 | D35: =SUM(D$36:D$45) -> 6.8671187 | E35: =SUM(E$36:E$45) -> 6.9297665 | F35: =SUM(F$36:F$45) -> 6.9102481 | G35: =SUM(G$36:G$45) -> 6.9001996 | H35: =SUM(H$36:H$45) -> 6.8885424 | I35: =SUM(I$36:I$45) -> 6.9222293 | J35: =SUM(J$36:J$45) -> 6.9164798
A36: Великобританія | B36: 0.021821978 | C36: 0.021958616 | D36: 0.021817254 | E36: 0.021905422 | F36: 0.021950362 | G36: 0.021942973 | H36: 0.022055421 | I36: 0.022185999 | J36: 0.022184847
A37: Італія | B37: 0.2 | C37: 0.2 | D37: 0.2 | E37: 0.2 | F37: 0.2 | G37: 0.2 | H37: 0.2 | I37: 0.2 | J37: 0.2
A38: Канада | B38: 4.521351 | C38: 4.5016773 | D38: 4.5115935 | E38: 4.5626608 | F38: 4.5529203 | G38: 4.5322247 | H38: 4.5094398 | I38: 4.531318 | J38: 4.5223509
A39: Нідерланди | B39: 0.2 | C39: 0.2 | D39: 0.2 | E39: 0.2 | F39: 0.2 | G39: 0.2 | H39: 0.2 | I39: 0.2 | J39: 0.2
A40: Німеччина | B40: 0.56620332 | C40: 0.56620332 | D40: 0.56722683 | E40: 0.56722683 | F40: 0.56722683 | G40: 0.56786359 | H40: 0.56786359 | I40: 0.56805984 | J40: 0.56880511
A41: Польща | B41: 0.11206312 | C41: 0.11206312 | D41: 0.11206312 | E41: 0.11182149 | F41: 0.1155504 | G41: 0.11559694 | H41: 0.12059294 | I41: 0.12146338 | J41: 0.12146338
A42: Республіка Корея | B42: 0.085019606 | C42: 0.083619002 | D42: 0.084681251 | E42: 0.087047303 | F42: 0.085462861 | G42: 0.086058484 | H42: 0.087650024 | I42: 0.087161115 | J42: 0.085871543
...

Sheet MT_ALL
A2: =DEBT_AS_OF_CURR_YEAR -> Державний та гарантований державою борг України за поточний рік
A4: =$A$2 & " (" &J4 & ")" -> Державний та гарантований державою борг України за поточний рік (млрд. грн) | J4: =VALUAH -> млрд. грн
B5: 46022 | C5: 46053 | D5: 46081 | E5: 46112 | F5: 46142 | G5: 46173 | H5: 46203 | I5: 46234 | J5: 46265
A6: =DEBT_TOTAL -> Загальна сума державного та гарантованого державою боргу | B6: =SUM(B7:B8) -> 9042.677 | C6: =SUM(C7:C8) -> 9212.5998 | D6: =SUM(D7:D8) -> 9211.1934 | E6: =SUM(E7:E8) -> 9233.0279 | F6: =SUM(F7:F8) -> 9345.5105 | G6: =SUM(G7:G8) -> 9316.873 | H6: =SUM(H7:H8) -> 9490.8753 | I6: =SUM(I7:I8) -> 9572.4498 | J6: =SUM(J7:J8) -> 9602.8931
A7: Внутрішній борг | B7: 2031.502 | C7: 2055.3735 | D7: 2072.3018 | E7: 2077.0597 | F7: 2068.3419 | G7: 2053.6188 | H7: 2044.2039 | I7: 2074.6809 | J7: 2065.1785
A8: Зовнішній борг | B8: 7011.175 | C8: 7157.2263 | D8: 7138.8916 | E8: 7155.9682 | F8: 7277.1686 | G8: 7263.2543 | H8: 7446.6714 | I8: 7497.7688 | J8: 7537.7145
A10: =$A$2 & " (" &J10 & ")" -> Державний та гарантований державою борг України за поточний рік (млрд. дол. США) | J10: =VALUSD -> млрд. дол. США
B11: 46022 | C11: 46053 | D11: 46081 | E11: 46112 | F11: 46142 | G11: 46173 | H11: 46203 | I11: 46234 | J11: 46265
A12: =DEBT_TOTAL -> Загальна сума державного та гарантованого державою боргу | B12: =SUM(B13:B14) -> 213.33207 | C12: =SUM(C13:C14) -> 215.00503 | D12: =SUM(D13:D14) -> 213.1821 | E12: =SUM(E13:E14) -> 210.82138 | F12: =SUM(F13:F14) -> 212.00287 | G12: =SUM(G13:G14) -> 210.47803 | H12: =SUM(H13:H14) -> 211.6241 | I12: =SUM(I13:I14) -> 214.18901 | J12: =SUM(J13:J14) -> 215.55074
A13: Внутрішній борг | B13: 47.926573 | C13: 47.968613 | D13: 47.960956 | E13: 47.426327 | F13: 46.920328 | G13: 46.393422 | H13: 45.580918 | I13: 46.422168 | J13: 46.3559
A14: Зовнішній борг | B14: 165.40549 | C14: 167.03641 | D14: 165.22114 | E14: 163.39506 | F14: 165.08254 | G14: 164.08461 | H14: 166.04318 | I14: 167.76685 | J14: 169.19484
J16: %%
B17: 46022 | C17: 46053 | D17: 46081 | E17: 46112 | F17: 46142 | G17: 46173 | H17: 46203 | I17: 46234 | J17: 46265
A18: =DEBT_TOTAL -> Загальна сума державного та гарантованого державою боргу | B18: =SUM(B19:B20) -> 1 | C18: =SUM(C19:C20) -> 1 | D18: =SUM(D19:D20) -> 1 | E18: =SUM(E19:E20) -> 1 | F18: =SUM(F19:F20) -> 1 | G18: =SUM(G19:G20) -> 1 | H18: =SUM(H19:H20) -> 1 | I18: =SUM(I19:I20) -> 1 | J18: =SUM(J19:J20) -> 1
A19: Внутрішній борг | B19: 0.224657 | C19: 0.223105 | D19: 0.224976 | E19: 0.22496 | F19: 0.221319 | G19: 0.220419 | H19: 0.215386 | I19: 0.216735 | J19: 0.215058
A20: Зовнішній борг | B20: 0.775343 | C20: 0.776895 | D20: 0.775024 | E20: 0.77504 | F20: 0.778681 | G20: 0.779581 | H20: 0.784614 | I20: 0.783265 | J20: 0.784942

Sheet MTM_ALL
A2: =DEBT_AS_OF_CURR_YEAR -> Державний та гарантований державою борг України за поточний рік
J4: =VALUAH -> млрд. грн
B5: =MT_ALL!B5 -> 46022 | C5: =MT_ALL!C5 -> 46053 | D5: =MT_ALL!D5 -> 46081 | E5: =MT_ALL!E5 -> 46112 | F5: =MT_ALL!F5 -> 46142 | G5: =MT_ALL!G5 -> 46173 | H5: =MT_ALL!H5 -> 46203 | I5: =MT_ALL!I5 -> 46234 | J5: =MT_ALL!J5 -> 46265
A6: =MT_ALL!A6 -> Загальна сума державного та гарантованого державою боргу | B6: =SUM(B7:B8) -> 9042.677 | C6: =SUM(C7:C8) -> 9212.5998 | D6: =SUM(D7:D8) -> 9211.1934 | E6: =SUM(E7:E8) -> 9233.0279 | F6: =SUM(F7:F8) -> 9345.5105 | G6: =SUM(G7:G8) -> 9316.873 | H6: =SUM(H7:H8) -> 9490.8753 | I6: =SUM(I7:I8) -> 9572.4498 | J6: =SUM(J7:J8) -> 9602.8931
A7: =MT_ALL!A7 -> Внутрішній борг | B7: =MT_ALL!B7/DMLMLR -> 2031.502 | C7: =MT_ALL!C7/DMLMLR -> 2055.3735 | D7: =MT_ALL!D7/DMLMLR -> 2072.3018 | E7: =MT_ALL!E7/DMLMLR -> 2077.0597 | F7: =MT_ALL!F7/DMLMLR -> 2068.3419 | G7: =MT_ALL!G7/DMLMLR -> 2053.6188 | H7: =MT_ALL!H7/DMLMLR -> 2044.2039 | I7: =MT_ALL!I7/DMLMLR -> 2074.6809 | J7: =MT_ALL!J7/DMLMLR -> 2065.1785
A8: =MT_ALL!A8 -> Зовнішній борг | B8: =MT_ALL!B8/DMLMLR -> 7011.175 | C8: =MT_ALL!C8/DMLMLR -> 7157.2263 | D8: =MT_ALL!D8/DMLMLR -> 7138.8916 | E8: =MT_ALL!E8/DMLMLR -> 7155.9682 | F8: =MT_ALL!F8/DMLMLR -> 7277.1686 | G8: =MT_ALL!G8/DMLMLR -> 7263.2543 | H8: =MT_ALL!H8/DMLMLR -> 7446.6714 | I8: =MT_ALL!I8/DMLMLR -> 7497.7688 | J8: =MT_ALL!J8/DMLMLR -> 7537.7145
J10: =VALUSD -> млрд. дол. США
B11: =MT_ALL!B11 -> 46022 | C11: =MT_ALL!C11 -> 46053 | D11: =MT_ALL!D11 -> 46081 | E11: =MT_ALL!E11 -> 46112 | F11: =MT_ALL!F11 -> 46142 | G11: =MT_ALL!G11 -> 46173 | H11: =MT_ALL!H11 -> 46203 | I11: =MT_ALL!I11 -> 46234 | J11: =MT_ALL!J11 -> 46265
A12: =MT_ALL!A12 -> Загальна сума державного та гарантованого державою боргу | B12: =SUM(B13:B14) -> 213.33207 | C12: =SUM(C13:C14) -> 215.00503 | D12: =SUM(D13:D14) -> 213.1821 | E12: =SUM(E13:E14) -> 210.82138 | F12: =SUM(F13:F14) -> 212.00287 | G12: =SUM(G13:G14) -> 210.47803 | H12: =SUM(H13:H14) -> 211.6241 | I12: =SUM(I13:I14) -> 214.18901 | J12: =SUM(J13:J14) -> 215.55074
A13: =MT_ALL!A13 -> Внутрішній борг | B13: =MT_ALL!B13/DMLMLR -> 47.926573 | C13: =MT_ALL!C13/DMLMLR -> 47.968613 | D13: =MT_ALL!D13/DMLMLR -> 47.960956 | E13: =MT_ALL!E13/DMLMLR -> 47.426327 | F13: =MT_ALL!F13/DMLMLR -> 46.920328 | G13: =MT_ALL!G13/DMLMLR -> 46.393422 | H13: =MT_ALL!H13/DMLMLR -> 45.580918 | I13: =MT_ALL!I13/DMLMLR -> 46.422168 | J13: =MT_ALL!J13/DMLMLR -> 46.3559
A14: =MT_ALL!A14 -> Зовнішній борг | B14: =MT_ALL!B14/DMLMLR -> 165.40549 | C14: =MT_ALL!C14/DMLMLR -> 167.03641 | D14: =MT_ALL!D14/DMLMLR -> 165.22114 | E14: =MT_ALL!E14/DMLMLR -> 163.39506 | F14: =MT_ALL!F14/DMLMLR -> 165.08254 | G14: =MT_ALL!G14/DMLMLR -> 164.08461 | H14: =MT_ALL!H14/DMLMLR -> 166.04318 | I14: =MT_ALL!I14/DMLMLR -> 167.76685 | J14: =MT_ALL!J14/DMLMLR -> 169.19484
J16: %%
B17: =MT_ALL!B17 -> 46022 | C17: =MT_ALL!C17 -> 46053 | D17: =MT_ALL!D17 -> 46081 | E17: =MT_ALL!E17 -> 46112 | F17: =MT_ALL!F17 -> 46142 | G17: =MT_ALL!G17 -> 46173 | H17: =MT_ALL!H17 -> 46203 | I17: =MT_ALL!I17 -> 46234 | J17: =MT_ALL!J17 -> 46265
A18: =MT_ALL!A18 -> Загальна сума державного та гарантованого державою боргу | B18: =SUM(B19:B20) -> 1 | C18: =SUM(C19:C20) -> 1 | D18: =SUM(D19:D20) -> 1 | E18: =SUM(E19:E20) -> 1 | F18: =SUM(F19:F20) -> 1 | G18: =SUM(G19:G20) -> 1 | H18: =SUM(H19:H20) -> 1 | I18: =SUM(I19:I20) -> 1 | J18: =SUM(J19:J20) -> 1
A19: =MT_ALL!A19 -> Внутрішній борг | B19: =MT_ALL!B19 -> 0.224657 | C19: =MT_ALL!C19 -> 0.223105 | D19: =MT_ALL!D19 -> 0.224976 | E19: =MT_ALL!E19 -> 0.22496 | F19: =MT_ALL!F19 -> 0.221319 | G19: =MT_ALL!G19 -> 0.220419 | H19: =MT_ALL!H19 -> 0.215386 | ... J19: =MT_ALL!J19 -> 0.215058
A20: =MT_ALL!A20 -> Зовнішній борг | B20: =MT_ALL!B20 -> 0.775343 | C20: =MT_ALL!C20 -> 0.776895 | D20: =MT_ALL!D20 -> 0.775024 | E20: =MT_ALL!E20 -> 0.77504 | F20: =MT_ALL!F20 -> 0.778681 | G20: =MT_ALL!G20 -> 0.779581 | H20: =MT_ALL!H20 -> 0.784614 | ... J20: =MT_ALL!J20 -> 0.784942

Sheet MK_ALL
A2: =DEBT_AS_OF_CURR_YEAR -> Державний та гарантований державою борг України за поточний рік
A4: =$A$2 & " (" &J4 & ")" -> Державний та гарантований державою борг України за поточний рік (млрд. грн) | J4: =VALUAH -> млрд. грн
B5: 46022 | C5: 46053 | D5: 46081 | E5: 46112 | F5: 46142 | G5: 46173 | H5: 46203 | I5: 46234 | J5: 46265
A6: =DEBT_TOTAL -> Загальна сума державного та гарантованого державою боргу | B6: =SUM(B7:B8) -> 9042.677 | C6: =SUM(C7:C8) -> 9212.5998 | D6: =SUM(D7:D8) -> 9211.1934 | E6: =SUM(E7:E8) -> 9233.0279 | F6: =SUM(F7:F8) -> 9345.5105 | G6: =SUM(G7:G8) -> 9316.873 | H6: =SUM(H7:H8) -> 9490.8753 | I6: =SUM(I7:I8) -> 9572.4498 | J6: =SUM(J7:J8) -> 9602.8931
A7: Державний борг | B7: 8765.994 | C7: 8933.7586 | D7: 8940.6426 | E7: 8973.0664 | F7: 9086.1498 | G7: 9055.8212 | H7: 9228.7925 | I7: 9311.491 | J7: 9345.0807
A8: Гарантований державою борг | B8: 276.683 | C8: 278.8412 | D8: 270.55078 | E8: 259.96151 | F8: 259.3607 | G8: 261.05182 | H8: 262.08279 | I8: 260.95876 | J8: 257.81239
A10: =$A$2 & " (" &J10 & ")" -> Державний та гарантований державою борг України за поточний рік (млрд. дол. США) | J10: =VALUSD -> млрд. дол. США
B11: 46022 | C11: 46053 | D11: 46081 | E11: 46112 | F11: 46142 | G11: 46173 | H11: 46203 | I11: 46234 | J11: 46265
A12: =DEBT_TOTAL -> Загальна сума державного та гарантованого державою боргу | B12: =SUM(B13:B14) -> 213.33207 | C12: =SUM(C13:C14) -> 215.00503 | D12: =SUM(D13:D14) -> 213.1821 | E12: =SUM(E13:E14) -> 210.82138 | F12: =SUM(F13:F14) -> 212.00287 | G12: =SUM(G13:G14) -> 210.47803 | H12: =SUM(H13:H14) -> 211.6241 | I12: =SUM(I13:I14) -> 214.18901 | J12: =SUM(J13:J14) -> 215.55074
A13: Державний борг | B13: 206.80465 | C13: 208.49739 | D13: 206.92052 | E13: 204.88558 | F13: 206.11927 | G13: 204.58059 | H13: 205.78027 | I13: 208.34991 | J13: 209.76377
A14: Гарантований державою борг | B14: 6.5274207 | C14: 6.5076373 | D14: 6.2615755 | E14: 5.935804 | F14: 5.8835965 | G14: 5.8974371 | H14: 5.8438271 | I14: 5.8391009 | J14: 5.7869696
J16: %%
B17: 46022 | C17: 46053 | D17: 46081 | E17: 46112 | F17: 46142 | G17: 46173 | H17: 46203 | I17: 46234 | J17: 46265
A18: =DEBT_TOTAL -> Загальна сума державного та гарантованого державою боргу | B18: =SUM(B19:B20) -> 1 | C18: =SUM(C19:C20) -> 1 | D18: =SUM(D19:D20) -> 1 | E18: =SUM(E19:E20) -> 1 | F18: =SUM(F19:F20) -> 1 | G18: =SUM(G19:G20) -> 1 | H18: =SUM(H19:H20) -> 1 | I18: =SUM(I19:I20) -> 1 | J18: =SUM(J19:J20) -> 1
A19: Державний борг | B19: 0.969403 | C19: 0.969733 | D19: 0.970628 | E19: 0.971844 | F19: 0.972248 | G19: 0.971981 | H19: 0.972386 | I19: 0.972739 | J19: 0.973153
A20: Гарантований державою борг | B20: 0.030597 | C20: 0.030267 | D20: 0.029372 | E20: 0.028156 | F20: 0.027752 | G20: 0.028019 | H20: 0.027614 | I20: 0.027261 | J20: 0.026847

Sheet SRATE_M
A2: =DEBT_AS_OF_DATE&" "&BY_INTEREST_RATE -> Державний та гарантований державою борг України станом на 31.08.2026 (за видами відсоткових ставок)
E4: =VALVAL -> млрд. одиниць
B5: =USD -> дол. США | C5: =EUR -> євро | D5: =UAH -> грн. | E5: %
A6: =DEBT_TOTAL -> Загальна сума державного та гарантованого державою боргу | B6: =SUM(B$7+ B$8) -> 215.55074 | C6: =SUM(C$7+ C$8) -> 185.09674 | D6: =SUM(D$7+ D$8) -> 9602.8931 | E6: =SUM(E$7+ E$8) -> 1
A7: Борг, по якому сплата відсотків здійснюється за плаваючими процентними ставками | B7: 61.752006 | C7: 53.027401 | D7: 2751.0828 | E7: 0.286485
A8: Борг, по якому сплата відсотків здійснюється за фіксованими процентними ставками | B8: 153.79873 | C8: 132.06934 | D8: 6851.8103 | E8: 0.713515

Sheet SRATE
A2: =DEBT_AS_OF_DATE -> Державний та гарантований державою борг України станом на 31.08.2026
A3: =BY_INTEREST_RATE -> (за видами відсоткових ставок)
E5: =VALVAL -> млрд. одиниць
B6: =USD -> дол. США | C6: =EUR -> євро | D6: =UAH -> грн. | E6: %
A7: =DEBT_TOTAL -> Загальна сума державного та гарантованого державою боргу | B7: =SUM(B$8+ B$9) -> 215.55074 | C7: =SUM(C$8+ C$9) -> 185.09674 | D7: =SUM(D$8+ D$9) -> 9602.8931 | E7: =SUM(E$8+ E$9) -> 1
A8: =SRATE_M!A7 -> Борг, по якому сплата відсотків здійснюється за плаваючими процентними ставками | B8: =SRATE_M!B7 -> 61.752006 | C8: =SRATE_M!C7 -> 53.027401 | D8: =SRATE_M!D7 -> 2751.0828 | E8: =SRATE_M!E7 -> 0.286485
A9: =SRATE_M!A8 -> Борг, по якому сплата відсотків здійснюється за фіксованими процентними ставками | B9: =SRATE_M!B8 -> 153.79873 | C9: =SRATE_M!C8 -> 132.06934 | D9: =SRATE_M!D8 -> 6851.8103 | E9: =SRATE_M!E8 -> 0.713515
A11: =INCLUDING -> В тому числі:
E12: =VALVAL -> млрд. одиниць
B13: =USD -> дол. США | C13: =EUR -> євро | D13: =UAH -> грн. | E13: %
A14: =DEBT_TOTAL -> Загальна сума державного та гарантованого державою боргу | B14: =B$15+B$18 -> 215.55074 | C14: =C$15+C$18 -> 185.09674 | D14: =D$15+D$18 -> 9602.8931 | E14: =E$15+E$18 -> 0.999999
A15: Державний борг | B15: =SUM(B$16:B$17) -> 209.76377 | C15: =SUM(C$16:C$17) -> 180.12738 | D15: =SUM(D$16:D$17) -> 9345.0807 | E15: =SUM(E$16:E$17) -> 0.973152
A16: Борг, по якому сплата відсотків здійснюється за плаваючими процентними ставками | B16: 58.261091 | C16: 50.029698 | D16: 2595.5607 | E16: 0.270289
A17: Борг, по якому сплата відсотків здійснюється за фіксованими процентними ставками | B17: 151.50268 | C17: 130.09769 | D17: 6749.5199 | E17: 0.702863
A18: Гарантований державою борг | B18: =SUM(B$19:B$20) -> 5.7869696 | C18: =SUM(C$19:C$20) -> 4.9693601 | D18: =SUM(D$19:D$20) -> 257.81239 | E18: =SUM(E$19:E$20) -> 0.026847
A19: Борг, по якому сплата відсотків здійснюється за плаваючими процентними ставками | B19: 3.4909156 | C19: 2.9977031 | D19: 155.52204 | E19: 0.016195
A20: Борг, по якому сплата відсотків здійснюється за фіксованими процентними ставками | B20: 2.2960539 | C20: 1.971657 | D20: 102.29035 | E20: 0.010652

Sheet RATE_M
A2: =IF(REPORT_LANG="UKR","Державний та гарантований державою борг України за станом на ","State debt and State guaranteed debt of Ukraine as of ") & STRPRESENTDATE -> Державний та гарантований державою борг України за станом на 31.08.2026
A3: =IF(REPORT_LANG="UKR","(за видами відсоткових ставок)","by interest rate types") -> (за видами відсоткових ставок)
E5: =VALVAL -> млрд. одиниць
B6: =USD -> дол. США | C6: =EUR -> євро | D6: =UAH -> грн. | E6: %
A7: =IF(REPORT_LANG="UKR","Загальна сума державного та гарантованого державою боргу","Total amount of state debt and state guaranteed debt") -> Загальна сума державного та гарантованого державою боргу | B7: =SUM(B8:B19) -> 215.55074 | C7: =SUM(C8:C19) -> 185.09674 | D7: =SUM(D8:D19) -> 9602.8931 | E7: =SUM(E8:E19) -> 1.000001
A8: EURIBOR | B8: 7.919038 | C8: 6.8002002 | D8: 352.7971 | E8: 0.036739
A9: SOFR | B9: 23.29223 | C9: 20.001397 | D9: 1037.6805 | E9: 0.108059
A10: SONIA | B10: 1.0243712 | C10: 0.87964334 | D10: 45.636248 | E10: 0.004752
A11: TORF | B11: 0.19161684 | C11: 0.16454433 | D11: 8.5366258 | E11: 0.000889
